BEGIN:VCALENDAR
VERSION:2.0
PRODID:-//TilburgWijzer - ECPv6.15.20//NONSGML v1.0//EN
CALSCALE:GREGORIAN
METHOD:PUBLISH
X-WR-CALNAME:TilburgWijzer
X-ORIGINAL-URL:https://tilburgwijzer.nl
X-WR-CALDESC:Evenementen voor TilburgWijzer
REFRESH-INTERVAL;VALUE=DURATION:PT1H
X-Robots-Tag:noindex
X-PUBLISHED-TTL:PT1H
BEGIN:VTIMEZONE
TZID:Europe/Amsterdam
BEGIN:DAYLIGHT
TZOFFSETFROM:+0100
TZOFFSETTO:+0200
TZNAME:CEST
DTSTART:20250330T010000
END:DAYLIGHT
BEGIN:STANDARD
TZOFFSETFROM:+0200
TZOFFSETTO:+0100
TZNAME:CET
DTSTART:20251026T010000
END:STANDARD
BEGIN:DAYLIGHT
TZOFFSETFROM:+0100
TZOFFSETTO:+0200
TZNAME:CEST
DTSTART:20260329T010000
END:DAYLIGHT
BEGIN:STANDARD
TZOFFSETFROM:+0200
TZOFFSETTO:+0100
TZNAME:CET
DTSTART:20261025T010000
END:STANDARD
BEGIN:DAYLIGHT
TZOFFSETFROM:+0100
TZOFFSETTO:+0200
TZNAME:CEST
DTSTART:20270328T010000
END:DAYLIGHT
BEGIN:STANDARD
TZOFFSETFROM:+0200
TZOFFSETTO:+0100
TZNAME:CET
DTSTART:20271031T010000
END:STANDARD
END:VTIMEZONE
BEGIN:VEVENT
DTSTART;TZID=Europe/Amsterdam:20260321T110000
DTEND;TZID=Europe/Amsterdam:20260830T170000
DTSTAMP:20260424T162426
CREATED:20251226T194718Z
LAST-MODIFIED:20260302T121126Z
UID:164035-1774090800-1788109200@tilburgwijzer.nl
SUMMARY:Atlas - De Pont Museum
DESCRIPTION:Steve McQueen: een reis van het persoonlijke naar het kosmische in ATLAS\nVanaf 21 maart 2026 presenteert De Pont Museum in Tilburg ATLAS\, de eerste Nederlandse solotentoonstelling van de Britse kunstenaar en filmmaker Steve McQueen. Centraal staan het nieuwe werk Atlas (2026)\, speciaal gemaakt voor de tentoonstelling\, en de recente aanwinst Sunshine State (2022). Samen met het geluidswerk Untitled (2025) en de fotoserie Bounty (2024) vormen deze werken een krachtig ensemble waarin McQueen de grenzen van ruimte\, geheugen en verbeelding verkent. \nBeeldmaker én denker\nMet ATLAS laat De Pont Museum McQueen zien op het hoogtepunt van zijn kunnen: scherp in observatie en diep menselijk in resonantie. De vier werken ontvouwen zich als een reis van het persoonlijke naar het kosmische\, van het intieme naar het collectieve\, van lichamelijke aanwezigheid naar de onmetelijkheid van het heelal. McQueen wordt getoond als beeldmaker én denker\, iemand die kunst\, film en werkelijkheid voortdurend met elkaar verbindt. \nVier werken\, vier perspectieven\nSunshine State (2022) verweeft herinnering\, filmhistorie en persoonlijke familiegeschiedenis. Het werk vertelt het verhaal van McQueens vader\, die in de jaren vijftig van Grenada naar Florida emigreerde. Fragmenten uit The Jazz Singer (1927) worden bewerkt en gecombineerd met close-ups van de zon\, waardoor zwart en wit letterlijk van plaats wisselen. \nDe fotoserie Bounty (2024) toont bloemen en planten op Grenada in verschillende stadia van bloei en verval\, met reflecties op koloniale geschiedenis\, toe-eigening en veerkracht. Het nieuwe werk Atlas (2026) opent een kosmisch perspectief: astronomische data van de ESA-missie Gaia worden vertaald door autonome algoritmes tot een hypnotiserende visuele ervaring die wetenschap en poëzie samenbrengt. \nOver Steve McQueen\nSteve McQueen (Londen\, 1969) behoort tot de meest invloedrijke kunstenaars en filmmakers van zijn generatie. Zijn werk – van radicale videowerken tot met Oscars bekroonde films zoals 12 Years a Slave – onderzoekt macht\, onrecht\, herinnering en lichamelijke kwetsbaarheid. Met een uitzonderlijk gevoel voor ritme en vorm laat McQueen zien hoe persoonlijke verhalen en historische structuren met elkaar verweven zijn.
URL:https://tilburgwijzer.nl/evenement/atlas-de-pont-museum/
CATEGORIES:Kunst & Cultuur,Kunstexposities,Tentoonstelling & exposities
ATTACH;FMTTYPE=image/jpeg:https://tilburgwijzer.nl/wp-content/uploads/2025/12/20251226_Web_Atlas-Museum-De-Pont_event_clean.jpg
END:VEVENT
END:VCALENDAR