BEGIN:VCALENDAR
VERSION:2.0
PRODID:-//TilburgWijzer - ECPv6.15.20//NONSGML v1.0//EN
CALSCALE:GREGORIAN
METHOD:PUBLISH
X-WR-CALNAME:TilburgWijzer
X-ORIGINAL-URL:https://tilburgwijzer.nl
X-WR-CALDESC:Evenementen voor TilburgWijzer
REFRESH-INTERVAL;VALUE=DURATION:PT1H
X-Robots-Tag:noindex
X-PUBLISHED-TTL:PT1H
BEGIN:VTIMEZONE
TZID:Europe/Amsterdam
BEGIN:DAYLIGHT
TZOFFSETFROM:+0100
TZOFFSETTO:+0200
TZNAME:CEST
DTSTART:20260329T010000
END:DAYLIGHT
BEGIN:STANDARD
TZOFFSETFROM:+0200
TZOFFSETTO:+0100
TZNAME:CET
DTSTART:20261025T010000
END:STANDARD
BEGIN:DAYLIGHT
TZOFFSETFROM:+0100
TZOFFSETTO:+0200
TZNAME:CEST
DTSTART:20270328T010000
END:DAYLIGHT
BEGIN:STANDARD
TZOFFSETFROM:+0200
TZOFFSETTO:+0100
TZNAME:CET
DTSTART:20271031T010000
END:STANDARD
BEGIN:DAYLIGHT
TZOFFSETFROM:+0100
TZOFFSETTO:+0200
TZNAME:CEST
DTSTART:20280326T010000
END:DAYLIGHT
BEGIN:STANDARD
TZOFFSETFROM:+0200
TZOFFSETTO:+0100
TZNAME:CET
DTSTART:20281029T010000
END:STANDARD
END:VTIMEZONE
BEGIN:VEVENT
DTSTART;TZID=Europe/Amsterdam:20270208T140000
DTEND;TZID=Europe/Amsterdam:20270208T180000
DTSTAMP:20260424T211122
CREATED:20250224T193241Z
LAST-MODIFIED:20260219T091013Z
UID:81731-1802095200-1802109600@tilburgwijzer.nl
SUMMARY:Boerenbruiloft - d’n Haozenpot - 2027
DESCRIPTION:Boerenbruiloft in d’n Haozenpot: een bijzondere viering\nOp maandag 8 februari 2027 vindt er een bijzondere gebeurtenis plaats in d’n Haozenpot. Het Comité Boerenbruiloft kondigt met trots een voorgenomen huwelijk aan. Deze traditionele bruiloft belooft een feestelijke en unieke ervaring te worden. \nHet huwelijk in het oude raadhuis\nDe huwelijksceremonie vindt plaats om 14.00 uur in het oude raadhuis van d’n Haozenpot. Dit historische gebouw biedt een prachtige setting voor dit traditionele feest. De bruiloft staat bekend om zijn sfeervolle karakter en knipoog naar oude carnavaleske tradities. \nFeestelijke aankomst en kledingvoorschrift\nGasten worden uitgenodigd om zich om 13.45 uur te verzamelen bij Hotel Wilshof. Van daaruit vertrekt het gezelschap gezamenlijk naar het oude raadhuis. Om de sfeer compleet te maken\, wordt iedereen verzocht om in een boerenkostuum of black-tie te verschijnen. Dit draagt bij aan de authentieke uitstraling van de boerenbruiloft. \nReceptie in café ’t Centrum\nNa de huwelijksvoltrekking volgt een feestelijke receptie in café ’t Centrum. Hier kunnen gasten samen proosten op het kersverse bruidspaar en genieten van een gezellige middag vol muziek en plezier. Deze receptie is een mooie gelegenheid om de tradities van de boerenbruiloft te beleven. \nBeleef de traditie van de boerenbruiloft\nDe boerenbruiloft is een geliefd onderdeel van de carnavalsvieringen in d’n Haozenpot. Dit unieke evenement brengt mensen samen en houdt een eeuwenoude traditie in ere. Mis deze bijzondere dag niet en vier mee op 8 februari 2027!
URL:https://tilburgwijzer.nl/evenement/boerenbruiloft-dn-haozenpot/
CATEGORIES:Carnaval,Carnavalsmuziek,Kunst & Cultuur,Muziek
ATTACH;FMTTYPE=image/jpeg:https://tilburgwijzer.nl/wp-content/uploads/2025/02/20250224_Web_Boerenbruiloft-dn-Haozenpot_event_clean.jpg
END:VEVENT
END:VCALENDAR