BEGIN:VCALENDAR
VERSION:2.0
PRODID:-//TilburgWijzer - ECPv6.15.20//NONSGML v1.0//EN
CALSCALE:GREGORIAN
METHOD:PUBLISH
X-WR-CALNAME:TilburgWijzer
X-ORIGINAL-URL:https://tilburgwijzer.nl
X-WR-CALDESC:Evenementen voor TilburgWijzer
REFRESH-INTERVAL;VALUE=DURATION:PT1H
X-Robots-Tag:noindex
X-PUBLISHED-TTL:PT1H
BEGIN:VTIMEZONE
TZID:Europe/Amsterdam
BEGIN:DAYLIGHT
TZOFFSETFROM:+0100
TZOFFSETTO:+0200
TZNAME:CEST
DTSTART:20250330T010000
END:DAYLIGHT
BEGIN:STANDARD
TZOFFSETFROM:+0200
TZOFFSETTO:+0100
TZNAME:CET
DTSTART:20251026T010000
END:STANDARD
BEGIN:DAYLIGHT
TZOFFSETFROM:+0100
TZOFFSETTO:+0200
TZNAME:CEST
DTSTART:20260329T010000
END:DAYLIGHT
BEGIN:STANDARD
TZOFFSETFROM:+0200
TZOFFSETTO:+0100
TZNAME:CET
DTSTART:20261025T010000
END:STANDARD
BEGIN:DAYLIGHT
TZOFFSETFROM:+0100
TZOFFSETTO:+0200
TZNAME:CEST
DTSTART:20270328T010000
END:DAYLIGHT
BEGIN:STANDARD
TZOFFSETFROM:+0200
TZOFFSETTO:+0100
TZNAME:CET
DTSTART:20271031T010000
END:STANDARD
END:VTIMEZONE
BEGIN:VEVENT
DTSTART;TZID=Europe/Amsterdam:20260923T193000
DTEND;TZID=Europe/Amsterdam:20260923T225500
DTSTAMP:20260424T201349
CREATED:20260210T145815Z
LAST-MODIFIED:20260423T194502Z
UID:170027-1790191800-1790204100@tilburgwijzer.nl
SUMMARY:CCC inc. – PaRaDoX – 23 september 2026
DESCRIPTION:CCC Inc.: levende legende van de Nederlandse americana\nCCC Inc. is de oudste americana-band van Nederland en heeft de afgelopen vijftig jaar geschiedenis geschreven. Van mei ’68 tot aan COVID-19 hebben ze alles meegemaakt\, van intieme jeugdhonken tot grote podia en festivals. Van het popfestival in Kralingen in 1970 en Pinkpop in 1971 tot Pinkpop Classic in 2013 en het zomerpopfestival in Meerlo in 2024\, de band heeft alle hoogtepunten van de Nederlandse popgeschiedenis beleefd. Hun muziek is in die jaren alleen maar rijker en krachtiger geworden. \nMuzikale carrières en impact\nNaast hun werk met CCC Inc. hebben de bandleden een belangrijke rol gespeeld in de Nederlandse muziekwereld. Ze waren betrokken bij Paradiso en het Nationaal Pop Instituut en waren medeoprichters van Doe Maar\, een van de grootste popfenomenen van Nederland. Hun ervaring en passie voor muziek hebben ze altijd meegenomen in hun optredens\, waardoor elk concert een unieke beleving is\, doordrenkt met vakmanschap en jarenlange knowhow. \nOptreden in Tilburg\nOp 23 September staat CCC Inc. op het podium van Paradox in het centrum van Tilburg. Hier brengen de zes leden hun muziek tot leven met dezelfde energie en tegendraadse instelling als in hun jonge jaren. Hoewel de radio nooit een noot van de band draaide\, hebben ze altijd trouwe fans en uitverkochte zalen getrokken. Elk optreden is spannend en sensationeel\, waarbij het publiek telkens weer verrast wordt door de kwaliteit en veelzijdigheid van de band. \nBezetting van de band\nCCC Inc. bestaat uit Joost Belinfante (viool\, mondharmonica\, gitaar\, zang)\, Jaap van Beusekom (banjo\, dobro\, autoharp\, zang)\, Ernst Jansz (piano\, wasbord\, gitaar\, zang)\, Huib Schreurs (mondharmonica\, concertina\, zang)\, Jan Hendriks (gitaar\, zang) en Richard Wallenburg (basgitaar\, zang). Samen zorgen zij voor een onvergetelijke avond vol americana en nostalgie\, een feest voor liefhebbers van echte live muziek.
URL:https://tilburgwijzer.nl/evenement/ccc-inc-paradox/
CATEGORIES:Americana,Blues,Muziek
ATTACH;FMTTYPE=image/jpeg:https://tilburgwijzer.nl/wp-content/uploads/2026/02/20260210_Web_CCC-inc.-PaRaDoX_event_clean.jpg
END:VEVENT
END:VCALENDAR