BEGIN:VCALENDAR
VERSION:2.0
PRODID:-//TilburgWijzer - ECPv6.15.20//NONSGML v1.0//EN
CALSCALE:GREGORIAN
METHOD:PUBLISH
X-WR-CALNAME:TilburgWijzer
X-ORIGINAL-URL:https://tilburgwijzer.nl
X-WR-CALDESC:Evenementen voor TilburgWijzer
REFRESH-INTERVAL;VALUE=DURATION:PT1H
X-Robots-Tag:noindex
X-PUBLISHED-TTL:PT1H
BEGIN:VTIMEZONE
TZID:Europe/Amsterdam
BEGIN:DAYLIGHT
TZOFFSETFROM:+0100
TZOFFSETTO:+0200
TZNAME:CEST
DTSTART:20250330T010000
END:DAYLIGHT
BEGIN:STANDARD
TZOFFSETFROM:+0200
TZOFFSETTO:+0100
TZNAME:CET
DTSTART:20251026T010000
END:STANDARD
BEGIN:DAYLIGHT
TZOFFSETFROM:+0100
TZOFFSETTO:+0200
TZNAME:CEST
DTSTART:20260329T010000
END:DAYLIGHT
BEGIN:STANDARD
TZOFFSETFROM:+0200
TZOFFSETTO:+0100
TZNAME:CET
DTSTART:20261025T010000
END:STANDARD
BEGIN:DAYLIGHT
TZOFFSETFROM:+0100
TZOFFSETTO:+0200
TZNAME:CEST
DTSTART:20270328T010000
END:DAYLIGHT
BEGIN:STANDARD
TZOFFSETFROM:+0200
TZOFFSETTO:+0100
TZNAME:CET
DTSTART:20271031T010000
END:STANDARD
END:VTIMEZONE
BEGIN:VEVENT
DTSTART;TZID=Europe/Amsterdam:20260609T190000
DTEND;TZID=Europe/Amsterdam:20260609T215500
DTSTAMP:20260424T234628
CREATED:20251230T110449Z
LAST-MODIFIED:20260212T083901Z
UID:164774-1781031600-1781042100@tilburgwijzer.nl
SUMMARY:Centrumwandeling - Stadsgidserij Tilburg - Juni 2026
DESCRIPTION:Ontdek Tilburg met de centrumwandeling\nDe centrumwandeling van Stadsgidserij Tilburg is een populaire activiteit voor bezoekers van buiten de stad\, maar ook echte Tilburgers ontdekken er vaak verrassende kanten van hun eigen stad. Tijdens deze wandeling valt op hoeveel moois en bijzonders er te zien is\, vaak op plekken waar men al tientallen keren aan voorbij is gelopen zonder het op te merken. \nVerrassende weetjes en anekdotes\nEen ervaren stadsgids leidt de wandeling en deelt onderweg leuke anekdotes en interessante wetenswaardigheden over Tilburg. Zo krijgt u niet alleen een visuele indruk van de stad\, maar ook een achtergrondverhaal dat Tilburg tot leven brengt. Na afloop van de centrumwandeling voelt u zich geen vreemdeling meer in uw eigen stad en ziet u de straten en pleinen met andere ogen. \nStartpunt: standbeeld Willem II\nHet vertrekpunt van de wandeling is traditioneel het standbeeld van Willem II op De Heuvel. Met zijn uitgestoken hand wijst ‘onze’ koning al jarenlang de weg naar het hart van Tilburg en al het moois dat de binnenstad te bieden heeft. Het standbeeld vormt een herkenbaar startpunt voor zowel lokale bewoners als bezoekers en symboliseert de rijke geschiedenis en levendige sfeer van de stad. \nEen aanrader voor iedereen\nOf u nu voor het eerst Tilburg bezoekt of al jarenlang in de stad woont\, de centrumwandeling van Stadsgidserij Tilburg biedt altijd nieuwe inzichten en verrassingen. Het is een ideale manier om de stad te verkennen\, interessante verhalen te horen en verborgen plekken te ontdekken. Beleef Tilburg zoals u het nog nooit eerder zag en laat u verrassen door alles wat de binnenstad te bieden heeft tijdens deze bijzondere wandeling.
URL:https://tilburgwijzer.nl/evenement/centrumwandeling-stadsgidserij-tilburg-juni-2026/
CATEGORIES:Kunst & Cultuur,Wandelingen
ATTACH;FMTTYPE=image/jpeg:https://tilburgwijzer.nl/wp-content/uploads/2025/12/20220823_Web_Stadsgidserij-Tilburg_event_clean.jpg
END:VEVENT
END:VCALENDAR