BEGIN:VCALENDAR
VERSION:2.0
PRODID:-//TilburgWijzer - ECPv6.15.20//NONSGML v1.0//EN
CALSCALE:GREGORIAN
METHOD:PUBLISH
X-WR-CALNAME:TilburgWijzer
X-ORIGINAL-URL:https://tilburgwijzer.nl
X-WR-CALDESC:Evenementen voor TilburgWijzer
REFRESH-INTERVAL;VALUE=DURATION:PT1H
X-Robots-Tag:noindex
X-PUBLISHED-TTL:PT1H
BEGIN:VTIMEZONE
TZID:Europe/Amsterdam
BEGIN:DAYLIGHT
TZOFFSETFROM:+0100
TZOFFSETTO:+0200
TZNAME:CEST
DTSTART:20250330T010000
END:DAYLIGHT
BEGIN:STANDARD
TZOFFSETFROM:+0200
TZOFFSETTO:+0100
TZNAME:CET
DTSTART:20251026T010000
END:STANDARD
BEGIN:DAYLIGHT
TZOFFSETFROM:+0100
TZOFFSETTO:+0200
TZNAME:CEST
DTSTART:20260329T010000
END:DAYLIGHT
BEGIN:STANDARD
TZOFFSETFROM:+0200
TZOFFSETTO:+0100
TZNAME:CET
DTSTART:20261025T010000
END:STANDARD
BEGIN:DAYLIGHT
TZOFFSETFROM:+0100
TZOFFSETTO:+0200
TZNAME:CEST
DTSTART:20270328T010000
END:DAYLIGHT
BEGIN:STANDARD
TZOFFSETFROM:+0200
TZOFFSETTO:+0100
TZNAME:CET
DTSTART:20271031T010000
END:STANDARD
END:VTIMEZONE
BEGIN:VEVENT
DTSTART;TZID=Europe/Amsterdam:20261013T080000
DTEND;TZID=Europe/Amsterdam:20261018T235900
DTSTAMP:20260425T015527
CREATED:20240426T145528Z
LAST-MODIFIED:20260311T111849Z
UID:4959-1791878400-1792367940@tilburgwijzer.nl
SUMMARY:013 CIFF 2026
DESCRIPTION:Het 013 Cinecitta International Film Festival (Cliff) in Tilburg: Een uniek cinematografisch spektakel\n\n\n\n\nFilmhuis Cinecitta verwelkomt opnieuw het 013 Cinecitta International Film Festival (Cliff)\, een evenement dat de filmwereld op zijn kop zet. Dit jaar belooft weer een onvergetelijke ervaring te worden. Ontdek hieronder wat u kunt verwachten.\n\n\n\n\nInternationale pareltjes op het witte doek\n\n\n\n\nHet 013 CIFF brengt een exclusieve selectie van films uit diverse landen naar het Nederlandse filmlandschap. Vele van deze films hebben nog nooit eerder het licht gezien in Nederland of zelfs de gehele Benelux. Dit maakt het festival een unieke kans om internationale cinema te ontdekken.\n\n\n\n\nInteractie met meesterlijke filmmakers\n\n\n\n\nNiet alleen films schitteren tijdens dit festival\, maar ook de meesters achter de camera. Internationale filmmakers zullen aanwezig zijn om na de vertoning van hun werk in gesprek te gaan met de festivalbezoekers. Leer meer over het creatieve maakproces en krijg inzicht in de kunst van het film maken.\n\n\n\n\nOntspannen napraten in Ristobar29\n\n\n\n\nNa een boeiende filmvoorstelling kunt u in een ontspannen sfeer napraten in onze Ristobar29. Geniet van een heerlijk hapje en drankje terwijl u de film met medebezoekers bespreekt. De perfecte gelegenheid om indrukken te delen en nieuwe filmvrienden te maken.\n\n\n\n\nCinecitta: Al 100 jaar kwaliteitsfilms\n\n\n\n\nCinecitta heeft al meer dan een eeuw bewezen een toonaangevende speler te zijn in de wereld van kwaliteitsfilms. De rijke geschiedenis en het voortdurende streven naar uitmuntendheid maken Cinecitta de ideale locatie voor dit filmfestival.\n\n\n\n\nBereikbaarheid in het hart van Tilburg\n\n\n\n\nDankzij de centrale ligging in het hart van Tilburg en de nabijheid van het centraal station is Cinecitta gemakkelijk te bereiken. Of u nu uit de stad zelf komt of van elders\, we heten u van harte welkom.*\n\n\n\n\nOntdek het filmprogramma\n\n\n\n\n\n\nKortom\, het 013 Cinecitta International Film Festival in Tilburg is dé plek waar filmliefhebbers samenkomen voor een unieke ervaring vol internationale cinema en boeiende gesprekken met filmmakers. Mis deze kans niet en voeg dit evenement toe aan uw agenda. We kijken ernaar uit om u te verwelkomen in de magische wereld van film bij Cinecitta!
URL:https://tilburgwijzer.nl/evenement/cinecitta-international-film-festival/
CATEGORIES:Filmfestivals,Kunst & Cultuur
ATTACH;FMTTYPE=image/jpeg:https://tilburgwijzer.nl/wp-content/uploads/2025/03/20221026_Web_013-Cinecitta-International-Film-Festival-Cliff-2022_event_clean.jpg
END:VEVENT
END:VCALENDAR