BEGIN:VCALENDAR
VERSION:2.0
PRODID:-//TilburgWijzer - ECPv6.15.20//NONSGML v1.0//EN
CALSCALE:GREGORIAN
METHOD:PUBLISH
X-WR-CALNAME:TilburgWijzer
X-ORIGINAL-URL:https://tilburgwijzer.nl
X-WR-CALDESC:Evenementen voor TilburgWijzer
REFRESH-INTERVAL;VALUE=DURATION:PT1H
X-Robots-Tag:noindex
X-PUBLISHED-TTL:PT1H
BEGIN:VTIMEZONE
TZID:Europe/Amsterdam
BEGIN:DAYLIGHT
TZOFFSETFROM:+0100
TZOFFSETTO:+0200
TZNAME:CEST
DTSTART:20250330T010000
END:DAYLIGHT
BEGIN:STANDARD
TZOFFSETFROM:+0200
TZOFFSETTO:+0100
TZNAME:CET
DTSTART:20251026T010000
END:STANDARD
BEGIN:DAYLIGHT
TZOFFSETFROM:+0100
TZOFFSETTO:+0200
TZNAME:CEST
DTSTART:20260329T010000
END:DAYLIGHT
BEGIN:STANDARD
TZOFFSETFROM:+0200
TZOFFSETTO:+0100
TZNAME:CET
DTSTART:20261025T010000
END:STANDARD
BEGIN:DAYLIGHT
TZOFFSETFROM:+0100
TZOFFSETTO:+0200
TZNAME:CEST
DTSTART:20270328T010000
END:DAYLIGHT
BEGIN:STANDARD
TZOFFSETFROM:+0200
TZOFFSETTO:+0100
TZNAME:CET
DTSTART:20271031T010000
END:STANDARD
END:VTIMEZONE
BEGIN:VEVENT
DTSTART;TZID=Europe/Amsterdam:20260924T201500
DTEND;TZID=Europe/Amsterdam:20260924T215500
DTSTAMP:20260424T232634
CREATED:20250429T065430Z
LAST-MODIFIED:20260330T123256Z
UID:95519-1790280900-1790286900@tilburgwijzer.nl
SUMMARY:Cursus Frans beginners 1.2 (A1) - Bibliotheek 't Sant
DESCRIPTION:Cursus Frans beginners (A1) in Tilburg\nBen jij geïnteresseerd in de Franse taal en cultuur en wil je beter Frans leren spreken? Bij de Bibliotheek ’t Sant in het Zand in Tilburg kun je deelnemen aan de Frans beginners (A1) cursus. Deze cursus is ideaal voor wie zich comfortabeler wil voelen in het Frans\, bijvoorbeeld voor vakanties in Frankrijk. \nCommunicatief leren met Voyages\nDe cursus maakt gebruik van de communicatieve methode Voyages\, geschikt voor volwassenen met of zonder voorkennis van het Frans. Tijdens de lessen ligt de nadruk op spreken\, maar ook luisteren\, lezen en schrijven komen uitgebreid aan bod. Daarnaast worden grammatica en vocabulaire behandeld. De cursus werkt met afwisselend en actueel materiaal en geeft bovendien een mooie blik op de Franse cultuur. Om de cursus goed te volgen\, is het aan te raden 1\,5 à 2 uur huiswerk per week te maken. \nOver de docent\nDe cursus wordt gegeven door Lars Janssen\, die opgroeide in Frankrijk\, onder andere in Parijs. Dankzij zijn ruime ervaring en kennis van de Franse taal en cultuur\, weet hij op een plezierige en effectieve manier les te geven. \nVolg de cursus bij de Bibliotheek ’t Sant en ontdek hoe leuk en leerzaam het is om Frans te leren!
URL:https://tilburgwijzer.nl/evenement/cursus-frans-beginners-1-2-a1-bibliotheek-t-sant/
CATEGORIES:Cursussen & Workshops,Taalcursussen
ATTACH;FMTTYPE=image/jpeg:https://tilburgwijzer.nl/wp-content/uploads/2025/03/20241009_Web_Cursus-Frans-Bibliotheek-Lochal_event_clean.jpg
END:VEVENT
END:VCALENDAR