BEGIN:VCALENDAR
VERSION:2.0
PRODID:-//TilburgWijzer - ECPv6.15.20//NONSGML v1.0//EN
CALSCALE:GREGORIAN
METHOD:PUBLISH
X-WR-CALNAME:TilburgWijzer
X-ORIGINAL-URL:https://tilburgwijzer.nl
X-WR-CALDESC:Evenementen voor TilburgWijzer
REFRESH-INTERVAL;VALUE=DURATION:PT1H
X-Robots-Tag:noindex
X-PUBLISHED-TTL:PT1H
BEGIN:VTIMEZONE
TZID:Europe/Amsterdam
BEGIN:DAYLIGHT
TZOFFSETFROM:+0100
TZOFFSETTO:+0200
TZNAME:CEST
DTSTART:20250330T010000
END:DAYLIGHT
BEGIN:STANDARD
TZOFFSETFROM:+0200
TZOFFSETTO:+0100
TZNAME:CET
DTSTART:20251026T010000
END:STANDARD
BEGIN:DAYLIGHT
TZOFFSETFROM:+0100
TZOFFSETTO:+0200
TZNAME:CEST
DTSTART:20260329T010000
END:DAYLIGHT
BEGIN:STANDARD
TZOFFSETFROM:+0200
TZOFFSETTO:+0100
TZNAME:CET
DTSTART:20261025T010000
END:STANDARD
BEGIN:DAYLIGHT
TZOFFSETFROM:+0100
TZOFFSETTO:+0200
TZNAME:CEST
DTSTART:20270328T010000
END:DAYLIGHT
BEGIN:STANDARD
TZOFFSETFROM:+0200
TZOFFSETTO:+0100
TZNAME:CET
DTSTART:20271031T010000
END:STANDARD
END:VTIMEZONE
BEGIN:VEVENT
DTSTART;TZID=Europe/Amsterdam:20260503T120000
DTEND;TZID=Europe/Amsterdam:20260503T235500
DTSTAMP:20260425T031153
CREATED:20260324T151642Z
LAST-MODIFIED:20260423T195156Z
UID:175032-1777809600-1777852500@tilburgwijzer.nl
SUMMARY:Dappere Tilburgers in Oorlogstijd - Stadstheater De Boemel - 3 Mei 2026
DESCRIPTION:Dappere Tilburgers in oorlogstijd\nBij Stadstheater De Boemel in Tilburg kun je de indrukwekkende muziektheatershow Dappere Tilburgers in Oorlogstijd beleven. Deze voorstelling plaatst je midden in het Tilburg van de oorlogsjaren\, waarin moed en verraad elkaar kruisen en elke keuze van levensbelang is. \nEen meeslepende reis door het oorlogsverleden\nTijdens de show kom je oog in oog te staan met de beruchte NSB’er Piet Gerrits\, die angst zaaide in de stad\, terwijl dappere Tilburgers hun leven riskeerden om zich te verzetten. Namen als Leonie van Harssel\, Antonette Wouters en Coba Pulskens krijgen een gezicht en vertellen verhalen die je niet snel vergeet. Bezoekers ervaren spanning\, gevaar en heldhaftigheid van dichtbij\, waardoor de geschiedenis voelbaar en tastbaar wordt. \nBeleving door beeld\, muziek en emotie\nDeze ultra-moderne muziektheatershow combineert kleinkunst\, film\, visual art en musical tot een totaalervaring. Meesterverteller Gerard Korthout gidst je door verhalen over verzetsactiviteiten\, onderduikers\, bombardementen en de bevrijding. De mix van live muziek\, visuals en theater maakt het verleden intens beleefbaar en roept emoties op die nog lang bijblijven. \nIndrukwekkend\, spannend en onvergetelijk\nDappere Tilburgers in Oorlogstijd is meer dan een voorstelling; het is een ervaring die de geschiedenis tot leven brengt. Het verhaal laat zien hoe gewone burgers buitengewone moed kunnen tonen en hoe keuzes tussen goed en kwaad het leven van velen bepaalden. \nStap binnen in deze meeslepende wereld en ontdek de helden\, verraders en gebeurtenissen die Tilburg hebben gevormd. Mis deze unieke beleving bij Stadstheater De Boemel in Tilburg niet.
URL:https://tilburgwijzer.nl/evenement/dappere-tilburgers-in-oorlogstijd-stadstheater-de-boemel-3-mei-2026/
CATEGORIES:Musical & Muziektheater,Muziek
ATTACH;FMTTYPE=image/jpeg:https://tilburgwijzer.nl/wp-content/uploads/2025/01/20221215_Web_Stadstheater-De-Boemel_clean.jpg
END:VEVENT
END:VCALENDAR