BEGIN:VCALENDAR
VERSION:2.0
PRODID:-//TilburgWijzer - ECPv6.15.20//NONSGML v1.0//EN
CALSCALE:GREGORIAN
METHOD:PUBLISH
X-WR-CALNAME:TilburgWijzer
X-ORIGINAL-URL:https://tilburgwijzer.nl
X-WR-CALDESC:Evenementen voor TilburgWijzer
REFRESH-INTERVAL;VALUE=DURATION:PT1H
X-Robots-Tag:noindex
X-PUBLISHED-TTL:PT1H
BEGIN:VTIMEZONE
TZID:Europe/Amsterdam
BEGIN:DAYLIGHT
TZOFFSETFROM:+0100
TZOFFSETTO:+0200
TZNAME:CEST
DTSTART:20250330T010000
END:DAYLIGHT
BEGIN:STANDARD
TZOFFSETFROM:+0200
TZOFFSETTO:+0100
TZNAME:CET
DTSTART:20251026T010000
END:STANDARD
BEGIN:DAYLIGHT
TZOFFSETFROM:+0100
TZOFFSETTO:+0200
TZNAME:CEST
DTSTART:20260329T010000
END:DAYLIGHT
BEGIN:STANDARD
TZOFFSETFROM:+0200
TZOFFSETTO:+0100
TZNAME:CET
DTSTART:20261025T010000
END:STANDARD
BEGIN:DAYLIGHT
TZOFFSETFROM:+0100
TZOFFSETTO:+0200
TZNAME:CEST
DTSTART:20270328T010000
END:DAYLIGHT
BEGIN:STANDARD
TZOFFSETFROM:+0200
TZOFFSETTO:+0100
TZNAME:CET
DTSTART:20271031T010000
END:STANDARD
END:VTIMEZONE
BEGIN:VEVENT
DTSTART;TZID=Europe/Amsterdam:20260505T200000
DTEND;TZID=Europe/Amsterdam:20260505T235500
DTSTAMP:20260425T030956
CREATED:20260324T151641Z
LAST-MODIFIED:20260423T195156Z
UID:175030-1778011200-1778025300@tilburgwijzer.nl
SUMMARY:Dappere Tilburgers in Oorlogstijd - Stadstheater De Boemel - 5 Mei 2026
DESCRIPTION:Dappere Tilburgers in oorlogstijd\nBij Stadstheater De Boemel in Tilburg beleef je Dappere Tilburgers in Oorlogstijd\, een meeslepende muziektheatershow die je midden in de oorlogsjaren plaatst. Deze voorstelling laat zien wat er gebeurt als moed en verraad elkaar kruisen en dompelt je onder in spanning\, angst en heldhaftigheid. \nEen indringend verhaal vol keuzes en moed\nDe show vertelt hoe de beruchte NSB’er Piet Gerrits angst zaaide in Tilburg\, terwijl dappere inwoners hun leven riskeerden om verzetsdaden te verrichten en onderduikers te beschermen. Figuren als Leonie van Harssel\, Antonette Wouters en Coba Pulskens krijgen een gezicht in een verhaal dat je niet loslaat. Het is een verhaal over helden\, verraders en alles daartussenin\, waarin elke beslissing van levensbelang is. \nAudiovisuele totaalervaring\nDeze ultra-moderne muziektheatershow combineert kleinkunst\, film\, visual art en musical tot een indrukwekkende\, audiovisuele ervaring. Door de combinatie van beeld\, muziek en emotie stap je als bezoeker letterlijk in het verleden en voel je de spanning van de oorlogsjaren. \nMeestervertelling en historische diepgang\nGerard Korthout gidst je door verzetsverhalen\, onderduikers\, bombardementen en de bevrijding. Zijn vertelkunst brengt het verhaal tot leven en laat zien hoe gewone Tilburgers buitengewone moed toonden in een tijd van gevaar en onzekerheid. \nSpannend\, indrukwekkend en onvergetelijk\nDappere Tilburgers in Oorlogstijd is geen gewone voorstelling; het is een volledige beleving. Een unieke kans om de verhalen van moed en verzet in Tilburg te ontdekken en een diepe indruk mee naar huis te nemen. Beleef dit indrukwekkende stuk geschiedenis bij Stadstheater De Boemel in Tilburg.
URL:https://tilburgwijzer.nl/evenement/dappere-tilburgers-in-oorlogstijd-stadstheater-de-boemel-5-mei-2026/
CATEGORIES:Musical & Muziektheater,Muziek
ATTACH;FMTTYPE=image/jpeg:https://tilburgwijzer.nl/wp-content/uploads/2024/07/20210610_Web_Stadstheater-De-Boemel_clean.jpg
END:VEVENT
END:VCALENDAR