BEGIN:VCALENDAR
VERSION:2.0
PRODID:-//TilburgWijzer - ECPv6.15.20//NONSGML v1.0//EN
CALSCALE:GREGORIAN
METHOD:PUBLISH
X-WR-CALNAME:TilburgWijzer
X-ORIGINAL-URL:https://tilburgwijzer.nl
X-WR-CALDESC:Evenementen voor TilburgWijzer
REFRESH-INTERVAL;VALUE=DURATION:PT1H
X-Robots-Tag:noindex
X-PUBLISHED-TTL:PT1H
BEGIN:VTIMEZONE
TZID:Europe/Amsterdam
BEGIN:DAYLIGHT
TZOFFSETFROM:+0100
TZOFFSETTO:+0200
TZNAME:CEST
DTSTART:20250330T010000
END:DAYLIGHT
BEGIN:STANDARD
TZOFFSETFROM:+0200
TZOFFSETTO:+0100
TZNAME:CET
DTSTART:20251026T010000
END:STANDARD
BEGIN:DAYLIGHT
TZOFFSETFROM:+0100
TZOFFSETTO:+0200
TZNAME:CEST
DTSTART:20260329T010000
END:DAYLIGHT
BEGIN:STANDARD
TZOFFSETFROM:+0200
TZOFFSETTO:+0100
TZNAME:CET
DTSTART:20261025T010000
END:STANDARD
BEGIN:DAYLIGHT
TZOFFSETFROM:+0100
TZOFFSETTO:+0200
TZNAME:CEST
DTSTART:20270328T010000
END:DAYLIGHT
BEGIN:STANDARD
TZOFFSETFROM:+0200
TZOFFSETTO:+0100
TZNAME:CET
DTSTART:20271031T010000
END:STANDARD
END:VTIMEZONE
BEGIN:VEVENT
DTSTART;TZID=Europe/Amsterdam:20260425T201500
DTEND;TZID=Europe/Amsterdam:20260425T221500
DTSTAMP:20260425T163027
CREATED:20260223T131343Z
LAST-MODIFIED:20260423T194718Z
UID:170867-1777148100-1777155300@tilburgwijzer.nl
SUMMARY:Thomas van Luyn - Schouwburg Concertzaal Tilburg - 6 april 2026
DESCRIPTION:We presenteren iets totaal nieuws\, maar hoe noem je het eigenlijk? Een voorstelling? Nee\, dat is het niet helemaal. Het is meer een ervaring\, een belevenis die je laat voelen hoe het is om ADHD te hebben. Het doel is niet om een traditioneel verhaal te vertellen\, maar om je onder te dompelen in de wereld van ADHD. Het wordt een intense\, korte ervaring die je niet snel zult vergeten. \nWat kun je verwachten?\nIn deze belevenis zul je niet alleen kijken\, maar ook voelen. Je maakt kennis met de hectiek\, de onrust en de uitdagingen die komen kijken bij het leven met ADHD. Het is geen standaard voorstelling\, maar een immersive experience waarin je zelf de gevolgen van ADHD ervaart. Het duurt niet langer dan een uur\, want anders zou het te veel kunnen zijn. We willen dat je de essentie voelt\, zonder dat het overweldigend wordt. \nADHD: Een label\nADHD is vaak een label\, en soms kan dat zowel positief als negatief zijn. Het is belangrijk om te begrijpen wat het betekent om met dit label te leven\, maar het is ook essentieel om de nuances te voelen. Deze belevenis is bedoeld om deze complexiteit te begrijpen en misschien zelfs te doorbreken. We praten niet alleen over ADHD\, maar we maken het ook voelbaar. \nWetenschap en beleving\nHet is niet alleen maar een ervaring; we hebben ook een wetenschappelijke component toegevoegd. Er zal een neuroloog of iemand met kennis van ADHD aanwezig zijn om de feiten en inzichten te delen. Zo combineren we gevoel en wetenschap om je een beter begrip van ADHD te geven. \nThomas van Luyn: Terug op het podium\nThomas van Luyn keert terug naar het theater\, maar dit keer met iets anders. Geen nieuwe voorstelling\, maar een “experivaganza” waarin je leert en voelt hoe het is om ADHD te hebben. Bereid je voor op een unieke ervaring.
URL:https://tilburgwijzer.nl/evenement/de-grote-adhd-experivaganza-schouwburg-schouwburg-concertzaal-tilburg-april-2026/
CATEGORIES:Cabaret & Comedy,Theater
ATTACH;FMTTYPE=image/jpeg:https://tilburgwijzer.nl/wp-content/uploads/2025/01/20240302_Web_De-Grote-ADHD-Experivaganza-Schouwburg-Concertzaal-Tilburg_clean.jpg
END:VEVENT
END:VCALENDAR