BEGIN:VCALENDAR
VERSION:2.0
PRODID:-//TilburgWijzer - ECPv6.15.20//NONSGML v1.0//EN
CALSCALE:GREGORIAN
METHOD:PUBLISH
X-WR-CALNAME:TilburgWijzer
X-ORIGINAL-URL:https://tilburgwijzer.nl
X-WR-CALDESC:Evenementen voor TilburgWijzer
REFRESH-INTERVAL;VALUE=DURATION:PT1H
X-Robots-Tag:noindex
X-PUBLISHED-TTL:PT1H
BEGIN:VTIMEZONE
TZID:Europe/Amsterdam
BEGIN:DAYLIGHT
TZOFFSETFROM:+0100
TZOFFSETTO:+0200
TZNAME:CEST
DTSTART:20250330T010000
END:DAYLIGHT
BEGIN:STANDARD
TZOFFSETFROM:+0200
TZOFFSETTO:+0100
TZNAME:CET
DTSTART:20251026T010000
END:STANDARD
BEGIN:DAYLIGHT
TZOFFSETFROM:+0100
TZOFFSETTO:+0200
TZNAME:CEST
DTSTART:20260329T010000
END:DAYLIGHT
BEGIN:STANDARD
TZOFFSETFROM:+0200
TZOFFSETTO:+0100
TZNAME:CET
DTSTART:20261025T010000
END:STANDARD
BEGIN:DAYLIGHT
TZOFFSETFROM:+0100
TZOFFSETTO:+0200
TZNAME:CEST
DTSTART:20270328T010000
END:DAYLIGHT
BEGIN:STANDARD
TZOFFSETFROM:+0200
TZOFFSETTO:+0100
TZNAME:CET
DTSTART:20271031T010000
END:STANDARD
END:VTIMEZONE
BEGIN:VEVENT
DTSTART;TZID=Europe/Amsterdam:20261223T120000
DTEND;TZID=Europe/Amsterdam:20261223T160000
DTSTAMP:20260425T042811
CREATED:20260305T171011Z
LAST-MODIFIED:20260423T194914Z
UID:172104-1798027200-1798041600@tilburgwijzer.nl
SUMMARY:de Kerstparade - Winkelcentrum Westermarkt
DESCRIPTION:De Kerstparade op de Westermarkt in Tilburg\nBeleef de magie van de feestdagen tijdens De Kerstparade op Winkelcentrum Westermarkt in Tilburg. Het winkelcentrum verandert in een levende kerstkaart met een sfeervolle optocht vol lichtjes\, winterse figuren en vrolijke kerstkarakters die tussen het publiek door wandelen. \nSfeervolle optocht voor jong en oud\nOnder leiding van een statige Eland trekt de parade door het centrum en brengt een onvergetelijke kerstsfeer. Kinderen en volwassenen kunnen genieten van de kleurrijke kostuums\, sprankelende verlichting en vrolijke muziek terwijl ze langs de route kijken. \nHet ultieme kerstgevoel\nDe Kerstparade biedt een bijzondere ervaring voor het hele gezin en zorgt dat iedereen in de juiste feeststemming komt vlak voor de kerstvakantie. Het is de perfecte gelegenheid om een bezoek aan de winkels te combineren met een betoverende show vol winterse magie. \nMis deze betoverende parade niet en beleef het ultieme kerstgevoel op Winkelcentrum Westermarkt in Tilburg!
URL:https://tilburgwijzer.nl/evenement/de-kerstparade-winkelcentrum-westermarkt/
CATEGORIES:Kerst,Kunst & Cultuur
ATTACH;FMTTYPE=image/jpeg:https://tilburgwijzer.nl/wp-content/uploads/2026/03/20260305_Web_de-Kerstparade-Winkelcentrum-Westermarkt_event_clean.jpg
END:VEVENT
END:VCALENDAR