BEGIN:VCALENDAR
VERSION:2.0
PRODID:-//TilburgWijzer - ECPv6.15.20//NONSGML v1.0//EN
CALSCALE:GREGORIAN
METHOD:PUBLISH
X-WR-CALNAME:TilburgWijzer
X-ORIGINAL-URL:https://tilburgwijzer.nl
X-WR-CALDESC:Evenementen voor TilburgWijzer
REFRESH-INTERVAL;VALUE=DURATION:PT1H
X-Robots-Tag:noindex
X-PUBLISHED-TTL:PT1H
BEGIN:VTIMEZONE
TZID:Europe/Amsterdam
BEGIN:DAYLIGHT
TZOFFSETFROM:+0100
TZOFFSETTO:+0200
TZNAME:CEST
DTSTART:20250330T010000
END:DAYLIGHT
BEGIN:STANDARD
TZOFFSETFROM:+0200
TZOFFSETTO:+0100
TZNAME:CET
DTSTART:20251026T010000
END:STANDARD
BEGIN:DAYLIGHT
TZOFFSETFROM:+0100
TZOFFSETTO:+0200
TZNAME:CEST
DTSTART:20260329T010000
END:DAYLIGHT
BEGIN:STANDARD
TZOFFSETFROM:+0200
TZOFFSETTO:+0100
TZNAME:CET
DTSTART:20261025T010000
END:STANDARD
BEGIN:DAYLIGHT
TZOFFSETFROM:+0100
TZOFFSETTO:+0200
TZNAME:CEST
DTSTART:20270328T010000
END:DAYLIGHT
BEGIN:STANDARD
TZOFFSETFROM:+0200
TZOFFSETTO:+0100
TZNAME:CET
DTSTART:20271031T010000
END:STANDARD
END:VTIMEZONE
BEGIN:VEVENT
DTSTART;TZID=Europe/Amsterdam:20260806T190000
DTEND;TZID=Europe/Amsterdam:20260806T220000
DTSTAMP:20260425T145540
CREATED:20241220T190706Z
LAST-MODIFIED:20260331T123810Z
UID:63154-1786042800-1786053600@tilburgwijzer.nl
SUMMARY:Dies ist kein kino - Juli  - Nachtzuster Tilburg
DESCRIPTION:Elke eerste donderdag van de maand gebeurt er iets bijzonders in Tilburg. Maar voordat je plannen maakt: dit is geen filmavond. De naam zegt het al: Dies ist kein Kino. \nWat is Dies ist kein kino?\nGeen rode loper\, geen filmposters en geen popcorn. Dies ist kein Kino draait niet om kijken\, maar om ervaren. Het is een moment om de dagelijkse sleur achter je te laten\, zonder verwachtingen of verplichtingen. Verwacht geen film op een groot scherm\, geen verhaal dat je volgt. Dit is iets anders. \nWaarom zou je thuisblijven?\nWe zeggen het eerlijk: blijf thuis. Neem je vrienden niet mee en zet die datum in je agenda als een rustmoment. Er is niks te zien. Geen blockbuster\, geen arthouse. Dit is een ruimte waar niets moet en alles mag\, zolang je maar komt met het idee dat er geen script is. \nGratis toegang bij Nachtzuster Tilburg\nBen je toch nieuwsgierig? Dan weet je waar je moet zijn: Nachtzuster in Tilburg. De toegang is gratis. Maar let op\, dit is geen uitnodiging. Dit is geen event waar je naartoe moet. Dit is een anti-evenement\, een moment om de tijd stil te zetten. \nDus wat het ook is dat je zoekt\, of juist probeert te vermijden\, weet dat Dies ist kein Kino de deur opent naar… niets. Of alles. Het is precies wat jij ervan maakt\, zolang je maar niets verwacht. \nElke eerste donderdag van de maand. Gratis\, vrijblijvend\, en vooral: niets te zien hier.
URL:https://tilburgwijzer.nl/evenement/dies-ist-kein-kino-juli-nachtzuster-tilburg-2/
CATEGORIES:Performance,Theater
ATTACH;FMTTYPE=image/jpeg:https://tilburgwijzer.nl/wp-content/uploads/2025/03/20250319_Web_Dies-ist-kein-kino-Nachtzuster-Tilburg_event_clean.jpg
END:VEVENT
END:VCALENDAR