BEGIN:VCALENDAR
VERSION:2.0
PRODID:-//TilburgWijzer - ECPv6.15.20//NONSGML v1.0//EN
CALSCALE:GREGORIAN
METHOD:PUBLISH
X-WR-CALNAME:TilburgWijzer
X-ORIGINAL-URL:https://tilburgwijzer.nl
X-WR-CALDESC:Evenementen voor TilburgWijzer
REFRESH-INTERVAL;VALUE=DURATION:PT1H
X-Robots-Tag:noindex
X-PUBLISHED-TTL:PT1H
BEGIN:VTIMEZONE
TZID:Europe/Amsterdam
BEGIN:DAYLIGHT
TZOFFSETFROM:+0100
TZOFFSETTO:+0200
TZNAME:CEST
DTSTART:20250330T010000
END:DAYLIGHT
BEGIN:STANDARD
TZOFFSETFROM:+0200
TZOFFSETTO:+0100
TZNAME:CET
DTSTART:20251026T010000
END:STANDARD
BEGIN:DAYLIGHT
TZOFFSETFROM:+0100
TZOFFSETTO:+0200
TZNAME:CEST
DTSTART:20260329T010000
END:DAYLIGHT
BEGIN:STANDARD
TZOFFSETFROM:+0200
TZOFFSETTO:+0100
TZNAME:CET
DTSTART:20261025T010000
END:STANDARD
BEGIN:DAYLIGHT
TZOFFSETFROM:+0100
TZOFFSETTO:+0200
TZNAME:CEST
DTSTART:20270328T010000
END:DAYLIGHT
BEGIN:STANDARD
TZOFFSETFROM:+0200
TZOFFSETTO:+0100
TZNAME:CET
DTSTART:20271031T010000
END:STANDARD
END:VTIMEZONE
BEGIN:VEVENT
DTSTART;TZID=Europe/Amsterdam:20260428T133000
DTEND;TZID=Europe/Amsterdam:20260428T150000
DTSTAMP:20260425T062511
CREATED:20260408T084918Z
LAST-MODIFIED:20260423T195701Z
UID:178244-1777383000-1777388400@tilburgwijzer.nl
SUMMARY:Digispreekuur - Bibliotheek Udenhout - 28 april 2026
DESCRIPTION:Digispreekuur bij de Bibliotheek Udenhout\nKun je wel wat hulp gebruiken met je laptop\, tablet\, e-reader of smartphone? Lukt het niet om een programma of app te installeren? Kom dan naar het Digispreekuur bij De Bibliotheek Udenhout in Udenhout. Dit spreekuur is er voor iedereen die al enige computerervaring heeft\, maar graag geholpen wil worden met praktische digitale vragen of met de app van de online Bibliotheek. Wij helpen je graag. \nWaarmee kunnen we je helpen?\nTijdens het Digispreekuur beantwoorden we je vragen en zoeken we samen naar oplossingen. Je kunt bijvoorbeeld hulp krijgen bij het aanmaken van een account\, het instellen van een socialmedia-pagina\, het updaten van programma’s of het installeren van apps. Ook kun je terecht met vragen over het downloaden van e-books en luisterboeken via de app van de online Bibliotheek. \nPraktisch\nNeem je eigen laptop\, tablet of smartphone mee naar het spreekuur\, zodat we je zo goed mogelijk kunnen helpen met jouw specifieke vraag.
URL:https://tilburgwijzer.nl/evenement/digispreekuur-bibliotheek-udenhout-28-april-2026/
CATEGORIES:Inlopen en informatiebijeenkomst,Spreekuur
ATTACH;FMTTYPE=image/jpeg:https://tilburgwijzer.nl/wp-content/uploads/2025/01/20250129_Web_Digispreekuur-Bibliotheek-Heyhoef_clean.jpg
END:VEVENT
END:VCALENDAR