BEGIN:VCALENDAR
VERSION:2.0
PRODID:-//TilburgWijzer - ECPv6.15.20//NONSGML v1.0//EN
CALSCALE:GREGORIAN
METHOD:PUBLISH
X-WR-CALNAME:TilburgWijzer
X-ORIGINAL-URL:https://tilburgwijzer.nl
X-WR-CALDESC:Evenementen voor TilburgWijzer
REFRESH-INTERVAL;VALUE=DURATION:PT1H
X-Robots-Tag:noindex
X-PUBLISHED-TTL:PT1H
BEGIN:VTIMEZONE
TZID:Europe/Amsterdam
BEGIN:DAYLIGHT
TZOFFSETFROM:+0100
TZOFFSETTO:+0200
TZNAME:CEST
DTSTART:20250330T010000
END:DAYLIGHT
BEGIN:STANDARD
TZOFFSETFROM:+0200
TZOFFSETTO:+0100
TZNAME:CET
DTSTART:20251026T010000
END:STANDARD
BEGIN:DAYLIGHT
TZOFFSETFROM:+0100
TZOFFSETTO:+0200
TZNAME:CEST
DTSTART:20260329T010000
END:DAYLIGHT
BEGIN:STANDARD
TZOFFSETFROM:+0200
TZOFFSETTO:+0100
TZNAME:CET
DTSTART:20261025T010000
END:STANDARD
BEGIN:DAYLIGHT
TZOFFSETFROM:+0100
TZOFFSETTO:+0200
TZNAME:CEST
DTSTART:20270328T010000
END:DAYLIGHT
BEGIN:STANDARD
TZOFFSETFROM:+0200
TZOFFSETTO:+0100
TZNAME:CET
DTSTART:20271031T010000
END:STANDARD
END:VTIMEZONE
BEGIN:VEVENT
DTSTART;TZID=Europe/Amsterdam:20260720T190000
DTEND;TZID=Europe/Amsterdam:20260720T223000
DTSTAMP:20260425T015157
CREATED:20260408T144439Z
LAST-MODIFIED:20260423T195850Z
UID:179149-1784574000-1784586600@tilburgwijzer.nl
SUMMARY:En Vogue – 013 Poppodium – 20 juli 2026
DESCRIPTION:En Vogue live in 013 Poppodium\nZodra En Vogue ‘Hold On’ of ‘Free Your Mind’ inzet\, weet je weer waarom de jaren 90 zo goed waren voor R&B. De groep uit Oakland groeide uit tot een van de bepalende girlgroups van die tijd\, met een sound waarin soul\, R&B\, pop en hiphop moeiteloos samenkomen. Met klassiekers als My Lovin’ (You’re Never Gonna Get It)\, Whatta Man en Don’t Let Go (Love) drukten ze hun stempel op een hele generatie en effenden ze het pad voor acts als TLC en Destiny’s Child. \nOriginele leden op het podium\nVandaag de dag staan originele leden Cindy Herron\, Terry Ellis en Maxine Jones nog altijd samen op het podium\, met diezelfde loepzuivere harmonieën en zelfverzekerde uitstraling die En Vogue groot maakten. Hun aanwezigheid zorgt voor een authentieke en energieke show\, waarbij elke noot en elke beweging perfect op elkaar is afgestemd. \nHits die tijdloos blijven\nIn 013 Poppodium in het centrum van Tilburg hoor je een catalogus vol hits die moeiteloos overeind is gebleven. Van de grootste klassiekers tot minder bekende pareltjes: En Vogue laat zien waarom hun muziek generaties blijft inspireren en het podium nooit verlaat. \nEen avond vol R&B en soul\nVoor fans van klassieke R&B en live harmonieën is dit een avond die je niet mag missen. En Vogue brengt een combinatie van nostalgie\, energie en tijdloze muziek die iedereen in beweging zet. Bereid je voor op een onvergetelijke show vol iconische hits\, krachtige zang en een podiumpresence die haar weerga niet kent.
URL:https://tilburgwijzer.nl/evenement/en-vogue-013-poppodium/
CATEGORIES:Muziek,R&B,Soul
ATTACH;FMTTYPE=image/jpeg:https://tilburgwijzer.nl/wp-content/uploads/2026/04/20260408_Web_En-Vogue-013-Poppodium_event_clean.jpg
END:VEVENT
END:VCALENDAR