BEGIN:VCALENDAR
VERSION:2.0
PRODID:-//TilburgWijzer - ECPv6.15.20//NONSGML v1.0//EN
CALSCALE:GREGORIAN
METHOD:PUBLISH
X-WR-CALNAME:TilburgWijzer
X-ORIGINAL-URL:https://tilburgwijzer.nl
X-WR-CALDESC:Evenementen voor TilburgWijzer
REFRESH-INTERVAL;VALUE=DURATION:PT1H
X-Robots-Tag:noindex
X-PUBLISHED-TTL:PT1H
BEGIN:VTIMEZONE
TZID:Europe/Amsterdam
BEGIN:DAYLIGHT
TZOFFSETFROM:+0100
TZOFFSETTO:+0200
TZNAME:CEST
DTSTART:20250330T010000
END:DAYLIGHT
BEGIN:STANDARD
TZOFFSETFROM:+0200
TZOFFSETTO:+0100
TZNAME:CET
DTSTART:20251026T010000
END:STANDARD
BEGIN:DAYLIGHT
TZOFFSETFROM:+0100
TZOFFSETTO:+0200
TZNAME:CEST
DTSTART:20260329T010000
END:DAYLIGHT
BEGIN:STANDARD
TZOFFSETFROM:+0200
TZOFFSETTO:+0100
TZNAME:CET
DTSTART:20261025T010000
END:STANDARD
BEGIN:DAYLIGHT
TZOFFSETFROM:+0100
TZOFFSETTO:+0200
TZNAME:CEST
DTSTART:20270328T010000
END:DAYLIGHT
BEGIN:STANDARD
TZOFFSETFROM:+0200
TZOFFSETTO:+0100
TZNAME:CET
DTSTART:20271031T010000
END:STANDARD
END:VTIMEZONE
BEGIN:VEVENT
DTSTART;TZID=Europe/Amsterdam:20260509T183000
DTEND;TZID=Europe/Amsterdam:20260509T235500
DTSTAMP:20260425T032701
CREATED:20260316T180746Z
LAST-MODIFIED:20260423T195028Z
UID:173228-1778351400-1778370900@tilburgwijzer.nl
SUMMARY:Falafelpop - Hall of Fame
DESCRIPTION:Een avond vol wereldse grooves\nFalafelpop brengt een onvergetelijke avond vol grensverleggende muziek naar De Hall of Fame in Tilburg. Het festival viert een breed scala aan globale sounds en presenteert artiesten die hun roots combineren met frisse\, unieke invloeden. Verwacht een muzikale reis waarbij traditionele elementen samensmelten met moderne grooves en verrassende live-optredens. \nLine-up en artiesten\nOp het podium staan onder andere Kit Sebastian\, Nusantara Beat\, Olkan & La Vipère Rouge\, Yan Lále\, Zajal\, Elektraum\, Max Pashm (dj)\, Space Age DJ Collective en Melina. Samen creëren zij een eclectische mix van stijlen en culturen\, waarbij iedere act een eigen draai geeft aan de muziek van over de hele wereld. \nFestivalconcept\nFalafelpop is een initiatief van Durum Records\, een onafhankelijk label en agency dat muziek met wereldse roots\, groove en een sterke live presence promoot. Het festival fungeert als een live verlengstuk van de artistieke visie van het label en biedt een platform voor zowel gevestigde als opkomende artiesten die durven experimenteren en hun eigen geluid ontwikkelen. \nBlijf op de hoogte\nVoor updates\, aankondigingen van artiesten en praktische informatie rondom het festival\, volg Durum Records op Instagram (@durumrecords_) en bezoek de officiële website Falafelpop. Bereid je voor op een avond vol ritme\, cultuur en inspirerende optredens die je meenemen op een wereldreis in het hart van Tilburg.
URL:https://tilburgwijzer.nl/evenement/falafelpop-hall-of-fame/
CATEGORIES:Muziek,Wereldmuziek
ATTACH;FMTTYPE=image/jpeg:https://tilburgwijzer.nl/wp-content/uploads/2025/10/20220924_Web_Cultuurfabriek-Hall-of-Fame-in-Tilburg-_Locatie_clean.jpg
END:VEVENT
END:VCALENDAR