BEGIN:VCALENDAR
VERSION:2.0
PRODID:-//TilburgWijzer - ECPv6.15.20//NONSGML v1.0//EN
CALSCALE:GREGORIAN
METHOD:PUBLISH
X-WR-CALNAME:TilburgWijzer
X-ORIGINAL-URL:https://tilburgwijzer.nl
X-WR-CALDESC:Evenementen voor TilburgWijzer
REFRESH-INTERVAL;VALUE=DURATION:PT1H
X-Robots-Tag:noindex
X-PUBLISHED-TTL:PT1H
BEGIN:VTIMEZONE
TZID:Europe/Amsterdam
BEGIN:DAYLIGHT
TZOFFSETFROM:+0100
TZOFFSETTO:+0200
TZNAME:CEST
DTSTART:20250330T010000
END:DAYLIGHT
BEGIN:STANDARD
TZOFFSETFROM:+0200
TZOFFSETTO:+0100
TZNAME:CET
DTSTART:20251026T010000
END:STANDARD
BEGIN:DAYLIGHT
TZOFFSETFROM:+0100
TZOFFSETTO:+0200
TZNAME:CEST
DTSTART:20260329T010000
END:DAYLIGHT
BEGIN:STANDARD
TZOFFSETFROM:+0200
TZOFFSETTO:+0100
TZNAME:CET
DTSTART:20261025T010000
END:STANDARD
BEGIN:DAYLIGHT
TZOFFSETFROM:+0100
TZOFFSETTO:+0200
TZNAME:CEST
DTSTART:20270328T010000
END:DAYLIGHT
BEGIN:STANDARD
TZOFFSETFROM:+0200
TZOFFSETTO:+0100
TZNAME:CET
DTSTART:20271031T010000
END:STANDARD
END:VTIMEZONE
BEGIN:VEVENT
DTSTART;TZID=Europe/Amsterdam:20261010T190000
DTEND;TZID=Europe/Amsterdam:20261011T010000
DTSTAMP:20260424T184850
CREATED:20240605T135510Z
LAST-MODIFIED:20260323T110916Z
UID:10735-1791658800-1791680400@tilburgwijzer.nl
SUMMARY:Foute Feestje XXL - Tilburg Koepelhal 2026
DESCRIPTION:Foute Feestje XXL Tilburg: Jouw Guilty Pleasure avond!\nOp 10 oktober 2026 verandert de Koepelhal in Tilburg in een waar paradijs van foute gezelligheid! Het Foute Feestje XXL keert terug\, groter en spectaculairder dan ooit. Dit evenement belooft een avond te worden vol kleuren\, slingers\, confetti\, en de meest aanstekelijke hits van Qmusic The Party. Laat je meevoeren naar een wereld waar guilty pleasures de boventoon voeren en de vrolijkheid hoogtij viert. \nLineup Foute Feestje XXL Tilburg 2026\nDe line-up van het Foute Feestje XXL is een ware traktatie voor de liefhebbers van foute muziek. De avond wordt gevuld met optredens van bekende artiesten die garant staan voor een spetterende show: \nDe line-up van 2026 is nog niet bekend \nThema: Hoe fouter\, hoe beter!\nHet thema van de avond is simpel: hoe fouter\, hoe beter! Dit is het moment om je meest gedurfde\, kleurrijke outfit uit de kast te halen. Of je nu kiest voor een retro look\, felle kleuren of extravagante accessoires\, alles mag en alles kan. Bereid je voor op een avond vol dansen en plezier maken\, met als enige regel: hoe gekker\, hoe beter! \nEen avond georganiseerd met liefde\nHet Foute Feestje wordt georganiseerd met een grote dosis liefde en passie. Het team achter dit unieke concept zet alles op alles om ervoor te zorgen dat jouw guilty pleasure avond een onvergetelijke ervaring wordt. Met aandacht voor detail en een oprechte toewijding zorgen ze voor een avond vol plezier\, zingen\, dansen en vooral veel lachen. \nMis het Foute Feestje XXL in Tilburg niet! Dit is de ultieme avond die je absoluut niet wilt missen. Zorg dat je erbij bent en koop je tickets nu. Maak je klaar voor een feest dat je nog lang bij zal blijven en waar je vrienden jaloers op zullen zijn. 🎉🎶
URL:https://tilburgwijzer.nl/evenement/foute-feestje-xxl-tilburg-koepelhal/
LOCATION:Tilburg\, Noord Brabant\, Nederland
CATEGORIES:Classic Pop,Muziek,Nederlandstalig,Popmuziek
ATTACH;FMTTYPE=image/jpeg:https://tilburgwijzer.nl/wp-content/uploads/2025/03/20231029_Web_Foute-Feestje-XXL-Tilburg_event_clean.jpg
END:VEVENT
END:VCALENDAR