BEGIN:VCALENDAR
VERSION:2.0
PRODID:-//TilburgWijzer - ECPv6.15.20//NONSGML v1.0//EN
CALSCALE:GREGORIAN
METHOD:PUBLISH
X-WR-CALNAME:TilburgWijzer
X-ORIGINAL-URL:https://tilburgwijzer.nl
X-WR-CALDESC:Evenementen voor TilburgWijzer
REFRESH-INTERVAL;VALUE=DURATION:PT1H
X-Robots-Tag:noindex
X-PUBLISHED-TTL:PT1H
BEGIN:VTIMEZONE
TZID:Europe/Amsterdam
BEGIN:DAYLIGHT
TZOFFSETFROM:+0100
TZOFFSETTO:+0200
TZNAME:CEST
DTSTART:20250330T010000
END:DAYLIGHT
BEGIN:STANDARD
TZOFFSETFROM:+0200
TZOFFSETTO:+0100
TZNAME:CET
DTSTART:20251026T010000
END:STANDARD
BEGIN:DAYLIGHT
TZOFFSETFROM:+0100
TZOFFSETTO:+0200
TZNAME:CEST
DTSTART:20260329T010000
END:DAYLIGHT
BEGIN:STANDARD
TZOFFSETFROM:+0200
TZOFFSETTO:+0100
TZNAME:CET
DTSTART:20261025T010000
END:STANDARD
BEGIN:DAYLIGHT
TZOFFSETFROM:+0100
TZOFFSETTO:+0200
TZNAME:CEST
DTSTART:20270328T010000
END:DAYLIGHT
BEGIN:STANDARD
TZOFFSETFROM:+0200
TZOFFSETTO:+0100
TZNAME:CET
DTSTART:20271031T010000
END:STANDARD
END:VTIMEZONE
BEGIN:VEVENT
DTSTART;TZID=Europe/Amsterdam:20260502T130000
DTEND;TZID=Europe/Amsterdam:20260502T155500
DTSTAMP:20260425T001850
CREATED:20251230T121438Z
LAST-MODIFIED:20260413T073943Z
UID:164748-1777726800-1777737300@tilburgwijzer.nl
SUMMARY:Groene long - Stadsgidserij Tilburg
DESCRIPTION:Groene Long wandeling in Tilburg\nDe Groene Long wandeling van Stadsgidserij Tilburg laat je een uniek stukje stad ontdekken waar geschiedenis en natuur samenkomen. Toen Tilburg in de jaren zestig richting het westen uitbreidde en de nieuwbouwwijk ‘t Zand werd gerealiseerd\, werd afgesproken dat de Groene Long zijn historische en natuurlijke karakter zou behouden. Deze wandeling neemt je mee door dit bijzondere gebied\, dat zich uitstrekt van het Hasseltplein via de Reitse Hoevenstraat naar de Bokhamer. \nHistorie en cultuur\nTijdens de wandeling bezoek je het oudste religieuze monument van Tilburg\, de Hasseltse Kapel\, en ontdek je andere historische plekken zoals De Oliemeulen en De Tongerlose Hoeve. De route voert verder langs De Rooi Pannen\, voorheen in handen van de Fraters van Mill Hill\, en langs authentieke wevershuisjes. Zo ervaar je hoe het oude nederzettingspatroon van Tilburg hier vrijwel ongeschonden bleef en hoe de wijk zich door de eeuwen heen heeft ontwikkeld. \nEen groen erfgoed\nHoewel moderne bebouwing\, zoals scholen en een ziekenhuis\, af en toe het historische beeld doorbreekt\, blijft de Groene Long een groen en historisch lint in de stad. Het is een plek waar natuur\, historie en stadsontwikkeling samenkomen\, en waar je de rijke geschiedenis van Tilburg kunt voelen en zien. \nOntdek het dörpke in de stad\nHet eindpunt van de wandeling is de Bokhamer\, ook wel het ‘dörpke in de stad’ genoemd. Hier zie je hoe eeuwenlange geschiedenis letterlijk voor het oprapen ligt. De Groene Long is een unieke kans om Tilburgs verleden te ervaren zonder de stad uit te hoeven. \nHistorisch Tilburg in een notendop\nDe Groene Long wandeling is ideaal voor iedereen die Tilburg wil leren kennen op een manier die zowel rust\, natuur als cultuur combineert. Het is een ontdekkingstocht langs monumenten\, oude boerderijen en historische straatjes die een inkijk geven in het verleden van de stad.
URL:https://tilburgwijzer.nl/evenement/groene-long-stadsgidserij-tilburg/
CATEGORIES:Kunst & Cultuur,Wandelingen
ATTACH;FMTTYPE=image/jpeg:https://tilburgwijzer.nl/wp-content/uploads/2025/12/20251230_Web_Stadsgidserij-Tilburg_event_clean.jpg
END:VEVENT
END:VCALENDAR