BEGIN:VCALENDAR
VERSION:2.0
PRODID:-//TilburgWijzer - ECPv6.15.20//NONSGML v1.0//EN
CALSCALE:GREGORIAN
METHOD:PUBLISH
X-WR-CALNAME:TilburgWijzer
X-ORIGINAL-URL:https://tilburgwijzer.nl
X-WR-CALDESC:Evenementen voor TilburgWijzer
REFRESH-INTERVAL;VALUE=DURATION:PT1H
X-Robots-Tag:noindex
X-PUBLISHED-TTL:PT1H
BEGIN:VTIMEZONE
TZID:Europe/Amsterdam
BEGIN:DAYLIGHT
TZOFFSETFROM:+0100
TZOFFSETTO:+0200
TZNAME:CEST
DTSTART:20250330T010000
END:DAYLIGHT
BEGIN:STANDARD
TZOFFSETFROM:+0200
TZOFFSETTO:+0100
TZNAME:CET
DTSTART:20251026T010000
END:STANDARD
BEGIN:DAYLIGHT
TZOFFSETFROM:+0100
TZOFFSETTO:+0200
TZNAME:CEST
DTSTART:20260329T010000
END:DAYLIGHT
BEGIN:STANDARD
TZOFFSETFROM:+0200
TZOFFSETTO:+0100
TZNAME:CET
DTSTART:20261025T010000
END:STANDARD
BEGIN:DAYLIGHT
TZOFFSETFROM:+0100
TZOFFSETTO:+0200
TZNAME:CEST
DTSTART:20270328T010000
END:DAYLIGHT
BEGIN:STANDARD
TZOFFSETFROM:+0200
TZOFFSETTO:+0100
TZNAME:CET
DTSTART:20271031T010000
END:STANDARD
END:VTIMEZONE
BEGIN:VEVENT
DTSTART;TZID=Europe/Amsterdam:20260705T100000
DTEND;TZID=Europe/Amsterdam:20260705T123000
DTSTAMP:20260425T031153
CREATED:20260224T125721Z
LAST-MODIFIED:20260423T194754Z
UID:170998-1783245600-1783254600@tilburgwijzer.nl
SUMMARY:IVN Fotowandeling Bloemen en Insecten - IVN Tilburg
DESCRIPTION:Fotowandeling Bloemen en Insecten in Tilburg\nWil je de zomer niet alleen beleven\, maar ook vastleggen? IVN Tilburg organiseert op zondag 5 juli een bijzondere fotowandeling in het natuurrijke gebied De Drijflanen. Van 10:00 uur tot 12:30 uur trekken deelnemers onder begeleiding van een IVN-gids met de camera het gebied in\, vol kleurrijke bloemen en actieve insecten. Verzamelen kan bij de Top Naeffdreef tegenover huisnummer 10. Parkeren is beperkt\, maar de locatie is goed bereikbaar per fiets. \nDe Drijflanen: een verborgen parel\nVeel Tilburgers kennen De Drijflanen niet\, maar dit kleine gebied binnen de gemeentegrenzen biedt verrassend veel natuur. Van weilanden met poelen en bos tot een klein stukje heide – ideaal voor het maken van prachtige natuurfoto’s. Dankzij de diverse biotopen is er volop inspiratie voor zowel beginners als gevorderde fotografen. \nFotografie centraal\nTijdens reguliere wandelingen is er vaak te weinig tijd om uitgebreid foto’s te maken. Daarom biedt deze fotowandeling een kleinere\, rustige opzet\, met voldoende ruimte voor fotografie. Gidsen vertellen over de flora en fauna\, en begeleiders helpen met camera-instellingen\, compositie en tips om het beste uit je foto te halen. \nAanmelden en meer informatie\nVooraf aanmelden is niet nodig. Bij slecht weer kan de wandeling worden afgelast; houd de website van IVN Tilburg in de gaten voor updates. \nIVN organiseert regelmatig openbare wandelingen. Bekijk de pagina Natuuractiviteiten voor een overzicht van alle wandelingen met uitgebreide beschrijvingen.
URL:https://tilburgwijzer.nl/evenement/ivnfotowandeling-bloemen-en-insecten-ivn-tilburg/
CATEGORIES:Creative workshops,Cursussen & Workshops,Gratis,Kunst & Cultuur,Natuur,Wandelingen
ATTACH;FMTTYPE=image/jpeg:https://tilburgwijzer.nl/wp-content/uploads/2025/01/20250117_Web_Natuurwandeling-Giardino-dItalia_clean.jpg
END:VEVENT
END:VCALENDAR