BEGIN:VCALENDAR
VERSION:2.0
PRODID:-//TilburgWijzer - ECPv6.15.20//NONSGML v1.0//EN
CALSCALE:GREGORIAN
METHOD:PUBLISH
X-WR-CALNAME:TilburgWijzer
X-ORIGINAL-URL:https://tilburgwijzer.nl
X-WR-CALDESC:Evenementen voor TilburgWijzer
REFRESH-INTERVAL;VALUE=DURATION:PT1H
X-Robots-Tag:noindex
X-PUBLISHED-TTL:PT1H
BEGIN:VTIMEZONE
TZID:Europe/Amsterdam
BEGIN:DAYLIGHT
TZOFFSETFROM:+0100
TZOFFSETTO:+0200
TZNAME:CEST
DTSTART:20250330T010000
END:DAYLIGHT
BEGIN:STANDARD
TZOFFSETFROM:+0200
TZOFFSETTO:+0100
TZNAME:CET
DTSTART:20251026T010000
END:STANDARD
BEGIN:DAYLIGHT
TZOFFSETFROM:+0100
TZOFFSETTO:+0200
TZNAME:CEST
DTSTART:20260329T010000
END:DAYLIGHT
BEGIN:STANDARD
TZOFFSETFROM:+0200
TZOFFSETTO:+0100
TZNAME:CET
DTSTART:20261025T010000
END:STANDARD
BEGIN:DAYLIGHT
TZOFFSETFROM:+0100
TZOFFSETTO:+0200
TZNAME:CEST
DTSTART:20270328T010000
END:DAYLIGHT
BEGIN:STANDARD
TZOFFSETFROM:+0200
TZOFFSETTO:+0100
TZNAME:CET
DTSTART:20271031T010000
END:STANDARD
END:VTIMEZONE
BEGIN:VEVENT
DTSTART;TZID=Europe/Amsterdam:20260519T200000
DTEND;TZID=Europe/Amsterdam:20260519T235500
DTSTAMP:20260425T030540
CREATED:20260316T180754Z
LAST-MODIFIED:20260423T195028Z
UID:173229-1779220800-1779234900@tilburgwijzer.nl
SUMMARY:John 5 - Hall of Fame
DESCRIPTION:Gitaarvirtuos John 5 in Tilburg\nDe legendarische gitarist John 5 komt met zijn solo-optredens naar De Hall of Fame in Tilburg. Al bijna 30 jaar behoort hij tot de meest gevraagde gitaristen ter wereld. Zijn virtuositeit is te zien in zijn werk als sessiegitarist en op podia met iconen als Rob Zombie\, Marilyn Manson en Rob Halford. Daarnaast werkte hij samen met artiesten uit diverse genres\, zoals KD Lang\, Rod Stewart\, Dave Lee Roth\, Alice Cooper\, Tina Guo en Steven Adler. \nSolo-optredens en veelzijdigheid\nJohn 5 staat bekend als een meester in allerlei stijlen. Of het nu metal\, rock\, country of experimentele muziek betreft\, hij weet elk genre te beheersen met verbluffende techniek en muzikaal inzicht. Zijn solo-shows laten horen waarom hij meer is dan een shredder: het zijn dynamische en meeslepende performances vol energie\, techniek en entertainment. \nTickets en VIP-ervaring\nKaartjes voor het optreden zijn nu beschikbaar: \n\nRegular Ticket: €27\,25 (incl. €2\,25 servicekosten)\nVIP Ticket: €127\,25 (incl. €2\,25 servicekosten)\n\nHet VIP-pakket biedt een exclusieve ervaring: toegang tot de show\, een pre-show meet & greet met John 5\, een signeersessie\, een persoonlijke foto\, een set gitarenpicks van John 5\, een exclusief VIP-laminé en een limited edition tourposter. \nBereid je voor op een onvergetelijke avond waarin één van de meest veelzijdige en getalenteerde gitaristen ter wereld zijn skills tentoonstelt. Mis deze unieke kans niet om John 5 live te zien in Tilburg.
URL:https://tilburgwijzer.nl/evenement/john-5-hall-of-fame/
CATEGORIES:Metal,Muziek,Rock
ATTACH;FMTTYPE=image/jpeg:https://tilburgwijzer.nl/wp-content/uploads/2026/03/20161128_Web_John-5-Hall-of-Fame_event_clean.jpg
END:VEVENT
END:VCALENDAR