BEGIN:VCALENDAR
VERSION:2.0
PRODID:-//TilburgWijzer - ECPv6.15.20//NONSGML v1.0//EN
CALSCALE:GREGORIAN
METHOD:PUBLISH
X-WR-CALNAME:TilburgWijzer
X-ORIGINAL-URL:https://tilburgwijzer.nl
X-WR-CALDESC:Evenementen voor TilburgWijzer
REFRESH-INTERVAL;VALUE=DURATION:PT1H
X-Robots-Tag:noindex
X-PUBLISHED-TTL:PT1H
BEGIN:VTIMEZONE
TZID:Europe/Amsterdam
BEGIN:DAYLIGHT
TZOFFSETFROM:+0100
TZOFFSETTO:+0200
TZNAME:CEST
DTSTART:20250330T010000
END:DAYLIGHT
BEGIN:STANDARD
TZOFFSETFROM:+0200
TZOFFSETTO:+0100
TZNAME:CET
DTSTART:20251026T010000
END:STANDARD
BEGIN:DAYLIGHT
TZOFFSETFROM:+0100
TZOFFSETTO:+0200
TZNAME:CEST
DTSTART:20260329T010000
END:DAYLIGHT
BEGIN:STANDARD
TZOFFSETFROM:+0200
TZOFFSETTO:+0100
TZNAME:CET
DTSTART:20261025T010000
END:STANDARD
BEGIN:DAYLIGHT
TZOFFSETFROM:+0100
TZOFFSETTO:+0200
TZNAME:CEST
DTSTART:20270328T010000
END:DAYLIGHT
BEGIN:STANDARD
TZOFFSETFROM:+0200
TZOFFSETTO:+0100
TZNAME:CET
DTSTART:20271031T010000
END:STANDARD
END:VTIMEZONE
BEGIN:VEVENT
DTSTART;TZID=Europe/Amsterdam:20260812T190000
DTEND;TZID=Europe/Amsterdam:20260812T223000
DTSTAMP:20260425T061205
CREATED:20251201T201022Z
LAST-MODIFIED:20260410T080140Z
UID:158557-1786561200-1786573800@tilburgwijzer.nl
SUMMARY:Judas Priest – 013 Poppodium – 12 augustus 2026
DESCRIPTION:Judas Priest keert terug naar Tilburg\nBijna niemand belichaamt de essentie van heavy metal zo overtuigend als Judas Priest. Al ruim vijftig jaar bepaalt de band uit Birmingham\, de stad waar het genre zelf ontstond\, de standaard met een geluid dat scherp\, krachtig en invloedrijk is. Van klassiekers als Sad Wings of Destiny en British Steel tot Painkiller en Firepower: elke fase van hun carrière heeft metalgeschiedenis geschreven. \nOnmiskenbare kracht en erfgoed\nMet Rob Halford\, Glenn Tipton\, Ian Hill en Scott Travis op het podium klinkt dat erfgoed nog altijd urgent en relevant. Het album Invincible Shield (2024) bewees dat Judas Priest geen museumstuk is\, maar een levende kracht met snelle riffs\, vlijmscherpe hooks en Halford die met één gil een zaal kan laten verstillen. De recente wereldtour verkocht uit in Zuid-Amerika en Londen\, en leverde de band opnieuw een Grammy-nominatie op voor het nummer Crown of Horns. \nLive-ervaring in Tilburg\nTijdens hun show in 013 Poppodium in het centrum van Tilburg wordt het rijke metalverleden van de band vertaald naar een live-ervaring vol energie en precisie. Fans krijgen geen nostalgie\, maar een actuele en onvervalste Judas Priest-show waarin de band bewijst dat zij nog steeds een maatstaf zijn voor heavy metal wereldwijd. \nEen onvergetelijke metalavond\nNa vijftig jaar staat één ding vast: niemand doet het zoals Judas Priest. Met hun kenmerkende sound\, onmiskenbare podiumpresence en onuitputtelijke energie blijft de band een must-see voor iedereen die metal ademt en beleeft.
URL:https://tilburgwijzer.nl/evenement/judas-priest-013-poppodium/
CATEGORIES:Heavy Metal,Metal,Muziek
ATTACH;FMTTYPE=image/jpeg:https://tilburgwijzer.nl/wp-content/uploads/2025/12/20251201_Web_Judas-Priest-013-Poppodium_event_clean.jpg
END:VEVENT
END:VCALENDAR