BEGIN:VCALENDAR
VERSION:2.0
PRODID:-//TilburgWijzer - ECPv6.15.20//NONSGML v1.0//EN
CALSCALE:GREGORIAN
METHOD:PUBLISH
X-WR-CALNAME:TilburgWijzer
X-ORIGINAL-URL:https://tilburgwijzer.nl
X-WR-CALDESC:Evenementen voor TilburgWijzer
REFRESH-INTERVAL;VALUE=DURATION:PT1H
X-Robots-Tag:noindex
X-PUBLISHED-TTL:PT1H
BEGIN:VTIMEZONE
TZID:Europe/Amsterdam
BEGIN:DAYLIGHT
TZOFFSETFROM:+0100
TZOFFSETTO:+0200
TZNAME:CEST
DTSTART:20250330T010000
END:DAYLIGHT
BEGIN:STANDARD
TZOFFSETFROM:+0200
TZOFFSETTO:+0100
TZNAME:CET
DTSTART:20251026T010000
END:STANDARD
BEGIN:DAYLIGHT
TZOFFSETFROM:+0100
TZOFFSETTO:+0200
TZNAME:CEST
DTSTART:20260329T010000
END:DAYLIGHT
BEGIN:STANDARD
TZOFFSETFROM:+0200
TZOFFSETTO:+0100
TZNAME:CET
DTSTART:20261025T010000
END:STANDARD
BEGIN:DAYLIGHT
TZOFFSETFROM:+0100
TZOFFSETTO:+0200
TZNAME:CEST
DTSTART:20270328T010000
END:DAYLIGHT
BEGIN:STANDARD
TZOFFSETFROM:+0200
TZOFFSETTO:+0100
TZNAME:CET
DTSTART:20271031T010000
END:STANDARD
END:VTIMEZONE
BEGIN:VEVENT
DTSTART;TZID=Europe/Amsterdam:20260810T100000
DTEND;TZID=Europe/Amsterdam:20260814T170000
DTSTAMP:20260424T235052
CREATED:20240706T143302Z
LAST-MODIFIED:20260323T104347Z
UID:10906-1786356000-1786726800@tilburgwijzer.nl
SUMMARY:Kindervakantieweek Udenhout 2026
DESCRIPTION:Kindervakantieweek Udenhout: Een onvergetelijke beleving voor Kinderen\nElk jaar staat Kindervakantieweek Udenhout garant voor lachende gezichten en onvergetelijke momenten. Met een deelname van ongeveer 250 enthousiaste kinderen\, is het een bruisend evenement waar plezier centraal staat. In dit artikel ontdek je wat deze week zo bijzonder maakt en hoe jouw kind hieraan kan deelnemen. \nDiversiteit aan activiteiten\nKindervakantieweek Udenhout biedt een gevarieerd programma dat aansluit bij de interesses van kinderen. Samen met hun eigen groepje storten ze zich in spannende spelletjes\, bouwen ze indrukwekkende hutten en gaan ze op avontuur tijdens speurtochten. De minidisco staat garant voor vrolijke dansmomenten en nog veel meer vermakelijke activiteiten. \nDonderdagse uitstapjes: Een grote verrassing\nEen hoogtepunt van de week is het donderdagse uitstapje\, waarbij de kinderen met de bus op pad gaan. Wat deze excursie precies inhoudt\, blijft ieder jaar een groot geheim tot het laatste moment. De spanning en nieuwsgierigheid zorgen voor extra opwinding bij de deelnemende kinderen. \nDe optie van overnachten\nVoor de avontuurlijke kinderen uit groep 6\, 7 of 8 bestaat de mogelijkheid om te overnachten tijdens Kindervakantieweek Udenhout. Een unieke kans voor kinderen om samen met hun vriendjes en vriendinnetjes een nacht vol gezelligheid te beleven. Let op\, overnachten is niet verplicht en kan apart geboekt worden. \nHoe jouw kind kan deelnemen\nWil je jouw kind ook laten genieten van deze bruisende week vol activiteiten? Deelname aan Kindervakantieweek Udenhout is mogelijk met of zonder overnachting. Zorg ervoor dat je op tijd inschrijft en ontdek hoe jouw kind een onvergetelijke tijd kan beleven met leeftijdsgenootjes in Udenhout. \nKortom\, Kindervakantieweek Udenhout is dé gelegenheid voor kinderen om nieuwe vrienden te maken\, plezier te beleven en herinneringen te creëren die een leven lang meegaan. Schrijf je kind vandaag nog in en geef ze de kans om deel uit te maken van dit jaarlijkse feest vol avontuur en gezelligheid!
URL:https://tilburgwijzer.nl/evenement/kindervakantieweek-udenhout/
CATEGORIES:Jeugd & Familie,Kunst & Cultuur
ATTACH;FMTTYPE=image/jpeg:https://tilburgwijzer.nl/wp-content/uploads/2025/03/20210821_Web_Kindervakantiewerk-Undenhout-op-het-Kuilveld-in-Udenhout_event_clean.jpg
END:VEVENT
END:VCALENDAR