BEGIN:VCALENDAR
VERSION:2.0
PRODID:-//TilburgWijzer - ECPv6.15.20//NONSGML v1.0//EN
CALSCALE:GREGORIAN
METHOD:PUBLISH
X-WR-CALNAME:TilburgWijzer
X-ORIGINAL-URL:https://tilburgwijzer.nl
X-WR-CALDESC:Evenementen voor TilburgWijzer
REFRESH-INTERVAL;VALUE=DURATION:PT1H
X-Robots-Tag:noindex
X-PUBLISHED-TTL:PT1H
BEGIN:VTIMEZONE
TZID:Europe/Amsterdam
BEGIN:DAYLIGHT
TZOFFSETFROM:+0100
TZOFFSETTO:+0200
TZNAME:CEST
DTSTART:20250330T010000
END:DAYLIGHT
BEGIN:STANDARD
TZOFFSETFROM:+0200
TZOFFSETTO:+0100
TZNAME:CET
DTSTART:20251026T010000
END:STANDARD
BEGIN:DAYLIGHT
TZOFFSETFROM:+0100
TZOFFSETTO:+0200
TZNAME:CEST
DTSTART:20260329T010000
END:DAYLIGHT
BEGIN:STANDARD
TZOFFSETFROM:+0200
TZOFFSETTO:+0100
TZNAME:CET
DTSTART:20261025T010000
END:STANDARD
BEGIN:DAYLIGHT
TZOFFSETFROM:+0100
TZOFFSETTO:+0200
TZNAME:CEST
DTSTART:20270328T010000
END:DAYLIGHT
BEGIN:STANDARD
TZOFFSETFROM:+0200
TZOFFSETTO:+0100
TZNAME:CET
DTSTART:20271031T010000
END:STANDARD
END:VTIMEZONE
BEGIN:VEVENT
DTSTART;TZID=Europe/Amsterdam:20260425T130000
DTEND;TZID=Europe/Amsterdam:20260425T155500
DTSTAMP:20260424T200419
CREATED:20251230T124948Z
LAST-MODIFIED:20260408T074539Z
UID:164747-1777122000-1777132500@tilburgwijzer.nl
SUMMARY:Koningshoeven Jeruzalem - Stadsgidserij Tilburg
DESCRIPTION:Koningshoeven Jeruzalem wandeling\nDe Koningshoeven Jeruzalem wandeling van Stadsgidserij Tilburg voert je door het zuidoosten van de stad\, een gebied vol geschiedenis en verrassende ontdekkingen. De naam Koningshoeven verwijst naar koning Willem II\, die hier hoeves liet bouwen om de woeste grond rondom Tilburg te ontginnen. Jeruzalem lijkt misschien verder weg\, maar ligt dicht bij en vormt samen met Koningshoeven een fascinerend stadsdeel om te verkennen. \nKoninklijke sporen\nTijdens de wandeling ontdek je de overgebleven sporen van Willem II\, waaronder de historische hoeves en andere plekken die verwijzen naar het koninklijke verleden. De gids vertelt over de betekenis van deze locaties en de rol die ze speelden in de ontwikkeling van Tilburg. \nIndustriële geschiedenis\nNaast koninklijke invloeden zijn ook de sporen van vroege bedrijvigheid zichtbaar. De wandeling laat je onder andere de overgebleven fabrikantenvilla’s zien langs de oevers van de Leij\, die herinneren aan een tijd van opkomende industrie en ondernemerschap in Tilburg. \nWilhelminakanaal en Piushaven\nHet Wilhelminakanaal\, dat al bijna honderd jaar door dit deel van de stad loopt\, en de nabijgelegen vernieuwde wijk Jeruzalem bieden een kijkje in zowel het verleden als het heden van Tilburg. Langs de Piushaven ontdek je hoe de stad zich ontwikkelt en transformeert\, met aandacht voor geschiedenis\, architectuur en moderne stadsontwikkeling. \nVerleden\, heden en toekomst\nDe Koningshoeven Jeruzalem wandeling is een ideale tocht voor iedereen die meer wil leren over de historische en hedendaagse betekenis van dit stadsdeel. Met boeiende verhalen\, bijzondere locaties en verrassende inzichten beleef je Tilburg op een unieke manier\, tussen koninklijke sporen\, oude industrie en moderne stadsontwikkeling.
URL:https://tilburgwijzer.nl/evenement/koningshoeven-jeruzalem-stadsgidserij-tilburg/
CATEGORIES:Kunst & Cultuur,Wandelingen
ATTACH;FMTTYPE=image/jpeg:https://tilburgwijzer.nl/wp-content/uploads/2025/12/20251230_Web_Stadsgidserij-Tilburg_event_clean.jpg
END:VEVENT
END:VCALENDAR