BEGIN:VCALENDAR
VERSION:2.0
PRODID:-//TilburgWijzer - ECPv6.15.20//NONSGML v1.0//EN
CALSCALE:GREGORIAN
METHOD:PUBLISH
X-WR-CALNAME:TilburgWijzer
X-ORIGINAL-URL:https://tilburgwijzer.nl
X-WR-CALDESC:Evenementen voor TilburgWijzer
REFRESH-INTERVAL;VALUE=DURATION:PT1H
X-Robots-Tag:noindex
X-PUBLISHED-TTL:PT1H
BEGIN:VTIMEZONE
TZID:Europe/Amsterdam
BEGIN:DAYLIGHT
TZOFFSETFROM:+0100
TZOFFSETTO:+0200
TZNAME:CEST
DTSTART:20250330T010000
END:DAYLIGHT
BEGIN:STANDARD
TZOFFSETFROM:+0200
TZOFFSETTO:+0100
TZNAME:CET
DTSTART:20251026T010000
END:STANDARD
BEGIN:DAYLIGHT
TZOFFSETFROM:+0100
TZOFFSETTO:+0200
TZNAME:CEST
DTSTART:20260329T010000
END:DAYLIGHT
BEGIN:STANDARD
TZOFFSETFROM:+0200
TZOFFSETTO:+0100
TZNAME:CET
DTSTART:20261025T010000
END:STANDARD
BEGIN:DAYLIGHT
TZOFFSETFROM:+0100
TZOFFSETTO:+0200
TZNAME:CEST
DTSTART:20270328T010000
END:DAYLIGHT
BEGIN:STANDARD
TZOFFSETFROM:+0200
TZOFFSETTO:+0100
TZNAME:CET
DTSTART:20271031T010000
END:STANDARD
END:VTIMEZONE
BEGIN:VEVENT
DTSTART;TZID=Europe/Amsterdam:20260616T190000
DTEND;TZID=Europe/Amsterdam:20260616T215500
DTSTAMP:20260425T012037
CREATED:20251230T151339Z
LAST-MODIFIED:20260212T083921Z
UID:164898-1781636400-1781646900@tilburgwijzer.nl
SUMMARY:Lopende letters - Stadsgidserij Tilburg
DESCRIPTION:Lopende letters\nDe Lopende Letters-wandeling van Stadsgidserij Tilburg is perfect voor liefhebbers van literatuur en poëzie. Tijdens deze vernieuwde literatuurwandeling ontdekt u de verbindingen tussen Tilburg en de wereld van boeken\, schrijvers en stadsdichters. \nHistorische plekken en schrijvers\nOp de route passeert u diverse historische plekken waar belangrijke literaire stromingen en figuren hun sporen hebben achtergelaten. De stadsgids vertelt verhalen over grondleggers van literatuur in Tilburg en laat zien hoe de stad door de jaren heen inspiratie bood voor schrijvers en dichters. \nPoëzie en proza in de stad\nTijdens de wandeling wordt duidelijk hoe poëzie en proza in Tilburg aanwezig zijn\, vaak op onverwachte plekken. Van boeken tot gedichten en van historische verwijzingen tot stadsdichters\, alles komt aan bod. \nEen rondgang vol ontdekkingen\nDe Lopende Letters-wandeling biedt een unieke kans om Tilburg door een literaire bril te bekijken. De gidsen openen een boekje vol verhalen\, anekdotes en interessante weetjes waardoor literatuur en de stad samen tot leven komen.
URL:https://tilburgwijzer.nl/evenement/lopende-letters-stadsgidserij-tilburg/
CATEGORIES:Kunst & Cultuur,Wandelingen
ATTACH;FMTTYPE=image/jpeg:https://tilburgwijzer.nl/wp-content/uploads/2025/12/20240512_Web_Stadsgidserij-Tilburg_event_clean.jpg
END:VEVENT
END:VCALENDAR