BEGIN:VCALENDAR
VERSION:2.0
PRODID:-//TilburgWijzer - ECPv6.15.20//NONSGML v1.0//EN
CALSCALE:GREGORIAN
METHOD:PUBLISH
X-WR-CALNAME:TilburgWijzer
X-ORIGINAL-URL:https://tilburgwijzer.nl
X-WR-CALDESC:Evenementen voor TilburgWijzer
REFRESH-INTERVAL;VALUE=DURATION:PT1H
X-Robots-Tag:noindex
X-PUBLISHED-TTL:PT1H
BEGIN:VTIMEZONE
TZID:Europe/Amsterdam
BEGIN:DAYLIGHT
TZOFFSETFROM:+0100
TZOFFSETTO:+0200
TZNAME:CEST
DTSTART:20250330T010000
END:DAYLIGHT
BEGIN:STANDARD
TZOFFSETFROM:+0200
TZOFFSETTO:+0100
TZNAME:CET
DTSTART:20251026T010000
END:STANDARD
BEGIN:DAYLIGHT
TZOFFSETFROM:+0100
TZOFFSETTO:+0200
TZNAME:CEST
DTSTART:20260329T010000
END:DAYLIGHT
BEGIN:STANDARD
TZOFFSETFROM:+0200
TZOFFSETTO:+0100
TZNAME:CET
DTSTART:20261025T010000
END:STANDARD
BEGIN:DAYLIGHT
TZOFFSETFROM:+0100
TZOFFSETTO:+0200
TZNAME:CEST
DTSTART:20270328T010000
END:DAYLIGHT
BEGIN:STANDARD
TZOFFSETFROM:+0200
TZOFFSETTO:+0100
TZNAME:CET
DTSTART:20271031T010000
END:STANDARD
END:VTIMEZONE
BEGIN:VEVENT
DTSTART;TZID=Europe/Amsterdam:20260425T180000
DTEND;TZID=Europe/Amsterdam:20260425T210000
DTSTAMP:20260425T061241
CREATED:20260223T073853Z
LAST-MODIFIED:20260423T194658Z
UID:170825-1777140000-1777150800@tilburgwijzer.nl
SUMMARY:Maandelijkse avond - Avondje Uit - April 2026
DESCRIPTION:Maandelijkse avond bij Avondje Uit\nIedere maand organiseert Avondje Uit in Tilburg een gezellige maandelijkse avond. Tijdens deze avond wordt eerst samen gegeten\, waarna korte oefeningen worden gedaan om stil te staan bij en te oefenen met social skills. Daarna is er ruimte om samen spelletjes te spelen of te gamen. \nMeekoken en meedoen\nWie mee wil koken tijdens één van de avonden kan een mail sturen naar leander.schuldink@avondjeuit.org. In overleg wordt dan een geschikt moment afgesproken om het eten voor te bereiden. Heb je zelf leuke spelletjes of een gameconsole? Neem deze gerust mee om samen van te genieten. \nProgramma en tijden\n\n18:00 uur: gezamenlijk eten\nAansluitend: social skills bespreken en oefenen\nDaarna: gamen of spelletjes doen\nEinde: 21:00 uur\n\nIedereen is welkom om mee te doen\, mee te koken of gewoon gezellig te komen eten en spelen. Het belooft een leuke\, leerzame en ontspannen avond te worden!
URL:https://tilburgwijzer.nl/evenement/maandelijkse-avond-avondje-uit-april-2026/
CATEGORIES:Jongeren,Ontmoeten
ATTACH;FMTTYPE=image/jpeg:https://tilburgwijzer.nl/wp-content/uploads/2025/03/20241105_Web_Maandelijkse-avond-food-skills-fun-Avondje-Uit-Tilburg_event_clean.jpg
END:VEVENT
END:VCALENDAR