BEGIN:VCALENDAR
VERSION:2.0
PRODID:-//TilburgWijzer - ECPv6.15.20//NONSGML v1.0//EN
CALSCALE:GREGORIAN
METHOD:PUBLISH
X-WR-CALNAME:TilburgWijzer
X-ORIGINAL-URL:https://tilburgwijzer.nl
X-WR-CALDESC:Evenementen voor TilburgWijzer
REFRESH-INTERVAL;VALUE=DURATION:PT1H
X-Robots-Tag:noindex
X-PUBLISHED-TTL:PT1H
BEGIN:VTIMEZONE
TZID:Europe/Amsterdam
BEGIN:DAYLIGHT
TZOFFSETFROM:+0100
TZOFFSETTO:+0200
TZNAME:CEST
DTSTART:20250330T010000
END:DAYLIGHT
BEGIN:STANDARD
TZOFFSETFROM:+0200
TZOFFSETTO:+0100
TZNAME:CET
DTSTART:20251026T010000
END:STANDARD
BEGIN:DAYLIGHT
TZOFFSETFROM:+0100
TZOFFSETTO:+0200
TZNAME:CEST
DTSTART:20260329T010000
END:DAYLIGHT
BEGIN:STANDARD
TZOFFSETFROM:+0200
TZOFFSETTO:+0100
TZNAME:CET
DTSTART:20261025T010000
END:STANDARD
BEGIN:DAYLIGHT
TZOFFSETFROM:+0100
TZOFFSETTO:+0200
TZNAME:CEST
DTSTART:20270328T010000
END:DAYLIGHT
BEGIN:STANDARD
TZOFFSETFROM:+0200
TZOFFSETTO:+0100
TZNAME:CET
DTSTART:20271031T010000
END:STANDARD
END:VTIMEZONE
BEGIN:VEVENT
DTSTART;TZID=Europe/Amsterdam:20260502T193000
DTEND;TZID=Europe/Amsterdam:20260502T215500
DTSTAMP:20260425T032646
CREATED:20251209T155827Z
LAST-MODIFIED:20260414T053928Z
UID:160394-1777750200-1777758900@tilburgwijzer.nl
SUMMARY:Matt Schofield Trio (UK) – PaRaDoX – 2 mei 2026
DESCRIPTION:Matt Schofield terug in Paradox\nNa een eerder uitverkocht concert komt de Britse gitarist Matt Schofield voor de tweede keer naar Paradox in het centrum van Tilburg. Schofield wordt gezien als een van de beste Europese bluesgitaristen van dit moment. Zijn naam prijkt in de British Blues Hall of Fame\, en zijn faam reikt ver buiten Engeland. Vooral zijn King-achtige frasering – geïnspireerd door B.B.\, Freddie en Albert – laat ongekende hoogten horen in langzame nummers. \nBlues\, funk en rock in perfecte balans\nNiet alleen in ballads\, maar ook in funky rocktracks toont Schofield zijn virtuositeit. Luister bijvoorbeeld naar zijn allesversplinterende solo in Black Cat Bone van het livealbum Live From The Archive (2007). Begin 2025 verscheen zijn nieuwe album Many Moons Volume 1\, opgenomen met de originele leden van zijn trio: Hammondspeler Jonny Henderson en drummer Evan Jenkins. \nTournee en live-experience\nDe albumtournee 2025/2026 is in volle gang en brengt het trio wereldwijd op podia. In mei 2026 is Nederland aan de beurt\, inclusief hun optreden in Paradox\, naast shows in Zweden\, Noorwegen\, België\, Duitsland en ten minste twee optredens in Ronnie Scott’s in Londen. Schofield kondigt alvast Many Moons Volume 2 aan en bewijst opnieuw: live-blues is de beste blues. \nLine-up live\n\nMatt Schofield – zang\, gitaar\nJonny Henderson – Hammondorgel\nEvan Jenkins – drums\n\nEen must voor iedere bluesliefhebber: intens\, virtuoos en onweerstaanbaar energiek.
URL:https://tilburgwijzer.nl/evenement/matt-schofield-trio-paradox-tilburg/
CATEGORIES:Blues,Muziek
ATTACH;FMTTYPE=image/jpeg:https://tilburgwijzer.nl/wp-content/uploads/2025/12/20251209_Web_Matt-Schofield-Trio-PaRaDoX-Tilburg_event_clean.jpg
END:VEVENT
END:VCALENDAR