BEGIN:VCALENDAR
VERSION:2.0
PRODID:-//TilburgWijzer - ECPv6.15.20//NONSGML v1.0//EN
CALSCALE:GREGORIAN
METHOD:PUBLISH
X-WR-CALNAME:TilburgWijzer
X-ORIGINAL-URL:https://tilburgwijzer.nl
X-WR-CALDESC:Evenementen voor TilburgWijzer
REFRESH-INTERVAL;VALUE=DURATION:PT1H
X-Robots-Tag:noindex
X-PUBLISHED-TTL:PT1H
BEGIN:VTIMEZONE
TZID:Europe/Amsterdam
BEGIN:DAYLIGHT
TZOFFSETFROM:+0100
TZOFFSETTO:+0200
TZNAME:CEST
DTSTART:20250330T010000
END:DAYLIGHT
BEGIN:STANDARD
TZOFFSETFROM:+0200
TZOFFSETTO:+0100
TZNAME:CET
DTSTART:20251026T010000
END:STANDARD
BEGIN:DAYLIGHT
TZOFFSETFROM:+0100
TZOFFSETTO:+0200
TZNAME:CEST
DTSTART:20260329T010000
END:DAYLIGHT
BEGIN:STANDARD
TZOFFSETFROM:+0200
TZOFFSETTO:+0100
TZNAME:CET
DTSTART:20261025T010000
END:STANDARD
BEGIN:DAYLIGHT
TZOFFSETFROM:+0100
TZOFFSETTO:+0200
TZNAME:CEST
DTSTART:20270328T010000
END:DAYLIGHT
BEGIN:STANDARD
TZOFFSETFROM:+0200
TZOFFSETTO:+0100
TZNAME:CET
DTSTART:20271031T010000
END:STANDARD
END:VTIMEZONE
BEGIN:VEVENT
DTSTART;TZID=Europe/Amsterdam:20260603T110000
DTEND;TZID=Europe/Amsterdam:20260603T120000
DTSTAMP:20260425T014031
CREATED:20251014T144947Z
LAST-MODIFIED:20260212T190611Z
UID:132522-1780484400-1780488000@tilburgwijzer.nl
SUMMARY:Musical4U Kids Eindvoorsteling 2026  -  Factorium Cultuurmakers
DESCRIPTION:Musical4U Kids eindvoorstelling\nEen avond vol zang\, dans en spel! De musicalcursisten van Musical4U Kids staan te stralen op het podium tijdens hun eindvoorstelling bij Factorium Cultuurmakers in Tilburg. Na een jaar vol plezier\, groei en repetities tonen zij vol trots wat ze hebben geleerd. Het belooft een avond te worden vol energie\, muzikaliteit en jonge talenten die het beste van zichzelf laten zien. \nTalent dat straalt op het podium\nTijdens de Musical4U Kids eindvoorstelling komt alles samen wat de leerlingen in het afgelopen seizoen hebben opgebouwd. Van zang en dans tot spel en expressie: elke deelnemer laat zien hoe zij zijn gegroeid. Het podium van Factorium verandert in een bruisend decor waarin kinderen hun creativiteit en zelfvertrouwen laten schitteren. Voor veel jonge performers is dit het moment waar ze het hele jaar naartoe hebben gewerkt – een feestelijke afsluiting van een inspirerend traject vol uitdaging en plezier. \nEen jaar vol groei en plezier\nBij Factorium draait het niet alleen om techniek\, maar ook om het plezier van samen leren en optreden. In de lessen Musical4U Kids worden kinderen op speelse wijze begeleid in zang\, dans en theater. Docenten stimuleren ieder kind om het beste uit zichzelf te halen\, op zijn of haar eigen tempo. Zo ontdekken ze niet alleen hun talent\, maar ook de kracht van samenwerken en optreden voor publiek. \nLaat je verrassen\nDe eindvoorstelling van Musical4U Kids is een ware belevenis voor familie\, vrienden en muziekliefhebbers. Kom genieten van een avond vol vrolijke liedjes\, aanstekelijke choreografieën en ontroerende momenten. Laat je meevoeren door de energie van deze jonge artiesten en beleef hoe muzikaal talent in Tilburg groeit bij Factorium Cultuurmakers.
URL:https://tilburgwijzer.nl/evenement/musical4u-kids-eindvoorsteling-2026-factorium-cultuurmakers/
CATEGORIES:Musical & Muziektheater
ATTACH;FMTTYPE=image/jpeg:https://tilburgwijzer.nl/wp-content/uploads/2025/10/20251014_Web_Musical4U-Kids-Eindvoorsteling-2026-Factorium-Cultuurmakers_event_clean.jpg
END:VEVENT
END:VCALENDAR