BEGIN:VCALENDAR
VERSION:2.0
PRODID:-//TilburgWijzer - ECPv6.15.20//NONSGML v1.0//EN
CALSCALE:GREGORIAN
METHOD:PUBLISH
X-WR-CALNAME:TilburgWijzer
X-ORIGINAL-URL:https://tilburgwijzer.nl
X-WR-CALDESC:Evenementen voor TilburgWijzer
REFRESH-INTERVAL;VALUE=DURATION:PT1H
X-Robots-Tag:noindex
X-PUBLISHED-TTL:PT1H
BEGIN:VTIMEZONE
TZID:Europe/Amsterdam
BEGIN:DAYLIGHT
TZOFFSETFROM:+0100
TZOFFSETTO:+0200
TZNAME:CEST
DTSTART:20250330T010000
END:DAYLIGHT
BEGIN:STANDARD
TZOFFSETFROM:+0200
TZOFFSETTO:+0100
TZNAME:CET
DTSTART:20251026T010000
END:STANDARD
BEGIN:DAYLIGHT
TZOFFSETFROM:+0100
TZOFFSETTO:+0200
TZNAME:CEST
DTSTART:20260329T010000
END:DAYLIGHT
BEGIN:STANDARD
TZOFFSETFROM:+0200
TZOFFSETTO:+0100
TZNAME:CET
DTSTART:20261025T010000
END:STANDARD
BEGIN:DAYLIGHT
TZOFFSETFROM:+0100
TZOFFSETTO:+0200
TZNAME:CEST
DTSTART:20270328T010000
END:DAYLIGHT
BEGIN:STANDARD
TZOFFSETFROM:+0200
TZOFFSETTO:+0100
TZNAME:CET
DTSTART:20271031T010000
END:STANDARD
END:VTIMEZONE
BEGIN:VEVENT
DTSTART;TZID=Europe/Amsterdam:20260612T110000
DTEND;TZID=Europe/Amsterdam:20260612T120000
DTSTAMP:20260425T163344
CREATED:20251014T144956Z
LAST-MODIFIED:20260212T190611Z
UID:132524-1781262000-1781265600@tilburgwijzer.nl
SUMMARY:MusicAllFactory Volwassenen Eindvoorstelling 2026  -  Factorium Cultuurmakers - 12 Juni 2026
DESCRIPTION:Musical4U Volwassenen eindvoorstelling\nEen avond vol zang\, dans en spel bij Factorium Cultuurmakers in Tilburg! De musicalcursisten van Musical4U Volwassenen schitteren tijdens hun eindvoorstelling en laten zien wat zij het afgelopen jaar hebben geleerd. Met een mix van enthousiasme\, energie en muzikaal talent belooft het een onvergetelijke avond te worden. \nPlezier en groei op het podium\nDe deelnemers hebben een jaar lang gewerkt aan hun zang-\, dans- en spelvaardigheden. Tijdens de voorstelling komen alle technieken samen in dynamische optredens en indrukwekkende scènes. Van solonummers tot ensembleacts\, elke performance laat de creativiteit en inzet van de cursisten zien. \nSamenwerking en persoonlijke ontwikkeling\nBij Factorium Cultuurmakers staat persoonlijke groei centraal. De cursisten leren niet alleen hun talenten ontwikkelen\, maar ook samenwerken\, improviseren en zelfvertrouwen opbouwen. Ervaren docenten begeleiden hen\, zodat iedere deelnemer zijn of haar unieke stem en expressie kan ontdekken en op het podium kan laten zien. \nEen avond om niet te missen\nDe Musical4U Volwassenen eindvoorstelling is een feest van muziek\, dans en theater. Kom genieten van een inspirerende show vol energie\, creativiteit en passie en ervaar hoe volwassen talent tot leven komt bij Factorium Cultuurmakers in Tilburg.
URL:https://tilburgwijzer.nl/evenement/musicallfactory-volwassenen-eindvoorstelling-2026-factorium-cultuurmakers-12-juni-2026/
CATEGORIES:Musical & Muziektheater
ATTACH;FMTTYPE=image/jpeg:https://tilburgwijzer.nl/wp-content/uploads/2025/10/20251014_Web_MusicAllFactory-Volwassenen-Eindvoorstelling-2026-Factorium-Cultuurmakers_event_clean.jpg
END:VEVENT
END:VCALENDAR