BEGIN:VCALENDAR
VERSION:2.0
PRODID:-//TilburgWijzer - ECPv6.15.20//NONSGML v1.0//EN
CALSCALE:GREGORIAN
METHOD:PUBLISH
X-WR-CALNAME:TilburgWijzer
X-ORIGINAL-URL:https://tilburgwijzer.nl
X-WR-CALDESC:Evenementen voor TilburgWijzer
REFRESH-INTERVAL;VALUE=DURATION:PT1H
X-Robots-Tag:noindex
X-PUBLISHED-TTL:PT1H
BEGIN:VTIMEZONE
TZID:Europe/Amsterdam
BEGIN:DAYLIGHT
TZOFFSETFROM:+0100
TZOFFSETTO:+0200
TZNAME:CEST
DTSTART:20250330T010000
END:DAYLIGHT
BEGIN:STANDARD
TZOFFSETFROM:+0200
TZOFFSETTO:+0100
TZNAME:CET
DTSTART:20251026T010000
END:STANDARD
BEGIN:DAYLIGHT
TZOFFSETFROM:+0100
TZOFFSETTO:+0200
TZNAME:CEST
DTSTART:20260329T010000
END:DAYLIGHT
BEGIN:STANDARD
TZOFFSETFROM:+0200
TZOFFSETTO:+0100
TZNAME:CET
DTSTART:20261025T010000
END:STANDARD
BEGIN:DAYLIGHT
TZOFFSETFROM:+0100
TZOFFSETTO:+0200
TZNAME:CEST
DTSTART:20270328T010000
END:DAYLIGHT
BEGIN:STANDARD
TZOFFSETFROM:+0200
TZOFFSETTO:+0100
TZNAME:CET
DTSTART:20271031T010000
END:STANDARD
END:VTIMEZONE
BEGIN:VEVENT
DTSTART;TZID=Europe/Amsterdam:20260613T110000
DTEND;TZID=Europe/Amsterdam:20260613T120000
DTSTAMP:20260425T000512
CREATED:20251014T144957Z
LAST-MODIFIED:20260212T190611Z
UID:132525-1781348400-1781352000@tilburgwijzer.nl
SUMMARY:MusicAllFactory Volwassenen Eindvoorstelling 2026  -  Factorium Cultuurmakers - 13 Juni 2026
DESCRIPTION:Musical4U Volwassenen eindvoorstelling\nEen avond vol zang\, dans en spel bij Factorium Cultuurmakers in Tilburg! De musicalcursisten van Musical4U Volwassenen stralen op het podium tijdens hun eindvoorstelling. Na een jaar vol lessen\, repetities en groei laten zij met trots zien wat ze hebben bereikt. Het wordt een avond vol energie\, talent en enthousiasme. \nTalent in actie\nTijdens de voorstelling komen de zang-\, dans- en spelvaardigheden van de cursisten volledig tot hun recht. Van indrukwekkende solopartijen tot dynamische groepsoptredens: elke act toont de inzet\, creativiteit en passie van de deelnemers. Het publiek wordt meegenomen in een sprankelende show vol variatie en muzikaal plezier. \nLeren en samenwerken\nBij Factorium Cultuurmakers staat persoonlijke ontwikkeling centraal. De cursisten leren samenwerken\, hun zelfvertrouwen te vergroten en hun artistieke expressie te ontwikkelen. Onder begeleiding van ervaren docenten ontdekken ze hun eigen stem en brengen die tot leven op het podium\, wat zorgt voor authentieke en krachtige optredens. \nEen avond vol musicalmagie\nDe Musical4U Volwassenen eindvoorstelling is een feest voor muziekliefhebbers en theaterfans. Kom genieten van een avond vol creativiteit\, passie en podiumenergie en laat je verrassen door het talent van deze volwassen performers bij Factorium Cultuurmakers in Tilburg.
URL:https://tilburgwijzer.nl/evenement/musicallfactory-volwassenen-eindvoorstelling-2026-factorium-cultuurmakers-13-juni-2026/
CATEGORIES:Musical & Muziektheater
ATTACH;FMTTYPE=image/jpeg:https://tilburgwijzer.nl/wp-content/uploads/2025/10/20251014_Web_MusicAllFactory-Volwassenen-Eindvoorstelling-2026-Factorium-Cultuurmakers_event_clean.jpg
END:VEVENT
END:VCALENDAR