BEGIN:VCALENDAR
VERSION:2.0
PRODID:-//TilburgWijzer - ECPv6.15.20//NONSGML v1.0//EN
CALSCALE:GREGORIAN
METHOD:PUBLISH
X-WR-CALNAME:TilburgWijzer
X-ORIGINAL-URL:https://tilburgwijzer.nl
X-WR-CALDESC:Evenementen voor TilburgWijzer
REFRESH-INTERVAL;VALUE=DURATION:PT1H
X-Robots-Tag:noindex
X-PUBLISHED-TTL:PT1H
BEGIN:VTIMEZONE
TZID:Europe/Amsterdam
BEGIN:DAYLIGHT
TZOFFSETFROM:+0100
TZOFFSETTO:+0200
TZNAME:CEST
DTSTART:20250330T010000
END:DAYLIGHT
BEGIN:STANDARD
TZOFFSETFROM:+0200
TZOFFSETTO:+0100
TZNAME:CET
DTSTART:20251026T010000
END:STANDARD
BEGIN:DAYLIGHT
TZOFFSETFROM:+0100
TZOFFSETTO:+0200
TZNAME:CEST
DTSTART:20260329T010000
END:DAYLIGHT
BEGIN:STANDARD
TZOFFSETFROM:+0200
TZOFFSETTO:+0100
TZNAME:CET
DTSTART:20261025T010000
END:STANDARD
BEGIN:DAYLIGHT
TZOFFSETFROM:+0100
TZOFFSETTO:+0200
TZNAME:CEST
DTSTART:20270328T010000
END:DAYLIGHT
BEGIN:STANDARD
TZOFFSETFROM:+0200
TZOFFSETTO:+0100
TZNAME:CET
DTSTART:20271031T010000
END:STANDARD
END:VTIMEZONE
BEGIN:VEVENT
DTSTART;TZID=Europe/Amsterdam:20260424T100000
DTEND;TZID=Europe/Amsterdam:20260424T113000
DTSTAMP:20260424T225312
CREATED:20250117T140259Z
LAST-MODIFIED:20260223T094102Z
UID:74450-1777024800-1777030200@tilburgwijzer.nl
SUMMARY:Natuurbelevingswandeling - Den Rijacker - 24 april 2026
DESCRIPTION:Gratis wandeling bij Den Rijacker\nIedere vrijdag kun je bij Den Rijacker deelnemen aan een gratis wandeling van ongeveer een uur. Tijdens deze wandeling ontdek je de wijknatuur en doe je een kleine ontspanningsoefening onder begeleiding van een ervaren wandelcoach. \nStartpunt en gezellig nagenieten\nWe starten bij de tuin van Restaurant Giardino aan de Huibevendreef\, of via de ingang naast de Reeshofdijk. Na de wandeling is er gelegenheid om samen een kop koffie of thee te drinken en even na te praten. \nAfwisselende routes door de natuur\nDe wandelingen voeren door het Reeshofbos en het achterliggende Stadsbos013\, een van de meest gevarieerde bossen in Tilburg. Je komt langs dichtbegroeide paden\, open heidevelden\, weilanden met stroompjes en waterpartijen. Elke route biedt nieuwe uitzichten en verrassende natuurelementen. \nWandelcoaches en unieke ervaringen\nDe wandelingen worden begeleid door wandelcoaches zoals Klaudi Asbreuk\, Ira Louwe\, Annemieke van Groes\, Paul van de Velden en Piet van Beurden. Iedere coach heeft zijn of haar eigen visie en manier van gezond natuurwandelen\, waardoor elke week een unieke ervaring biedt. \nMeer informatie\nWil je meer weten over de wandelingen bij Den Rijacker? Stuur een e-mail naar info@denrijacker.nl voor alle details en actuele informatie. \nKom iedere vrijdag genieten van natuur\, beweging en ontspanning bij Den Rijacker!
URL:https://tilburgwijzer.nl/evenement/natuurbelevingswandeling-den-rijacker-24-april-2026/
CATEGORIES:Gratis,Kunst & Cultuur,Natuur,Wandelingen
ATTACH;FMTTYPE=image/jpeg:https://tilburgwijzer.nl/wp-content/uploads/2025/01/20250117_Web_Natuurwandeling-Giardino-dItalia_clean.jpg
END:VEVENT
END:VCALENDAR