BEGIN:VCALENDAR
VERSION:2.0
PRODID:-//TilburgWijzer - ECPv6.15.20//NONSGML v1.0//EN
CALSCALE:GREGORIAN
METHOD:PUBLISH
X-WR-CALNAME:TilburgWijzer
X-ORIGINAL-URL:https://tilburgwijzer.nl
X-WR-CALDESC:Evenementen voor TilburgWijzer
REFRESH-INTERVAL;VALUE=DURATION:PT1H
X-Robots-Tag:noindex
X-PUBLISHED-TTL:PT1H
BEGIN:VTIMEZONE
TZID:Europe/Amsterdam
BEGIN:DAYLIGHT
TZOFFSETFROM:+0100
TZOFFSETTO:+0200
TZNAME:CEST
DTSTART:20240331T010000
END:DAYLIGHT
BEGIN:STANDARD
TZOFFSETFROM:+0200
TZOFFSETTO:+0100
TZNAME:CET
DTSTART:20241027T010000
END:STANDARD
BEGIN:DAYLIGHT
TZOFFSETFROM:+0100
TZOFFSETTO:+0200
TZNAME:CEST
DTSTART:20250330T010000
END:DAYLIGHT
BEGIN:STANDARD
TZOFFSETFROM:+0200
TZOFFSETTO:+0100
TZNAME:CET
DTSTART:20251026T010000
END:STANDARD
BEGIN:DAYLIGHT
TZOFFSETFROM:+0100
TZOFFSETTO:+0200
TZNAME:CEST
DTSTART:20260329T010000
END:DAYLIGHT
BEGIN:STANDARD
TZOFFSETFROM:+0200
TZOFFSETTO:+0100
TZNAME:CET
DTSTART:20261025T010000
END:STANDARD
END:VTIMEZONE
BEGIN:VEVENT
DTSTART;TZID=Europe/Amsterdam:20250208T100000
DTEND;TZID=Europe/Amsterdam:20250209T180000
DTSTAMP:20260424T183818
CREATED:20241227T190027Z
LAST-MODIFIED:20251201T104148Z
UID:64761-1739008800-1739124000@tilburgwijzer.nl
SUMMARY:Nederlands Kampioenschap Freerunning Speed 2025
DESCRIPTION:Op zaterdag 8 en zondag 9 februari organiseren JUMP Freerun en Dutch Parkour het officiële Nederlands Kampioenschap Freerunning. Deze spannende competitie\, die de naam ‘SPEED’ draagt\, biedt een platform voor de snelste freerunners van Nederland om hun snelheid en vaardigheden te testen in een directe strijd om de titel van Nederlands Kampioen Freerunning SPEED. \nSnelheid en techniek\nFreerunning is een sport die draait om snelheid\, techniek en creativiteit. In de ‘SPEED’ competitie staat snelheid centraal\, waarbij deelnemers een parcours zo snel mogelijk moeten afleggen. Dit evenement trekt de topatleten uit het land\, zowel in de categorieën heren als dames\, die strijden om de felbegeerde titel en het podium. Het belooft een spectaculair schouwspel te worden\, waarbij de grenzen van fysieke prestaties worden verlegd. \nIedereen kan meedoen\nDit Nederlands Kampioenschap is open voor zowel junioren als senioren. De junioren\, in de leeftijd van 12 tot en met 15 jaar\, kunnen zich meten met hun leeftijdsgenoten\, terwijl senioren vanaf 16 jaar en ouder ook kans maken op de titel. Of je nu een ervaren freerunner bent of pas net begint\, er is altijd ruimte voor nieuwe talenten om te laten zien wat ze kunnen. \nKom kijken of doe mee\nOf je nu zelf deel wilt nemen aan de competitie of gewoon als toeschouwer wilt genieten van het spektakel\, dit evenement is voor iedereen toegankelijk. Het is een geweldige kans om de beste freerunners van Nederland in actie te zien en te ontdekken wie zich dit jaar tot Nederlands Kampioen kroont. Dus zet de data in je agenda en mis dit unieke evenement niet!
URL:https://tilburgwijzer.nl/evenement/nederlands-kampioenschap-freerunning-speed/
CATEGORIES:Sport,Sport overig
ATTACH;FMTTYPE=image/jpeg:https://tilburgwijzer.nl/wp-content/uploads/2024/12/20241226_Web_Nederlands-Kampioenschap-Freerunning-Speed_clean.jpg
END:VEVENT
END:VCALENDAR