BEGIN:VCALENDAR
VERSION:2.0
PRODID:-//TilburgWijzer - ECPv6.15.20//NONSGML v1.0//EN
CALSCALE:GREGORIAN
METHOD:PUBLISH
X-WR-CALNAME:TilburgWijzer
X-ORIGINAL-URL:https://tilburgwijzer.nl
X-WR-CALDESC:Evenementen voor TilburgWijzer
REFRESH-INTERVAL;VALUE=DURATION:PT1H
X-Robots-Tag:noindex
X-PUBLISHED-TTL:PT1H
BEGIN:VTIMEZONE
TZID:Europe/Amsterdam
BEGIN:DAYLIGHT
TZOFFSETFROM:+0100
TZOFFSETTO:+0200
TZNAME:CEST
DTSTART:20250330T010000
END:DAYLIGHT
BEGIN:STANDARD
TZOFFSETFROM:+0200
TZOFFSETTO:+0100
TZNAME:CET
DTSTART:20251026T010000
END:STANDARD
BEGIN:DAYLIGHT
TZOFFSETFROM:+0100
TZOFFSETTO:+0200
TZNAME:CEST
DTSTART:20260329T010000
END:DAYLIGHT
BEGIN:STANDARD
TZOFFSETFROM:+0200
TZOFFSETTO:+0100
TZNAME:CET
DTSTART:20261025T010000
END:STANDARD
BEGIN:DAYLIGHT
TZOFFSETFROM:+0100
TZOFFSETTO:+0200
TZNAME:CEST
DTSTART:20270328T010000
END:DAYLIGHT
BEGIN:STANDARD
TZOFFSETFROM:+0200
TZOFFSETTO:+0100
TZNAME:CET
DTSTART:20271031T010000
END:STANDARD
END:VTIMEZONE
BEGIN:VEVENT
DTSTART;TZID=Europe/Amsterdam:20260512T160000
DTEND;TZID=Europe/Amsterdam:20260513T020000
DTSTAMP:20260424T183936
CREATED:20240621T192511Z
LAST-MODIFIED:20260423T182553Z
UID:11033-1778601600-1778637600@tilburgwijzer.nl
SUMMARY:Night University Tilburg 2026
DESCRIPTION:Ontdek wetenschap op Night University\nOp 12 mei opent Tilburg University haar deuren voor iedereen die nieuwsgierig is naar wetenschap. Tijdens Night University verandert de campus in een bruisende plek vol kennis\, creativiteit en beleving. Bezoekers van alle leeftijden worden uitgenodigd om wetenschap op een toegankelijke en interactieve manier te ervaren. \nAls de nacht valt\, ontstaat er ruimte voor vragen die verder gaan dan de waan van de dag. Je hebt tijd om te reflecteren en te ontdekken. Voor vragen die je om negen uur ’s ochtends niet zo snel zou stellen. \nTijdens campus- en wetenschapsfestival Night University opent Tilburg University zijn deuren voor de stad\, met experimenten die tot leven komen zodra de schemering valt. Een moment om je te verdiepen in de thema’s die spelen in onze samenleving en nieuwe perspectieven te omarmen. \nStap in de nacht en ontdek het bruisende campusleven met verrassende ontmoetingen en nieuwe inzichten van onze wetenschappers. Laat je verbazen door inspirerende talks\, workshops\, experimenten en optredens. Ontdek Night University en ervaar hoe kennis je wakker houdt
URL:https://tilburgwijzer.nl/evenement/night-university-tilburg/
CATEGORIES:Kunst & Cultuur,Lezing & Debat
ATTACH;FMTTYPE=image/jpeg:https://tilburgwijzer.nl/wp-content/uploads/2025/03/20220519_Web_Night-University-Tilburg_event_clean.jpg
END:VEVENT
END:VCALENDAR