BEGIN:VCALENDAR
VERSION:2.0
PRODID:-//TilburgWijzer - ECPv6.15.20//NONSGML v1.0//EN
CALSCALE:GREGORIAN
METHOD:PUBLISH
X-WR-CALNAME:TilburgWijzer
X-ORIGINAL-URL:https://tilburgwijzer.nl
X-WR-CALDESC:Evenementen voor TilburgWijzer
REFRESH-INTERVAL;VALUE=DURATION:PT1H
X-Robots-Tag:noindex
X-PUBLISHED-TTL:PT1H
BEGIN:VTIMEZONE
TZID:Europe/Amsterdam
BEGIN:DAYLIGHT
TZOFFSETFROM:+0100
TZOFFSETTO:+0200
TZNAME:CEST
DTSTART:20240331T010000
END:DAYLIGHT
BEGIN:STANDARD
TZOFFSETFROM:+0200
TZOFFSETTO:+0100
TZNAME:CET
DTSTART:20241027T010000
END:STANDARD
BEGIN:DAYLIGHT
TZOFFSETFROM:+0100
TZOFFSETTO:+0200
TZNAME:CEST
DTSTART:20250330T010000
END:DAYLIGHT
BEGIN:STANDARD
TZOFFSETFROM:+0200
TZOFFSETTO:+0100
TZNAME:CET
DTSTART:20251026T010000
END:STANDARD
BEGIN:DAYLIGHT
TZOFFSETFROM:+0100
TZOFFSETTO:+0200
TZNAME:CEST
DTSTART:20260329T010000
END:DAYLIGHT
BEGIN:STANDARD
TZOFFSETFROM:+0200
TZOFFSETTO:+0100
TZNAME:CET
DTSTART:20261025T010000
END:STANDARD
END:VTIMEZONE
BEGIN:VEVENT
DTSTART;TZID=Europe/Amsterdam:20250603T193000
DTEND;TZID=Europe/Amsterdam:20250603T210000
DTSTAMP:20260425T005423
CREATED:20250528T070816Z
LAST-MODIFIED:20260112T192728Z
UID:99853-1748979000-1748984400@tilburgwijzer.nl
SUMMARY:Nu en in de toekomst: leer meer over AI en ChatGPT - Bibliotheek Heyhoef
DESCRIPTION:Leer meer over AI en ChatGPT in Bibliotheek Heyhoef\nKunstmatige intelligentie (AI) is niet meer weg te denken uit ons dagelijks leven. Denk aan jongeren die hun werkstukken laten schrijven met ChatGPT\, acteurs die vrezen voor hun baan\, maar ook aan patiënten die sneller geholpen worden dankzij slimme technologie. AI roept veel vragen op: wat betekent deze ontwikkeling voor jou? \nNep of echt?\nTegenwoordig kunnen foto’s\, stemmen en teksten razendsnel worden nagebootst door AI. Het wordt daardoor steeds moeilijker om echt van nep te onderscheiden. Tegelijkertijd biedt AI ook enorme kansen. Van efficiëntere zorg tot creatieve toepassingen – de mogelijkheden zijn eindeloos. Wil jij leren hoe je AI kunt herkennen\, begrijpen én gebruiken? Kom dan naar de gratis informatiebijeenkomst over kunstmatige intelligentie in Bibliotheek Heyhoef in Tilburg. \nGratis bijeenkomst over kunstmatige intelligentie\nTijdens deze bijeenkomst leer je op een toegankelijke manier meer over wat AI precies is\, hoe tools zoals ChatGPT werken\, en hoe je jezelf kunt wapenen tegen misbruik of misleiding. Maar ook: hoe je AI juist slim kunt inzetten voor school\, werk of dagelijks leven. Iedereen is welkom\, voorkennis is niet nodig. \nActiviteiten over AI in 2025\nIn 2025 organiseert de Bibliotheek Midden-Brabant verschillende activiteiten rondom kunstmatige intelligentie. \nOntdek de wereld van AI – begrijp wat er speelt\, en leer hoe jij mee kunt bewegen met de technologie van de toekomst.
URL:https://tilburgwijzer.nl/evenement/nu-en-in-de-toekomst-leer-meer-over-ai-en-chatgpt-bibliotheek-heyhoef/
CATEGORIES:Computer cursussen,Cursussen & Workshops,Kunst & Cultuur,Lezing & Debat
ATTACH;FMTTYPE=image/jpeg:https://tilburgwijzer.nl/wp-content/uploads/2025/01/20241011_Web_Nu-en-in-de-toekomst-leer-meer-over-AI-en-ChatGPT_clean.jpg
END:VEVENT
END:VCALENDAR