BEGIN:VCALENDAR
VERSION:2.0
PRODID:-//TilburgWijzer - ECPv6.15.20//NONSGML v1.0//EN
CALSCALE:GREGORIAN
METHOD:PUBLISH
X-WR-CALNAME:TilburgWijzer
X-ORIGINAL-URL:https://tilburgwijzer.nl
X-WR-CALDESC:Evenementen voor TilburgWijzer
REFRESH-INTERVAL;VALUE=DURATION:PT1H
X-Robots-Tag:noindex
X-PUBLISHED-TTL:PT1H
BEGIN:VTIMEZONE
TZID:Europe/Amsterdam
BEGIN:DAYLIGHT
TZOFFSETFROM:+0100
TZOFFSETTO:+0200
TZNAME:CEST
DTSTART:20250330T010000
END:DAYLIGHT
BEGIN:STANDARD
TZOFFSETFROM:+0200
TZOFFSETTO:+0100
TZNAME:CET
DTSTART:20251026T010000
END:STANDARD
BEGIN:DAYLIGHT
TZOFFSETFROM:+0100
TZOFFSETTO:+0200
TZNAME:CEST
DTSTART:20260329T010000
END:DAYLIGHT
BEGIN:STANDARD
TZOFFSETFROM:+0200
TZOFFSETTO:+0100
TZNAME:CET
DTSTART:20261025T010000
END:STANDARD
BEGIN:DAYLIGHT
TZOFFSETFROM:+0100
TZOFFSETTO:+0200
TZNAME:CEST
DTSTART:20270328T010000
END:DAYLIGHT
BEGIN:STANDARD
TZOFFSETFROM:+0200
TZOFFSETTO:+0100
TZNAME:CET
DTSTART:20271031T010000
END:STANDARD
END:VTIMEZONE
BEGIN:VEVENT
DTSTART;TZID=Europe/Amsterdam:20260626T200000
DTEND;TZID=Europe/Amsterdam:20260626T213000
DTSTAMP:20260424T225439
CREATED:20251202T124758Z
LAST-MODIFIED:20260415T085306Z
UID:158790-1782504000-1782509400@tilburgwijzer.nl
SUMMARY:ODE aan de OPERA - Francis van Broekhuizen ontmoet Koninklijk Tilburgs Mannenkoor - 26 juni 2026 - schouwburg concertzaal Tilburg
DESCRIPTION:Operamuziek en koor\nIn de Concertzaal in het centrum van Tilburg geniet je van prachtige operafragmenten en indrukwekkende koormuziek. Zowel een mannenkoor als een gemengd koor treden op\, samen met een fantastische sopraan en een professioneel orkest onder leiding van dirigent Amin Amel Ebrahimi. Bekende werken van Verdi\, Bellini\, Puccini\, Mozart en anderen passeren de revue\, waarbij Francis van Broekhuizen de stukken op haar eigen\, eigengereide wijze inleidt. \nFrancis van Broekhuizen\nFrancis van Broekhuizen is een van de meest veelzijdige en geliefde sopranen van Nederland. Ze combineert indrukwekkend zangtalent met een ontwapenende podiumpersoonlijkheid. Naast haar zangcarrière is ze bekend van televisie\, haar boek en het theaterprogramma Schandalig mooie opera. Tijdens dit concert presenteert ze het programma en treedt ze op als soliste. \nKoninklijk Tilburgs Mannenkoor Sint Caecilia\nHet Koninklijk Tilburgs Mannenkoor Sint Caecilia viert binnenkort hun 150-jarig jubileum en presenteert een uitdagend concert met operamuziek voor mannenkoor. Samen met partners in de Concertzaal laten de ervaren zangers het publiek genieten van klassieke opera’s. \nAmin Amel Ebrahimi\nAmin Amel Ebrahimi\, geboren in 1997 en sinds januari 2024 dirigent van het Mannenkoor\, combineert zijn Perzische achtergrond met een frisse kijk op klassieke muziek. Hij is actief als dirigent en componist op podia in binnen- en buitenland\, waaronder het Concertgebouw in Amsterdam en de Philharmonie de Paris. \nZuid-Nederlands Opera & Operettekoor Wilhelmina\nHet Stichting Zuid-Nederlands Opera & Operettekoor Wilhelmina uit Breda houdt de traditie van opera en operette levend en maakt deze muziek toegankelijk voor een breed publiek. \nBrabant Chamber Orchestra\nHet Brabant Chamber Orchestra is een collectief van jonge internationale musici en combineert klassieke traditie met innovatie. Hun optredens zijn meeslepend en brengen klassieke muziek op een frisse\, eigentijdse manier tot leven.
URL:https://tilburgwijzer.nl/evenement/ode-aan-de-opera-schouwburg-concertzaal-tilburg/
CATEGORIES:Muziek,Opera
ATTACH;FMTTYPE=image/jpeg:https://tilburgwijzer.nl/wp-content/uploads/2025/12/20251202_Web_ODE-aan-de-OPERA-Schouwburg-Concertzaal-Tilburg_event_clean.jpg
END:VEVENT
END:VCALENDAR