BEGIN:VCALENDAR
VERSION:2.0
PRODID:-//TilburgWijzer - ECPv6.15.20//NONSGML v1.0//EN
CALSCALE:GREGORIAN
METHOD:PUBLISH
X-WR-CALNAME:TilburgWijzer
X-ORIGINAL-URL:https://tilburgwijzer.nl
X-WR-CALDESC:Evenementen voor TilburgWijzer
REFRESH-INTERVAL;VALUE=DURATION:PT1H
X-Robots-Tag:noindex
X-PUBLISHED-TTL:PT1H
BEGIN:VTIMEZONE
TZID:Europe/Amsterdam
BEGIN:DAYLIGHT
TZOFFSETFROM:+0100
TZOFFSETTO:+0200
TZNAME:CEST
DTSTART:20250330T010000
END:DAYLIGHT
BEGIN:STANDARD
TZOFFSETFROM:+0200
TZOFFSETTO:+0100
TZNAME:CET
DTSTART:20251026T010000
END:STANDARD
BEGIN:DAYLIGHT
TZOFFSETFROM:+0100
TZOFFSETTO:+0200
TZNAME:CEST
DTSTART:20260329T010000
END:DAYLIGHT
BEGIN:STANDARD
TZOFFSETFROM:+0200
TZOFFSETTO:+0100
TZNAME:CET
DTSTART:20261025T010000
END:STANDARD
BEGIN:DAYLIGHT
TZOFFSETFROM:+0100
TZOFFSETTO:+0200
TZNAME:CEST
DTSTART:20270328T010000
END:DAYLIGHT
BEGIN:STANDARD
TZOFFSETFROM:+0200
TZOFFSETTO:+0100
TZNAME:CET
DTSTART:20271031T010000
END:STANDARD
END:VTIMEZONE
BEGIN:VEVENT
DTSTART;TZID=Europe/Amsterdam:20260514T193000
DTEND;TZID=Europe/Amsterdam:20260514T223000
DTSTAMP:20260424T225312
CREATED:20251210T132945Z
LAST-MODIFIED:20260423T190159Z
UID:160570-1778787000-1778797800@tilburgwijzer.nl
SUMMARY:Parker Millsap – 013 Poppodium – 14 mei 2026
DESCRIPTION:Parker Millsap in 013\nDe uit Purcell\, Oklahoma afkomstige Parker Millsap staat bekend om zijn innemende liveoptredens\, soulvolle sound en verhalende nummers. Met inmiddels zes albums op zak brengt deze singer-songwriter en multi-instrumentalist een unieke mix van americana\, folk en rauwe rock’n’roll. Zijn muziek klinkt tegelijk traditioneel en opvallend modern\, waarbij elk nummer voelt als een short film: gevuld met kleurrijke personages\, geloofsconflicten\, schurende liefdes en stoffige landschappen die je zo voor je ziet. \nEen artiest met hoogtepunten\nDe afgelopen jaren beleefde Millsap meerdere mijlpalen. Zo maakte hij zijn late-night tv-debuut bij het programma Conan\, stond hij met Elton John op het podium tijdens het Apple Music Festival in Londen\, nam hij een sessie op voor Austin City Limits en werd hij door de Americana Music Association genomineerd voor Album van het Jaar. Zijn werk werd bovendien geprezen door onder meer The New York Times\, Boston Globe\, LA Times\, Austin Chronicle en Rolling Stone. \nMis zijn show niet in Tilburg\nMet zijn indrukwekkende stem\, krachtige verhalen en onmiskenbare podiumenergie belooft Parker Millsap een avond die je raakt en blijft hangen. Mis zijn show in het 013 Poppodium in het hart van Tilburg niet.
URL:https://tilburgwijzer.nl/evenement/parker-millsap-013-poppodium-x-paradox/
CATEGORIES:Americana,Muziek,Rock
ATTACH;FMTTYPE=image/jpeg:https://tilburgwijzer.nl/wp-content/uploads/2025/12/20251210_Web_Parker-Millsap-013-Poppodium-x-Paradox_event_clean.jpg
END:VEVENT
END:VCALENDAR