BEGIN:VCALENDAR
VERSION:2.0
PRODID:-//TilburgWijzer - ECPv6.15.20//NONSGML v1.0//EN
CALSCALE:GREGORIAN
METHOD:PUBLISH
X-WR-CALNAME:TilburgWijzer
X-ORIGINAL-URL:https://tilburgwijzer.nl
X-WR-CALDESC:Evenementen voor TilburgWijzer
REFRESH-INTERVAL;VALUE=DURATION:PT1H
X-Robots-Tag:noindex
X-PUBLISHED-TTL:PT1H
BEGIN:VTIMEZONE
TZID:Europe/Amsterdam
BEGIN:DAYLIGHT
TZOFFSETFROM:+0100
TZOFFSETTO:+0200
TZNAME:CEST
DTSTART:20250330T010000
END:DAYLIGHT
BEGIN:STANDARD
TZOFFSETFROM:+0200
TZOFFSETTO:+0100
TZNAME:CET
DTSTART:20251026T010000
END:STANDARD
BEGIN:DAYLIGHT
TZOFFSETFROM:+0100
TZOFFSETTO:+0200
TZNAME:CEST
DTSTART:20260329T010000
END:DAYLIGHT
BEGIN:STANDARD
TZOFFSETFROM:+0200
TZOFFSETTO:+0100
TZNAME:CET
DTSTART:20261025T010000
END:STANDARD
BEGIN:DAYLIGHT
TZOFFSETFROM:+0100
TZOFFSETTO:+0200
TZNAME:CEST
DTSTART:20270328T010000
END:DAYLIGHT
BEGIN:STANDARD
TZOFFSETFROM:+0200
TZOFFSETTO:+0100
TZNAME:CET
DTSTART:20271031T010000
END:STANDARD
END:VTIMEZONE
BEGIN:VEVENT
DTSTART;TZID=Europe/Amsterdam:20260608T190000
DTEND;TZID=Europe/Amsterdam:20260608T210000
DTSTAMP:20260425T011559
CREATED:20251203T183647Z
LAST-MODIFIED:20260212T190631Z
UID:159236-1780945200-1780952400@tilburgwijzer.nl
SUMMARY:POPCORN Social Club -  8 Juni 2026
DESCRIPTION:Doe mee met POPCORN Social Club\nBen jij een jongere die graag creatieve en culturele activiteiten doet? POPCORN Social Club bij het Factorium in het centrum van Tilburg is de plek waar je samen kunt komen met andere jongeren en je talenten kunt ontdekken. Het programma is speciaal voor jongeren met een verstandelijke beperking\, maar ook jongeren met een ontwikkelingsstoornis zoals ADHD\, autisme of een andere diagnose zijn van harte welkom. \nCreatieve activiteiten voor iedereen\nBij POPCORN Social Club kun je meedoen aan een breed scala aan activiteiten: \n\nKnutselen van decor en attributen voor de POPCORN-voorstelling\nSamen films kijken en scènes naspelen\nMuziek maken en dansen\nWorkshops zoals Puppetry (poppenkunst)\n\nElke keer is er iets nieuws te beleven. Het draait niet alleen om kunst en cultuur\, maar ook om gezelligheid en verbinding met andere jongeren. \nOntmoeten\, ontdekken en ontwikkelen\nPOPCORN Social Club is een vaste ontmoetingsplek waar jongeren elkaar maandelijks kunnen zien. Het is een veilige en leuke omgeving om kennis te maken met kunst en cultuur en om je eigen talent verder te ontwikkelen. Bovendien is het een broedplaats voor nieuw talent voor POPCORN de Show. \nWil je meedoen en samen creatief aan de slag? POPCORN Social Club biedt een plek waar plezier\, kunst en persoonlijke ontwikkeling hand in hand gaan.
URL:https://tilburgwijzer.nl/evenement/popcorn-social-club-8-juni-2026/
CATEGORIES:Cursussen & Workshops,Kunst & Cultuur,Ontmoeten
ATTACH;FMTTYPE=image/jpeg:https://tilburgwijzer.nl/wp-content/uploads/2025/12/20251203_Web_POPCORN-Social-Club_event_clean.jpg
END:VEVENT
END:VCALENDAR