BEGIN:VCALENDAR
VERSION:2.0
PRODID:-//TilburgWijzer - ECPv6.15.20//NONSGML v1.0//EN
CALSCALE:GREGORIAN
METHOD:PUBLISH
X-WR-CALNAME:TilburgWijzer
X-ORIGINAL-URL:https://tilburgwijzer.nl
X-WR-CALDESC:Evenementen voor TilburgWijzer
REFRESH-INTERVAL;VALUE=DURATION:PT1H
X-Robots-Tag:noindex
X-PUBLISHED-TTL:PT1H
BEGIN:VTIMEZONE
TZID:Europe/Amsterdam
BEGIN:DAYLIGHT
TZOFFSETFROM:+0100
TZOFFSETTO:+0200
TZNAME:CEST
DTSTART:20250330T010000
END:DAYLIGHT
BEGIN:STANDARD
TZOFFSETFROM:+0200
TZOFFSETTO:+0100
TZNAME:CET
DTSTART:20251026T010000
END:STANDARD
BEGIN:DAYLIGHT
TZOFFSETFROM:+0100
TZOFFSETTO:+0200
TZNAME:CEST
DTSTART:20260329T010000
END:DAYLIGHT
BEGIN:STANDARD
TZOFFSETFROM:+0200
TZOFFSETTO:+0100
TZNAME:CET
DTSTART:20261025T010000
END:STANDARD
BEGIN:DAYLIGHT
TZOFFSETFROM:+0100
TZOFFSETTO:+0200
TZNAME:CEST
DTSTART:20270328T010000
END:DAYLIGHT
BEGIN:STANDARD
TZOFFSETFROM:+0200
TZOFFSETTO:+0100
TZNAME:CET
DTSTART:20271031T010000
END:STANDARD
END:VTIMEZONE
BEGIN:VEVENT
DTSTART;TZID=Europe/Amsterdam:20260521T200000
DTEND;TZID=Europe/Amsterdam:20260521T223000
DTSTAMP:20260425T013950
CREATED:20251022T074821Z
LAST-MODIFIED:20260415T085258Z
UID:134682-1779393600-1779402600@tilburgwijzer.nl
SUMMARY:PubQuiz - Schouwburg Concertzaal Tilburg - 21 mei 2026
DESCRIPTION:Pubquiz bij Stadscafé Benee\nIedere maand organiseert David samen met zijn enthousiaste team de Pubquiz bij Stadscafé Benee in Tilburg. Het is een gezellige avond vol vragen\, humor en verrassende weetjes. \nTest je kennis\nTijdens de quiz krijgen teams vragen over allerlei onderwerpen\, van muziek en film tot sport\, geschiedenis en onverwachte feiten. Zo ontdek je wie van jouw vrienden of collega’s het slimst is en wie de meeste nutteloze feiten paraat heeft. \nGezelligheid en competitie\nDe avond draait om plezier maken\, samen overleggen en veel lachen. Tegelijkertijd is er een gezonde competitie: de winnaars gaan niet met lege handen naar huis en kunnen hun kennis omzetten in een leuke prijs. \nWil jij ervaren wie de slimste in jouw team is? Boek een teamticket en doe mee met de Pubquiz bij Stadscafé Benee in Tilburg voor een avond vol plezier\, spanning en verrassende inzichten. \nPubquiz bij Stadscafé Benee\nIedere maand organiseert David samen met zijn enthousiaste team de Pubquiz bij Stadscafé Benee in Tilburg. Het is een gezellige avond vol vragen\, humor en verrassende weetjes. \nTest je kennis\nTijdens de quiz krijgen teams vragen over allerlei onderwerpen\, van muziek en film tot sport\, geschiedenis en onverwachte feiten. Zo ontdek je wie van jouw vrienden of collega’s het slimst is en wie de meeste nutteloze feiten paraat heeft. \nGezelligheid en competitie\nDe avond draait om plezier maken\, samen overleggen en veel lachen. Tegelijkertijd is er een gezonde competitie: de winnaars gaan niet met lege handen naar huis en kunnen hun kennis omzetten in een leuke prijs. \nWil jij ervaren wie de slimste in jouw team is? Boek een teamticket en doe mee met de Pubquiz bij Stadscafé Benee in Tilburg voor een avond vol plezier\, spanning en verrassende inzichten.
URL:https://tilburgwijzer.nl/evenement/pubquiz-bij-benee-mei-2026/
CATEGORIES:Ontmoeten,Pubquiz,Spellen & Games
ATTACH;FMTTYPE=image/jpeg:https://tilburgwijzer.nl/wp-content/uploads/2025/10/20251022_Web_PubQuiz-bij-Benee_event_clean.jpg
END:VEVENT
END:VCALENDAR