BEGIN:VCALENDAR
VERSION:2.0
PRODID:-//TilburgWijzer - ECPv6.15.20//NONSGML v1.0//EN
CALSCALE:GREGORIAN
METHOD:PUBLISH
X-WR-CALNAME:TilburgWijzer
X-ORIGINAL-URL:https://tilburgwijzer.nl
X-WR-CALDESC:Evenementen voor TilburgWijzer
REFRESH-INTERVAL;VALUE=DURATION:PT1H
X-Robots-Tag:noindex
X-PUBLISHED-TTL:PT1H
BEGIN:VTIMEZONE
TZID:Europe/Amsterdam
BEGIN:DAYLIGHT
TZOFFSETFROM:+0100
TZOFFSETTO:+0200
TZNAME:CEST
DTSTART:20250330T010000
END:DAYLIGHT
BEGIN:STANDARD
TZOFFSETFROM:+0200
TZOFFSETTO:+0100
TZNAME:CET
DTSTART:20251026T010000
END:STANDARD
BEGIN:DAYLIGHT
TZOFFSETFROM:+0100
TZOFFSETTO:+0200
TZNAME:CEST
DTSTART:20260329T010000
END:DAYLIGHT
BEGIN:STANDARD
TZOFFSETFROM:+0200
TZOFFSETTO:+0100
TZNAME:CET
DTSTART:20261025T010000
END:STANDARD
BEGIN:DAYLIGHT
TZOFFSETFROM:+0100
TZOFFSETTO:+0200
TZNAME:CEST
DTSTART:20270328T010000
END:DAYLIGHT
BEGIN:STANDARD
TZOFFSETFROM:+0200
TZOFFSETTO:+0100
TZNAME:CET
DTSTART:20271031T010000
END:STANDARD
END:VTIMEZONE
BEGIN:VEVENT
DTSTART;TZID=Europe/Amsterdam:20260506T193000
DTEND;TZID=Europe/Amsterdam:20260506T215500
DTSTAMP:20260425T011722
CREATED:20251209T155825Z
LAST-MODIFIED:20260423T182600Z
UID:160393-1778095800-1778104500@tilburgwijzer.nl
SUMMARY:Rachel Z & Omar Hakim Trio (US) – PaRaDoX – 6 mei 2026
DESCRIPTION:Omar Hakim Trio in Paradox\nOmar Hakim behoort tot de meest succesvolle drummers van de afgelopen dertig jaar. Hij verwierf bekendheid als drummer bij de jazzrock-formatie Weather Report en speelde daarnaast met tal van andere jazz- en fusion-artiesten. Zijn werk met iconen als David Bowie op Let’s Dance en Sting op The Dream of the Blue Turtles en Bring on the Night toont zijn veelzijdigheid en virtuositeit. \nEen uniek trioproject\nSamen met de getalenteerde pianist en toetsenist Rachel Z – bekend van de Growing Up tour van Peter Gabriel – en bassist Jonathan Toscano (o.a. Jeremy Pelt\, Oz Noy) vormt Hakim dit voorjaar een bijzonder trio. Het project combineert meesterlijke grooves met indrukwekkende technische vaardigheid\, waarbij elk optreden een unieke muzikale ervaring biedt. \nLive in Tilburg\nBeleef deze uitzonderlijke samensmelting van jazz\, fusion en virtuositeit in Paradox in het centrum van Tilburg. \nLine-up\n\nOmar Hakim – drums\nRachel Z – piano & keyboards\nJonathan Toscano – bas\n\nEen concert vol dynamiek\, energie en muzikale perfectie dat jazzliefhebbers niet mogen missen.
URL:https://tilburgwijzer.nl/evenement/rachel-z-omar-hakim-trio-paradox-tilburg/
CATEGORIES:Jazz,Modern creative,Muziek
ATTACH;FMTTYPE=image/jpeg:https://tilburgwijzer.nl/wp-content/uploads/2025/12/20251209_Web_Rachel-Z-Omar-Hakim-Trio-PaRaDoX-Tilburg_event_clean.jpg
END:VEVENT
END:VCALENDAR