BEGIN:VCALENDAR
VERSION:2.0
PRODID:-//TilburgWijzer - ECPv6.15.20//NONSGML v1.0//EN
CALSCALE:GREGORIAN
METHOD:PUBLISH
X-WR-CALNAME:TilburgWijzer
X-ORIGINAL-URL:https://tilburgwijzer.nl
X-WR-CALDESC:Evenementen voor TilburgWijzer
REFRESH-INTERVAL;VALUE=DURATION:PT1H
X-Robots-Tag:noindex
X-PUBLISHED-TTL:PT1H
BEGIN:VTIMEZONE
TZID:Europe/Amsterdam
BEGIN:DAYLIGHT
TZOFFSETFROM:+0100
TZOFFSETTO:+0200
TZNAME:CEST
DTSTART:20250330T010000
END:DAYLIGHT
BEGIN:STANDARD
TZOFFSETFROM:+0200
TZOFFSETTO:+0100
TZNAME:CET
DTSTART:20251026T010000
END:STANDARD
BEGIN:DAYLIGHT
TZOFFSETFROM:+0100
TZOFFSETTO:+0200
TZNAME:CEST
DTSTART:20260329T010000
END:DAYLIGHT
BEGIN:STANDARD
TZOFFSETFROM:+0200
TZOFFSETTO:+0100
TZNAME:CET
DTSTART:20261025T010000
END:STANDARD
BEGIN:DAYLIGHT
TZOFFSETFROM:+0100
TZOFFSETTO:+0200
TZNAME:CEST
DTSTART:20270328T010000
END:DAYLIGHT
BEGIN:STANDARD
TZOFFSETFROM:+0200
TZOFFSETTO:+0100
TZNAME:CET
DTSTART:20271031T010000
END:STANDARD
END:VTIMEZONE
BEGIN:VEVENT
DTSTART;TZID=Europe/Amsterdam:20260819T170000
DTEND;TZID=Europe/Amsterdam:20260819T230000
DTSTAMP:20260425T002017
CREATED:20260118T183729Z
LAST-MODIFIED:20260323T104506Z
UID:167673-1787158800-1787180400@tilburgwijzer.nl
SUMMARY:Reeshof Muzenconcerten - 2026 - #3
DESCRIPTION:Muzenconcerten Reeshof: muziek\, sfeer en gezelligheid\nVier zomeravonden vol ontmoeten\, proosten\, proeven en genieten staan centraal tijdens de jaarlijkse Muzenconcerten Reeshof. In augustus klinkt er live muziek in het Reeshofpark in Tilburg\, een prachtige omgeving voor jong en oud om samen te genieten van een zomerse avond. \nGratis live muziek in de buitenlucht\nDe Muzenconcerten zijn volledig gratis te bezoeken. Neem een kleedje mee\, geniet van een hapje en drankje en laat je verrassen door de heerlijke livemuziek. Of je nu rustig wilt luisteren of lekker mee wilt dansen bij het podium\, er is voor ieder wat wils. \nPerfect voor vrienden en familie\nDeze concerten zijn de ideale gelegenheid om samen met vrienden en familie een zomerse avond door te brengen. Met een mix van muziek\, sfeer en gezelligheid biedt het Reeshofpark een unieke setting om het zomerseizoen in Tilburg te vieren. \nGenieten tot in de late uurtjes\nOf je nu komt om te ontspannen\, te socializen of te dansen\, de Muzenconcerten zorgen voor onvergetelijke zomeravonden. Kom langs en beleef muziek\, plezier en gezelligheid op het mooiste stukje groen van de Reeshof.
URL:https://tilburgwijzer.nl/evenement/reeshof-muzenconcerten-2026-3/
CATEGORIES:Muziek
ATTACH;FMTTYPE=image/jpeg:https://tilburgwijzer.nl/wp-content/uploads/2025/03/20220810_Web_Reeshof-Muzen-Concerten-2022_event_clean.jpg
END:VEVENT
END:VCALENDAR