BEGIN:VCALENDAR
VERSION:2.0
PRODID:-//TilburgWijzer - ECPv6.15.20//NONSGML v1.0//EN
CALSCALE:GREGORIAN
METHOD:PUBLISH
X-WR-CALNAME:TilburgWijzer
X-ORIGINAL-URL:https://tilburgwijzer.nl
X-WR-CALDESC:Evenementen voor TilburgWijzer
REFRESH-INTERVAL;VALUE=DURATION:PT1H
X-Robots-Tag:noindex
X-PUBLISHED-TTL:PT1H
BEGIN:VTIMEZONE
TZID:Europe/Amsterdam
BEGIN:DAYLIGHT
TZOFFSETFROM:+0100
TZOFFSETTO:+0200
TZNAME:CEST
DTSTART:20250330T010000
END:DAYLIGHT
BEGIN:STANDARD
TZOFFSETFROM:+0200
TZOFFSETTO:+0100
TZNAME:CET
DTSTART:20251026T010000
END:STANDARD
BEGIN:DAYLIGHT
TZOFFSETFROM:+0100
TZOFFSETTO:+0200
TZNAME:CEST
DTSTART:20260329T010000
END:DAYLIGHT
BEGIN:STANDARD
TZOFFSETFROM:+0200
TZOFFSETTO:+0100
TZNAME:CET
DTSTART:20261025T010000
END:STANDARD
BEGIN:DAYLIGHT
TZOFFSETFROM:+0100
TZOFFSETTO:+0200
TZNAME:CEST
DTSTART:20270328T010000
END:DAYLIGHT
BEGIN:STANDARD
TZOFFSETFROM:+0200
TZOFFSETTO:+0100
TZNAME:CET
DTSTART:20271031T010000
END:STANDARD
END:VTIMEZONE
BEGIN:VEVENT
DTSTART;TZID=Europe/Amsterdam:20260625T190000
DTEND;TZID=Europe/Amsterdam:20260626T003000
DTSTAMP:20260425T013301
CREATED:20260413T093156Z
LAST-MODIFIED:20260424T160233Z
UID:183012-1782414000-1782433800@tilburgwijzer.nl
SUMMARY:Rockacademie Afstudeershows – 013 Poppodium – 25 juni 2026
DESCRIPTION:Nieuw talent in 013 Poppodium\nVanavond staat 013 Poppodium in het centrum van Tilburg volledig in het teken van nieuw muzikaal talent. Studenten van de Rockacademie laten zien wat ze in korte tijd hebben opgebouwd: van individuen tot volwaardige bands met een eigen sound\, energie en verhaal. Dit is het moment waarop de nieuwste generatie artiesten het podium verovert. \nIntensieve voorbereiding en repetities\nDe acts die vanavond optreden\, hebben de afgelopen maanden intensief gerepeteerd\, geëxperimenteerd en geschreven. Elke band heeft hard gewerkt om een unieke set te ontwikkelen die zowel verrassend als meeslepend is. 013 Poppodium biedt deze jonge talenten de kans om hun vaardigheden en creativiteit te laten zien aan een breed publiek\, en dat allemaal live op het podium. \nMuziek die inspireert en verrast\nDe kracht van dit evenement zit in het ontdekken van muziek die nog beweegt en leeft. Bezoekers maken kennis met nieuwe stijlen\, horen originele composities en zien hoe jonge artiesten grenzen verleggen. Elk optreden is rauw\, fris en vol overtuiging\, waardoor Propfest en soortgelijke avonden een broedplaats zijn voor de toekomstige muzikale sterren van Tilburg. \nToegang gratis en open voor iedereen\nDe toegang is gratis\, dus iedereen kan komen kijken en luisteren. Dit is de perfecte gelegenheid om de eerste contouren van toekomstige artiesten van dichtbij mee te maken en te genieten van een avond vol energie\, experiment en muzikaal plezier. Voor liefhebbers van live muziek is dit een kans die je niet mag missen.
URL:https://tilburgwijzer.nl/evenement/rockacademie-afstudeershows-013-poppodium-25-juni-2026/
CATEGORIES:Gratis,Muziek,Rock,Singer-songwriters
ATTACH;FMTTYPE=image/jpeg:https://tilburgwijzer.nl/wp-content/uploads/2025/06/20250609_Web_Rockacademie-Afstudeershows-013-Poppodium_event_clean.jpg
END:VEVENT
END:VCALENDAR