BEGIN:VCALENDAR
VERSION:2.0
PRODID:-//TilburgWijzer - ECPv6.15.20//NONSGML v1.0//EN
CALSCALE:GREGORIAN
METHOD:PUBLISH
X-WR-CALNAME:TilburgWijzer
X-ORIGINAL-URL:https://tilburgwijzer.nl
X-WR-CALDESC:Evenementen voor TilburgWijzer
REFRESH-INTERVAL;VALUE=DURATION:PT1H
X-Robots-Tag:noindex
X-PUBLISHED-TTL:PT1H
BEGIN:VTIMEZONE
TZID:Europe/Amsterdam
BEGIN:DAYLIGHT
TZOFFSETFROM:+0100
TZOFFSETTO:+0200
TZNAME:CEST
DTSTART:20250330T010000
END:DAYLIGHT
BEGIN:STANDARD
TZOFFSETFROM:+0200
TZOFFSETTO:+0100
TZNAME:CET
DTSTART:20251026T010000
END:STANDARD
BEGIN:DAYLIGHT
TZOFFSETFROM:+0100
TZOFFSETTO:+0200
TZNAME:CEST
DTSTART:20260329T010000
END:DAYLIGHT
BEGIN:STANDARD
TZOFFSETFROM:+0200
TZOFFSETTO:+0100
TZNAME:CET
DTSTART:20261025T010000
END:STANDARD
BEGIN:DAYLIGHT
TZOFFSETFROM:+0100
TZOFFSETTO:+0200
TZNAME:CEST
DTSTART:20270328T010000
END:DAYLIGHT
BEGIN:STANDARD
TZOFFSETFROM:+0200
TZOFFSETTO:+0100
TZNAME:CET
DTSTART:20271031T010000
END:STANDARD
END:VTIMEZONE
BEGIN:VEVENT
DTSTART;TZID=Europe/Amsterdam:20261004T190000
DTEND;TZID=Europe/Amsterdam:20261004T223000
DTSTAMP:20260425T015927
CREATED:20260310T132622Z
LAST-MODIFIED:20260423T194954Z
UID:173118-1791140400-1791153000@tilburgwijzer.nl
SUMMARY:Samurai Pizza Cats – 013 Poppodium – 4 oktober 2026
DESCRIPTION:Samurai Pizza Cats: Press Start European Tour 26\nSamurai Pizza Cats zijn allang geen geheime tip meer. Sinds hun eerste releases groeide de band snel uit tot een vaste waarde binnen de Duitse metalcore- en deathcore-scene\, met een sound waarin elektronische invloeden en stevige riffs samenkomen. \nAlbums en groei\nHet debuutalbum YOU’RE HELLCOME\, uitgebracht in september 2023\, bereikte de Duitse Album Top 100 en vestigde de band als een opvallende speler binnen de Europese metalwereld. In maart 2026 volgt het nieuwe album Press Start via Century Media Records. Met dit album tonen Samurai Pizza Cats dat hun ambities verder reiken dan Duitsland\, met muziek die zowel technisch indrukwekkend als speels energiek is. \nLive in 013\nVoor liefhebbers van moderne metal met een speelse twist en een flinke dosis chaos is het optreden van Samurai Pizza Cats in de Hall of Fame in het centrum van Tilburg een must-see. De band staat bekend om hun energieke en meeslepende shows\, waarin riffs\, elektronica en podiumperformance samenkomen tot een spectaculaire live-ervaring. \nEen tour om niet te missen\nDe Press Start European Tour 26 belooft een mix van nieuwe tracks en favoriete nummers van hun debuutalbum. Fans kunnen rekenen op een intense live-ervaring\, waarin chaos\, techniek en plezier perfect samenkomen. Dit is een avond voor iedereen die houdt van metal met durf\, karakter en een onvergetelijke podiumshow.
URL:https://tilburgwijzer.nl/evenement/samurai-pizza-cats-013-poppodium-x-hall-of-fame/
CATEGORIES:Deathcore,Metal,Metalcore,Muziek
ATTACH;FMTTYPE=image/jpeg:https://tilburgwijzer.nl/wp-content/uploads/2026/03/20260310_Web_Samurai-Pizza-Cats-013-Poppodium-X-Hall-of-Fame_event_clean.jpg
END:VEVENT
END:VCALENDAR