BEGIN:VCALENDAR
VERSION:2.0
PRODID:-//TilburgWijzer - ECPv6.15.20//NONSGML v1.0//EN
CALSCALE:GREGORIAN
METHOD:PUBLISH
X-WR-CALNAME:TilburgWijzer
X-ORIGINAL-URL:https://tilburgwijzer.nl
X-WR-CALDESC:Evenementen voor TilburgWijzer
REFRESH-INTERVAL;VALUE=DURATION:PT1H
X-Robots-Tag:noindex
X-PUBLISHED-TTL:PT1H
BEGIN:VTIMEZONE
TZID:Europe/Amsterdam
BEGIN:DAYLIGHT
TZOFFSETFROM:+0100
TZOFFSETTO:+0200
TZNAME:CEST
DTSTART:20250330T010000
END:DAYLIGHT
BEGIN:STANDARD
TZOFFSETFROM:+0200
TZOFFSETTO:+0100
TZNAME:CET
DTSTART:20251026T010000
END:STANDARD
BEGIN:DAYLIGHT
TZOFFSETFROM:+0100
TZOFFSETTO:+0200
TZNAME:CEST
DTSTART:20260329T010000
END:DAYLIGHT
BEGIN:STANDARD
TZOFFSETFROM:+0200
TZOFFSETTO:+0100
TZNAME:CET
DTSTART:20261025T010000
END:STANDARD
BEGIN:DAYLIGHT
TZOFFSETFROM:+0100
TZOFFSETTO:+0200
TZNAME:CEST
DTSTART:20270328T010000
END:DAYLIGHT
BEGIN:STANDARD
TZOFFSETFROM:+0200
TZOFFSETTO:+0100
TZNAME:CET
DTSTART:20271031T010000
END:STANDARD
END:VTIMEZONE
BEGIN:VEVENT
DTSTART;TZID=Europe/Amsterdam:20261121T103000
DTEND;TZID=Europe/Amsterdam:20261128T133000
DTSTAMP:20260424T230037
CREATED:20241130T201225Z
LAST-MODIFIED:20251208T063055Z
UID:60836-1795257000-1795872600@tilburgwijzer.nl
SUMMARY:SintDorp 2026
DESCRIPTION:Beleef de magie van het Sintdorp in Tilburg\nKom in de betoverende wereld van het Sintdorp in Tilburg waar de magie van Sinterklaas tot leven komt. Voor het derde jaar op rij verandert de Tongerlose Hoef\, in samenwerking met Amarant\, in een sfeervol paradijs vol plezier\, warmte en verrassingen voor jong en oud. \nEen dorp vol belevenissen\nIn het Sintdorp valt van alles te ontdekken. Na een kort toneelstuk kunnen kinderen samen met hun ouders het dorp verkennen. Overal zijn de Pieten druk bezig: in het naaiatelier\, bij de spelletjes\, in hun eigen kamers en zelfs bij Sinterklaas zelf. Misschien kun je ook een kijkje nemen in de bakkerij of Sinterklaas ontmoeten tijdens zijn ronde. De dag wordt feestelijk afgesloten met een vrolijk discofeestje\, waar iedereen kan dansen en lachen. \nVoor de kinderen\nKinderen beleven in het Sintdorp een dag vol plezier. Ze kunnen spelletjes spelen\, knutselen\, puzzelstukjes verzamelen en natuurlijk op de foto met Sinterklaas en zijn Pieten. De puzzelstukjes die ze in het dorp vinden\, kunnen ze in het naaiatelier samenvoegen. Misschien vormt dit wel het toegangsbewijs voor de disco aan het eind van de dag. \nVoor de ouders\nOuders kunnen ontspannen in het restaurant van de Tongerlose Hoef met een lekker drankje\, terwijl ze genieten van de vrolijke sfeer. Natuurlijk zijn ze ook welkom om samen met hun kinderen het dorp te bezoeken en mee te genieten van alle activiteiten. \nLocatie en praktische informatie\nHet Sintdorp vindt plaats bij de Tongerlose Hoef\, Reitse Hoevenstraat 129 in Tilburg. Dit jaar is het open op 21\, 22 en 28 november. Houd voor openingstijden\, ticketverkoop en de meedoenregeling de website van het Sintdorp in de gaten. Alle opbrengsten gaan naar lokale goede doelen. Mis het niet en beleef een onvergetelijke dag vol Sinterklaasmagie in Tilburg
URL:https://tilburgwijzer.nl/evenement/sintdorp/
CATEGORIES:Jeugd & Familie,Kunst & Cultuur,Sinterklaas
ATTACH;FMTTYPE=image/jpeg:https://tilburgwijzer.nl/wp-content/uploads/2025/03/20240801_Web_SintDorp_event_clean.jpg
END:VEVENT
END:VCALENDAR