BEGIN:VCALENDAR
VERSION:2.0
PRODID:-//TilburgWijzer - ECPv6.15.20//NONSGML v1.0//EN
CALSCALE:GREGORIAN
METHOD:PUBLISH
X-WR-CALNAME:TilburgWijzer
X-ORIGINAL-URL:https://tilburgwijzer.nl
X-WR-CALDESC:Evenementen voor TilburgWijzer
REFRESH-INTERVAL;VALUE=DURATION:PT1H
X-Robots-Tag:noindex
X-PUBLISHED-TTL:PT1H
BEGIN:VTIMEZONE
TZID:Europe/Amsterdam
BEGIN:DAYLIGHT
TZOFFSETFROM:+0100
TZOFFSETTO:+0200
TZNAME:CEST
DTSTART:20250330T010000
END:DAYLIGHT
BEGIN:STANDARD
TZOFFSETFROM:+0200
TZOFFSETTO:+0100
TZNAME:CET
DTSTART:20251026T010000
END:STANDARD
BEGIN:DAYLIGHT
TZOFFSETFROM:+0100
TZOFFSETTO:+0200
TZNAME:CEST
DTSTART:20260329T010000
END:DAYLIGHT
BEGIN:STANDARD
TZOFFSETFROM:+0200
TZOFFSETTO:+0100
TZNAME:CET
DTSTART:20261025T010000
END:STANDARD
BEGIN:DAYLIGHT
TZOFFSETFROM:+0100
TZOFFSETTO:+0200
TZNAME:CEST
DTSTART:20270328T010000
END:DAYLIGHT
BEGIN:STANDARD
TZOFFSETFROM:+0200
TZOFFSETTO:+0100
TZNAME:CET
DTSTART:20271031T010000
END:STANDARD
END:VTIMEZONE
BEGIN:VEVENT
DTSTART;TZID=Europe/Amsterdam:20261122T130000
DTEND;TZID=Europe/Amsterdam:20261122T160000
DTSTAMP:20260425T015811
CREATED:20260118T185839Z
LAST-MODIFIED:20260323T110944Z
UID:167705-1795352400-1795363200@tilburgwijzer.nl
SUMMARY:Sinterklaas Familiedag 2026 - Spoorpark
DESCRIPTION:Sinterklaas Familiedag in het Spoorpark\nDe sint is weer in het land en natuurlijk kan hij het Spoorpark in Tilburg niet overslaan! Op 22 november vindt de Sinterklaas Familiedag plaats\, waarbij Sinterklaas en zijn pieten het park bezoeken voor een middag vol plezier en activiteiten voor kinderen. \nSpel\, muziek en knutselplezier\nTussen 13.00 en 16.00 uur kunnen kinderen zich uitleven op het springkussen\, dansen en zingen met de pieten en creatief aan de slag met knutselactiviteiten. Daarnaast is er de mogelijkheid om op de foto te gaan met Sinterklaas en mee te doen aan nog veel meer leuke verrassingen. \nGezellige middag voor het hele gezin\nDe Sinterklaas Familiedag in het Spoorpark is een perfecte gelegenheid voor gezinnen om samen een gezellige middag door te brengen. Met spel\, muziek en ontmoetingen met Sinterklaas wordt het een onvergetelijke ervaring voor jong en oud.
URL:https://tilburgwijzer.nl/evenement/sinterklaas-familiedag-spoorpark/
CATEGORIES:Kunst & Cultuur,Sinterklaas
ATTACH;FMTTYPE=image/jpeg:https://tilburgwijzer.nl/wp-content/uploads/2026/01/20241117_Web_Sinterklaas-Familiedag_event_clean-2.jpg
END:VEVENT
END:VCALENDAR