BEGIN:VCALENDAR
VERSION:2.0
PRODID:-//TilburgWijzer - ECPv6.15.20//NONSGML v1.0//EN
CALSCALE:GREGORIAN
METHOD:PUBLISH
X-WR-CALNAME:TilburgWijzer
X-ORIGINAL-URL:https://tilburgwijzer.nl
X-WR-CALDESC:Evenementen voor TilburgWijzer
REFRESH-INTERVAL;VALUE=DURATION:PT1H
X-Robots-Tag:noindex
X-PUBLISHED-TTL:PT1H
BEGIN:VTIMEZONE
TZID:Europe/Amsterdam
BEGIN:DAYLIGHT
TZOFFSETFROM:+0100
TZOFFSETTO:+0200
TZNAME:CEST
DTSTART:20250330T010000
END:DAYLIGHT
BEGIN:STANDARD
TZOFFSETFROM:+0200
TZOFFSETTO:+0100
TZNAME:CET
DTSTART:20251026T010000
END:STANDARD
BEGIN:DAYLIGHT
TZOFFSETFROM:+0100
TZOFFSETTO:+0200
TZNAME:CEST
DTSTART:20260329T010000
END:DAYLIGHT
BEGIN:STANDARD
TZOFFSETFROM:+0200
TZOFFSETTO:+0100
TZNAME:CET
DTSTART:20261025T010000
END:STANDARD
BEGIN:DAYLIGHT
TZOFFSETFROM:+0100
TZOFFSETTO:+0200
TZNAME:CEST
DTSTART:20270328T010000
END:DAYLIGHT
BEGIN:STANDARD
TZOFFSETFROM:+0200
TZOFFSETTO:+0100
TZNAME:CET
DTSTART:20271031T010000
END:STANDARD
END:VTIMEZONE
BEGIN:VEVENT
DTSTART;TZID=Europe/Amsterdam:20260515T203000
DTEND;TZID=Europe/Amsterdam:20260515T225500
DTSTAMP:20260425T045522
CREATED:20250911T143752Z
LAST-MODIFIED:20260423T190146Z
UID:113666-1778877000-1778885700@tilburgwijzer.nl
SUMMARY:Sorry not sorry - De Nieuwe Vorst - 15 mei 2026
DESCRIPTION:Sorry not sorry in Theater de Nieuwe Vorst\nIn Sorry not sorry in Theater de Nieuwe Vorst in het centrum van Tilburg maken vijf Sims-avatars – drie dansers en twee mimers – op speelse wijze kennis met elkaar. Geïnspireerd door het iconische computerspel The Sims 2000 start hun levenssimulatie in een onaf huis op een kavel vol mogelijkheden. \nSpelregels en verstoringen\nDe avatars trainen vaardigheden en vervullen hun basisbehoeften\, maar al snel gaat er van alles mis. De zwembadtrap verdwijnt\, meubels raken verplaatst en zelfs een intensieve spiegelsessie levert geen extra charisma op. De vreugdebalk loopt in rap tempo leeg\, terwijl de hunkering naar autonomie steeds sterker wordt. \nEscalatie en nieuwe vaardigheden\nTijdens een uitzinnig dansfeest ontstaan aanvalmodussen\, scheldpartijen en chaotische botsingen. Toch ontdekken de avatars een onverwachte uitweg: de kunst van het sorry zeggen. Dit leidt tot een spiraal van pijnlijke\, ironische en hilarische excuses die laten zien dat verontschuldigen misschien wel de meest complexe vaardigheid is. \nEen speelse blik op controle en vrijheid\nMet humor\, dans en mime legt Sorry not sorry de absurditeit bloot van macht\, besturing en menselijke interactie. Een voorstelling die balanceert tussen spel en realiteit\, luchtigheid en diepgang.
URL:https://tilburgwijzer.nl/evenement/sorry-not-sorry-theater-de-nieuwe-vorst/
CATEGORIES:Dans,Next Gen,Theater
ATTACH;FMTTYPE=image/jpeg:https://tilburgwijzer.nl/wp-content/uploads/2025/09/20250911_Web_Sorry-not-sorry-Theater-de-Nieuwe-Vorst_event_clean.jpg
END:VEVENT
END:VCALENDAR