BEGIN:VCALENDAR
VERSION:2.0
PRODID:-//TilburgWijzer - ECPv6.15.20//NONSGML v1.0//EN
CALSCALE:GREGORIAN
METHOD:PUBLISH
X-WR-CALNAME:TilburgWijzer
X-ORIGINAL-URL:https://tilburgwijzer.nl
X-WR-CALDESC:Evenementen voor TilburgWijzer
REFRESH-INTERVAL;VALUE=DURATION:PT1H
X-Robots-Tag:noindex
X-PUBLISHED-TTL:PT1H
BEGIN:VTIMEZONE
TZID:Europe/Amsterdam
BEGIN:DAYLIGHT
TZOFFSETFROM:+0100
TZOFFSETTO:+0200
TZNAME:CEST
DTSTART:20230326T010000
END:DAYLIGHT
BEGIN:STANDARD
TZOFFSETFROM:+0200
TZOFFSETTO:+0100
TZNAME:CET
DTSTART:20231029T010000
END:STANDARD
BEGIN:DAYLIGHT
TZOFFSETFROM:+0100
TZOFFSETTO:+0200
TZNAME:CEST
DTSTART:20240331T010000
END:DAYLIGHT
BEGIN:STANDARD
TZOFFSETFROM:+0200
TZOFFSETTO:+0100
TZNAME:CET
DTSTART:20241027T010000
END:STANDARD
BEGIN:DAYLIGHT
TZOFFSETFROM:+0100
TZOFFSETTO:+0200
TZNAME:CEST
DTSTART:20250330T010000
END:DAYLIGHT
BEGIN:STANDARD
TZOFFSETFROM:+0200
TZOFFSETTO:+0100
TZNAME:CET
DTSTART:20251026T010000
END:STANDARD
END:VTIMEZONE
BEGIN:VEVENT
DTSTART;TZID=Europe/Amsterdam:20240614T100000
DTEND;TZID=Europe/Amsterdam:20240616T180000
DTSTAMP:20260425T130158
CREATED:20240623T174951Z
LAST-MODIFIED:20250504T153045Z
UID:11179-1718359200-1718560800@tilburgwijzer.nl
SUMMARY:Special Olympics Nationale Spelen Tilburg-Breda 2024
DESCRIPTION:Ontdek de Grootsheid van de Special Olympics Nationale Spelen 2024 in Breda en Tilburg\nHet Grootste Multi-Sportevenement voor Mensen met een Verstandelijke Beperking \nDe Special Olympics Nationale Spelen vormen het summum van sportiviteit en inclusiviteit voor mensen met een verstandelijke beperking in Nederland. Dit grootschalige evenement\, dat eens in de twee jaar plaatsvindt\, staat gepland voor 14\, 15 en 16 juni 2024 en zal de steden Breda en Tilburg aandoen. \nEen spektakel van start tot finish\nOp vrijdag 14 juni 2024 opent het evenement op indrukwekkende wijze met de openingsceremonie in het adembenemende Breepark in Breda. Met 9.000 aanwezigen is deze ceremonie een spektakel op zich\, met een parade van sporters\, de ontsteking van de ‘Flame of Hope’ en diverse bijzondere optredens. De atmosfeer zal bruisen van energie en positiviteit\, waarmee de toon wordt gezet voor een weekend vol sportieve hoogtepunten. \nSport in overvloed: 21 takken van sport\nOp zaterdag en zondag vindt het echte sportieve festijn plaats\, met maar liefst 21 takken van sport waarin de deelnemers hun krachten meten. De organisatie van deze toernooien rust op de schouders van lokale sportverenigingen\, verspreid over zowel Tilburg als Breda. Een unieke gelegenheid voor deelnemers om hun talent te tonen en te schitteren op het sportieve podium. \nMeer dan sport alleen: Een positieve impact\nDe boodschap van de Nationale Spelen in Breda en Tilburg gaat verder dan enkel sport. Hier vieren we sport\, inclusiviteit en talent. Dit fantastische sportevenement draagt niet alleen bij aan het fysieke\, mentale en sociale welzijn van de deelnemers\, maar ook aan de cruciale beeldvorming van mensen met een verstandelijke beperking als volwaardige burgers van onze samenleving. Een essentiële bijdrage aan het versterken van de inclusieve mentaliteit. \nIedereen is welkom!\nOf je nu deelneemt als sporter\, supporter\, of gewoon nieuwsgierig bent naar dit unieke evenement\, iedereen is welkom bij de Special Olympics Nationale Spelen in Tilburg en Breda. Wil je meer informatie over dit indrukwekkende evenement? Ga dan naar www.specialolympics2024.nl en ontdek hoe jij deel kunt uitmaken van dit inspirerende spektakel.
URL:https://tilburgwijzer.nl/evenement/special-olympics-nationale-spelen-tilburg-breda/
LOCATION:Tilburg\, Noord Brabant\, Nederland
CATEGORIES:Aangepast sporten,Sport
ATTACH;FMTTYPE=image/jpeg:https://tilburgwijzer.nl/wp-content/uploads/2025/03/20240731_Web_Special-Olympics-Nationale-Spelen_event_clean.jpg
END:VEVENT
END:VCALENDAR