BEGIN:VCALENDAR
VERSION:2.0
PRODID:-//TilburgWijzer - ECPv6.15.20//NONSGML v1.0//EN
CALSCALE:GREGORIAN
METHOD:PUBLISH
X-WR-CALNAME:TilburgWijzer
X-ORIGINAL-URL:https://tilburgwijzer.nl
X-WR-CALDESC:Evenementen voor TilburgWijzer
REFRESH-INTERVAL;VALUE=DURATION:PT1H
X-Robots-Tag:noindex
X-PUBLISHED-TTL:PT1H
BEGIN:VTIMEZONE
TZID:Europe/Amsterdam
BEGIN:DAYLIGHT
TZOFFSETFROM:+0100
TZOFFSETTO:+0200
TZNAME:CEST
DTSTART:20250330T010000
END:DAYLIGHT
BEGIN:STANDARD
TZOFFSETFROM:+0200
TZOFFSETTO:+0100
TZNAME:CET
DTSTART:20251026T010000
END:STANDARD
BEGIN:DAYLIGHT
TZOFFSETFROM:+0100
TZOFFSETTO:+0200
TZNAME:CEST
DTSTART:20260329T010000
END:DAYLIGHT
BEGIN:STANDARD
TZOFFSETFROM:+0200
TZOFFSETTO:+0100
TZNAME:CET
DTSTART:20261025T010000
END:STANDARD
BEGIN:DAYLIGHT
TZOFFSETFROM:+0100
TZOFFSETTO:+0200
TZNAME:CEST
DTSTART:20270328T010000
END:DAYLIGHT
BEGIN:STANDARD
TZOFFSETFROM:+0200
TZOFFSETTO:+0100
TZNAME:CET
DTSTART:20271031T010000
END:STANDARD
END:VTIMEZONE
BEGIN:VEVENT
DTSTART;TZID=Europe/Amsterdam:20260711T130000
DTEND;TZID=Europe/Amsterdam:20260711T155500
DTSTAMP:20260425T030412
CREATED:20251230T142932Z
LAST-MODIFIED:20260212T083921Z
UID:164881-1783774800-1783785300@tilburgwijzer.nl
SUMMARY:Spoorzone wandeling - Stadsgidserij Tilburg - Juli 2026
DESCRIPTION:Spoorzone\nDe Spoorzone is een van de meest dynamische gebieden van Tilburg en verdient een speciale wandeling. Dit tweede centrum van de stad ontwikkelt zich razendsnel en is inmiddels een trendsetter op cultureel en stedelijk vlak. Wat ooit achter het station lag en bekendstond als de “Verboden Stad”\, waar alleen wie werkte mocht komen\, is nu een levendig gebied vol verrassingen. \nBezienswaardigheden\nTijdens de wandeling bezoek je onder andere de Loc-Hal\, de nieuwe ‘huiskamer van Tilburg’\, die internationaal wordt geprezen en verschillende prijzen ontving. Daarnaast werpen de gidsen een blik op de maquette van het gebied en nemen ze je mee in plannen voor de toekomst. Ook krijg je de kans om verschillende gebouwen van binnen te bekijken\, wat een uniek perspectief geeft op deze snel veranderende stadswijk. \nAnekdotes en verhalen\nNaast de actuele ontwikkelingen vertellen de stadsgidsen anekdotes uit het verleden van de Spoorzone. Zo ontdek je hoe Tilburg van een industriële zone naar een bruisend stadsdeel transformeerde en krijg je een uniek kijkje achter de schermen van de transformatie. \nPraktische informatie\nDe Spoorzonewandeling is populair en eerdere edities waren snel volgeboekt. Wie Tilburg op een verrassende en interactieve manier wil leren kennen\, mag deze kans niet missen. Spoor met de gidsen mee van het rijke verleden naar een innovatieve en creatieve toekomst van de stad.
URL:https://tilburgwijzer.nl/evenement/spoorzone-wandeling-stadsgidserij-tilburg-juli-2026/
CATEGORIES:Kunst & Cultuur,Wandelingen
ATTACH;FMTTYPE=image/jpeg:https://tilburgwijzer.nl/wp-content/uploads/2025/12/20220823_Web_Stadsgidserij-Tilburg_event_clean.jpg
END:VEVENT
END:VCALENDAR