BEGIN:VCALENDAR
VERSION:2.0
PRODID:-//TilburgWijzer - ECPv6.15.20//NONSGML v1.0//EN
CALSCALE:GREGORIAN
METHOD:PUBLISH
X-WR-CALNAME:TilburgWijzer
X-ORIGINAL-URL:https://tilburgwijzer.nl
X-WR-CALDESC:Evenementen voor TilburgWijzer
REFRESH-INTERVAL;VALUE=DURATION:PT1H
X-Robots-Tag:noindex
X-PUBLISHED-TTL:PT1H
BEGIN:VTIMEZONE
TZID:Europe/Amsterdam
BEGIN:DAYLIGHT
TZOFFSETFROM:+0100
TZOFFSETTO:+0200
TZNAME:CEST
DTSTART:20250330T010000
END:DAYLIGHT
BEGIN:STANDARD
TZOFFSETFROM:+0200
TZOFFSETTO:+0100
TZNAME:CET
DTSTART:20251026T010000
END:STANDARD
BEGIN:DAYLIGHT
TZOFFSETFROM:+0100
TZOFFSETTO:+0200
TZNAME:CEST
DTSTART:20260329T010000
END:DAYLIGHT
BEGIN:STANDARD
TZOFFSETFROM:+0200
TZOFFSETTO:+0100
TZNAME:CET
DTSTART:20261025T010000
END:STANDARD
BEGIN:DAYLIGHT
TZOFFSETFROM:+0100
TZOFFSETTO:+0200
TZNAME:CEST
DTSTART:20270328T010000
END:DAYLIGHT
BEGIN:STANDARD
TZOFFSETFROM:+0200
TZOFFSETTO:+0100
TZNAME:CET
DTSTART:20271031T010000
END:STANDARD
END:VTIMEZONE
BEGIN:VEVENT
DTSTART;TZID=Europe/Amsterdam:20260511T110000
DTEND;TZID=Europe/Amsterdam:20260511T123000
DTSTAMP:20260424T232133
CREATED:20241106T201702Z
LAST-MODIFIED:20251201T085946Z
UID:53083-1778497200-1778502600@tilburgwijzer.nl
SUMMARY:Spreekuur ‘Hulp bij websites overheid’ - Wijkcentrum De Poorten  - 11 mei 2026
DESCRIPTION:Spreekuur ‘Hulp bij websites overheid’ – Wijkcentrum De Poorten\nDingen regelen met de overheid wordt steeds digitaler. Of het nu gaat om het aanvragen van zorgtoeslag\, inburgering\, het verlengen van een rijbewijs\, het aanvragen van studiefinanciering of het maken van een afspraak bij de gemeente – veel van deze zaken verlopen tegenwoordig via het internet. Voor wie daarbij wat hulp kan gebruiken\, is er het Informatiepunt Digitale Overheid in de bibliotheek om Tilburg. Lees verder om te ontdekken hoe dit spreekuur jou kan bijstaan. \nHulp nodig bij digitale overheidswebsites?\nHet Informatiepunt Digitale Overheid is de plek waar je terecht kunt als je vragen hebt over het navigeren op websites van de overheid. Of je nu zelf beter wilt leren omgaan met digitale diensten of iemand kent die wel wat hulp kan gebruiken\, loop eens binnen bij het spreekuur. De bibliotheek biedt wekelijkse vaste spreekuren aan\, maar je kunt ook buiten deze uren binnenlopen met je vragen. \nVeelgestelde vragen\nHeb je specifieke vragen over het aanvragen van zorgtoeslag\, inburgering\, het verlengen van een rijbewijs\, het aanvragen van studiefinanciering of het maken van een afspraak bij de gemeente? Bij het Informatiepunt staan speciaal opgeleide medewerkers voor je klaar om je te helpen de juiste informatie te vinden. Ze denken met je mee en verwijzen je door naar de juiste organisatie. Let op: hoewel er geen formulieren voor je worden ingevuld\, wijzen bibliotheekmedewerkers je wel duidelijk de weg in de digitale wereld. \nWanneer kun je terecht?\nDe meeste bibliotheken hebben vaste spreekuren\, maar ook buiten deze uren ben je welkom met je vragen over de (digitale) overheid. Loop binnen tijdens de service-uren\, wanneer er een medewerker aanwezig is in de bibliotheek. Ontdek de service-uren van jouw bibliotheek op onze website. \nGratis computercursussen\nEnthousiast geworden om zelf zaken te regelen via de computer? In sommige bibliotheken kun je gratis computercursussen volgen. Hier leer je vaardigheden die je in staat stellen zelfstandig met digitale overheidsdiensten om te gaan. Geen aanmelding vereist\, geen lidmaatschap nodig – de cursussen zijn gratis en toegankelijk voor iedereen. Grijp de kans om digitaal zelfredzaam te worden en ontdek de mogelijkheden die de Bibliotheek biedt! \nMeer informatie?\nBenieuwd naar het hele activiteiten aanbod dan kan je op de website van de Bibliotheek Midden-Brabant kijken.
URL:https://tilburgwijzer.nl/evenement/spreekuur-hulp-bij-websites-overheid-wijkcentrum-de-poorten-11-mei-2026/
CATEGORIES:Inlopen en informatiebijeenkomst,Spreekuur
ATTACH;FMTTYPE=image/jpeg:https://tilburgwijzer.nl/wp-content/uploads/2025/03/20250320_Web_Spreekuur-‘Hulp-bij-websites-overheid-Wijkcentrum-De-Poorten-_event_clean.jpg
END:VEVENT
END:VCALENDAR