BEGIN:VCALENDAR
VERSION:2.0
PRODID:-//TilburgWijzer - ECPv6.15.20//NONSGML v1.0//EN
CALSCALE:GREGORIAN
METHOD:PUBLISH
X-WR-CALNAME:TilburgWijzer
X-ORIGINAL-URL:https://tilburgwijzer.nl
X-WR-CALDESC:Evenementen voor TilburgWijzer
REFRESH-INTERVAL;VALUE=DURATION:PT1H
X-Robots-Tag:noindex
X-PUBLISHED-TTL:PT1H
BEGIN:VTIMEZONE
TZID:Europe/Amsterdam
BEGIN:DAYLIGHT
TZOFFSETFROM:+0100
TZOFFSETTO:+0200
TZNAME:CEST
DTSTART:20250330T010000
END:DAYLIGHT
BEGIN:STANDARD
TZOFFSETFROM:+0200
TZOFFSETTO:+0100
TZNAME:CET
DTSTART:20251026T010000
END:STANDARD
BEGIN:DAYLIGHT
TZOFFSETFROM:+0100
TZOFFSETTO:+0200
TZNAME:CEST
DTSTART:20260329T010000
END:DAYLIGHT
BEGIN:STANDARD
TZOFFSETFROM:+0200
TZOFFSETTO:+0100
TZNAME:CET
DTSTART:20261025T010000
END:STANDARD
BEGIN:DAYLIGHT
TZOFFSETFROM:+0100
TZOFFSETTO:+0200
TZNAME:CEST
DTSTART:20270328T010000
END:DAYLIGHT
BEGIN:STANDARD
TZOFFSETFROM:+0200
TZOFFSETTO:+0100
TZNAME:CET
DTSTART:20271031T010000
END:STANDARD
END:VTIMEZONE
BEGIN:VEVENT
DTSTART;TZID=Europe/Amsterdam:20260528T200000
DTEND;TZID=Europe/Amsterdam:20260528T235500
DTSTAMP:20260425T001931
CREATED:20260316T180754Z
LAST-MODIFIED:20260423T195028Z
UID:173230-1779998400-1780012500@tilburgwijzer.nl
SUMMARY:Surf Trash - Hall of Fame
DESCRIPTION:Dromige surfrock en energieke indie in Tilburg\nDe Australische band Surf Trash brengt een unieke mix van dromige surfrock en energieke indie naar De Hall of Fame in Tilburg. De vier vrienden maken al sinds hun tienerjaren samen muziek en hebben hun sound opgebouwd in kleine oefenruimtes tot een krachtige live-ervaring\, perfect voor zweterige zalen en collectief meeschreeuwen. \nMuzikale stijl en internationale impact\nSurf Trash combineert zonovergoten surfvibes met rauwe indie-invloeden en Australische energie. Hun debuutalbum The Only Place I Know (2024) kwam direct binnen op #1 in de Australische ARIA Album Chart en opende deuren naar optredens in de VS\, Canada en een uitgebreide Europese tour. Hun shows staan bekend om het creëren van een groepsgevoel: elk optreden voelt als een gedeelde ervaring vol bezwete energie en aanstekelijke hooks. \nNieuwe releases en toekomst\nDe band zet hun muzikale reis voort met de release van de single “Do It All Again”\, een voorbode van hun tweede album dat later dit jaar verschijnt. Fans kunnen een combinatie van vrolijke melodieën\, pakkende riffs en meeslepende live-optredens verwachten. Surf Trash weet met hun muziek zowel de sfeer van het strand als de intensiteit van een live show in de zaal te vangen\, waardoor elk optreden onvergetelijk wordt. \nBereid je voor op een avond vol dromerige\, opzwepende surfrock en energieke indie\, en laat je meevoeren door de zonovergoten geluiden van Surf Trash in Tilburg.
URL:https://tilburgwijzer.nl/evenement/surf-trash-hall-of-fame/
CATEGORIES:Muziek,Rock
ATTACH;FMTTYPE=image/jpeg:https://tilburgwijzer.nl/wp-content/uploads/2026/03/20260316_Web_Surf-Trash-Hall-of-Fame_event_clean.jpg
END:VEVENT
END:VCALENDAR