BEGIN:VCALENDAR
VERSION:2.0
PRODID:-//TilburgWijzer - ECPv6.15.20//NONSGML v1.0//EN
CALSCALE:GREGORIAN
METHOD:PUBLISH
X-WR-CALNAME:TilburgWijzer
X-ORIGINAL-URL:https://tilburgwijzer.nl
X-WR-CALDESC:Evenementen voor TilburgWijzer
REFRESH-INTERVAL;VALUE=DURATION:PT1H
X-Robots-Tag:noindex
X-PUBLISHED-TTL:PT1H
BEGIN:VTIMEZONE
TZID:Europe/Amsterdam
BEGIN:DAYLIGHT
TZOFFSETFROM:+0100
TZOFFSETTO:+0200
TZNAME:CEST
DTSTART:20250330T010000
END:DAYLIGHT
BEGIN:STANDARD
TZOFFSETFROM:+0200
TZOFFSETTO:+0100
TZNAME:CET
DTSTART:20251026T010000
END:STANDARD
BEGIN:DAYLIGHT
TZOFFSETFROM:+0100
TZOFFSETTO:+0200
TZNAME:CEST
DTSTART:20260329T010000
END:DAYLIGHT
BEGIN:STANDARD
TZOFFSETFROM:+0200
TZOFFSETTO:+0100
TZNAME:CET
DTSTART:20261025T010000
END:STANDARD
BEGIN:DAYLIGHT
TZOFFSETFROM:+0100
TZOFFSETTO:+0200
TZNAME:CEST
DTSTART:20270328T010000
END:DAYLIGHT
BEGIN:STANDARD
TZOFFSETFROM:+0200
TZOFFSETTO:+0100
TZNAME:CET
DTSTART:20271031T010000
END:STANDARD
END:VTIMEZONE
BEGIN:VEVENT
DTSTART;TZID=Europe/Amsterdam:20260527T193000
DTEND;TZID=Europe/Amsterdam:20260527T213000
DTSTAMP:20260425T032818
CREATED:20251029T133621Z
LAST-MODIFIED:20260311T122327Z
UID:136652-1779910200-1779917400@tilburgwijzer.nl
SUMMARY:The unlikely Pilgrimage of Harold Fry - Ons Koningsoord Cultureel
DESCRIPTION:SchalmFilm: The Unlikely Pilgrimage of Harold Fry bij Ons Koningsoord Cultureel\nBij Ons Koningsoord Cultureel in Berkel-Enschot kunt u genieten van de hartverwarmende film The Unlikely Pilgrimage of Harold Fry. \nEen bijzondere reis\nHarold Fry\, een zestiger die rustig samenleeft met zijn vrouw Maureen in een kuststadje\, besluit een brief te sturen naar zijn stervende vriendin Queenie. Bij de brievenbus verandert hij echter van gedachten en begint hij een lange wandeling naar het verpleeghuis honderden kilometers verderop\, vastbesloten om haar persoonlijk te bezoeken. \nHoop en vastberadenheid\nDeze onverwachte pelgrimstocht wordt een reis vol hoop\, reflectie en menselijke verbinding. Terwijl Harold de kilometers aflegt\, ontdekt hij zichzelf en leert hij wat het betekent om echt aanwezig te zijn voor de mensen van wie hij houdt. \nBeleef deze ontroerende film bij Ons Koningsoord Cultureel en laat u meenemen op Harold’s bijzondere tocht.
URL:https://tilburgwijzer.nl/evenement/the-unlikely-pilgrimage-of-harold-fry-sociaal-cultureel-centrum-de-schalm/
CATEGORIES:Film,Kunst & Cultuur,Speelfilms
ATTACH;FMTTYPE=image/jpeg:https://tilburgwijzer.nl/wp-content/uploads/2025/10/20251029_Web_The-unlikely-Pilgrimage-of-Harold-Fry-Ons-Koningsoord-Cultureel_event_clean.jpg
END:VEVENT
END:VCALENDAR