BEGIN:VCALENDAR
VERSION:2.0
PRODID:-//TilburgWijzer - ECPv6.15.20//NONSGML v1.0//EN
CALSCALE:GREGORIAN
METHOD:PUBLISH
X-WR-CALNAME:TilburgWijzer
X-ORIGINAL-URL:https://tilburgwijzer.nl
X-WR-CALDESC:Evenementen voor TilburgWijzer
REFRESH-INTERVAL;VALUE=DURATION:PT1H
X-Robots-Tag:noindex
X-PUBLISHED-TTL:PT1H
BEGIN:VTIMEZONE
TZID:Europe/Amsterdam
BEGIN:DAYLIGHT
TZOFFSETFROM:+0100
TZOFFSETTO:+0200
TZNAME:CEST
DTSTART:20250330T010000
END:DAYLIGHT
BEGIN:STANDARD
TZOFFSETFROM:+0200
TZOFFSETTO:+0100
TZNAME:CET
DTSTART:20251026T010000
END:STANDARD
BEGIN:DAYLIGHT
TZOFFSETFROM:+0100
TZOFFSETTO:+0200
TZNAME:CEST
DTSTART:20260329T010000
END:DAYLIGHT
BEGIN:STANDARD
TZOFFSETFROM:+0200
TZOFFSETTO:+0100
TZNAME:CET
DTSTART:20261025T010000
END:STANDARD
BEGIN:DAYLIGHT
TZOFFSETFROM:+0100
TZOFFSETTO:+0200
TZNAME:CEST
DTSTART:20270328T010000
END:DAYLIGHT
BEGIN:STANDARD
TZOFFSETFROM:+0200
TZOFFSETTO:+0100
TZNAME:CET
DTSTART:20271031T010000
END:STANDARD
END:VTIMEZONE
BEGIN:VEVENT
DTSTART;TZID=Europe/Amsterdam:20260527T203000
DTEND;TZID=Europe/Amsterdam:20260527T225500
DTSTAMP:20260425T145332
CREATED:20250911T143811Z
LAST-MODIFIED:20260413T165239Z
UID:113669-1779913800-1779922500@tilburgwijzer.nl
SUMMARY:Three Times Left is Right - Theater de Nieuwe Vorst - 27 mei 2026
DESCRIPTION:Three Times Left is Right in Theater de Nieuwe Vorst\nIn Theater de Nieuwe Vorst in het centrum van Tilburg presenteert Studio Julian Hetzel de indringende voorstelling Three Times Left is Right. Deze performance onderzoekt de grensgebieden van polarisatie en laat zien hoe ideologische tegenstellingen ons samenleven onder druk zetten. \nEen stel als spiegel van de samenleving\nCentraal staat een koppel dat elkaars uiterste tegenpolen belichaamt: de één extreemrechts\, de ander extreemlinks. Hun relatie wordt een vergrootglas voor de verscheurde maatschappij waarin we ons bevinden. Hoe leef je samen met iemand die fundamenteel anders denkt? En wat als je eigen morele kompas begint te verschuiven? \nEen politieke Möbiusstrip\nMet scherpe vragen en confronterende scènes neemt Studio Julian Hetzel je mee langs een politieke Möbiusstrip. Wat gebeurt er als de polarisatie zo ver wordt doorgevoerd dat de uitersten in elkaar over lijken te lopen? Als links denken leidt tot rechts handelen\, of andersom? Het resultaat is een verontrustend maar intrigerend toekomstscenario waarin geweld en ideologische conflicten genormaliseerd raken. \nThree Times Left is Right tovert het theater om tot speculatieruimte en schetst een familieportret dat de breuken in onze samenleving uitvergroot. Een voorstelling die je uitdaagt om anders te kijken naar hoe we omgaan met onverenigbare overtuigingen.
URL:https://tilburgwijzer.nl/evenement/three-times-left-is-right-theater-de-nieuwe-vorst/
CATEGORIES:Next Gen,Performance,Theater
ATTACH;FMTTYPE=image/jpeg:https://tilburgwijzer.nl/wp-content/uploads/2025/09/20250911_Web_Three-Times-Left-is-Right-Theater-de-Nieuwe-Vorst_event_clean.jpg
END:VEVENT
END:VCALENDAR