BEGIN:VCALENDAR
VERSION:2.0
PRODID:-//TilburgWijzer - ECPv6.15.20//NONSGML v1.0//EN
CALSCALE:GREGORIAN
METHOD:PUBLISH
X-WR-CALNAME:TilburgWijzer
X-ORIGINAL-URL:https://tilburgwijzer.nl
X-WR-CALDESC:Evenementen voor TilburgWijzer
REFRESH-INTERVAL;VALUE=DURATION:PT1H
X-Robots-Tag:noindex
X-PUBLISHED-TTL:PT1H
BEGIN:VTIMEZONE
TZID:Europe/Amsterdam
BEGIN:DAYLIGHT
TZOFFSETFROM:+0100
TZOFFSETTO:+0200
TZNAME:CEST
DTSTART:20250330T010000
END:DAYLIGHT
BEGIN:STANDARD
TZOFFSETFROM:+0200
TZOFFSETTO:+0100
TZNAME:CET
DTSTART:20251026T010000
END:STANDARD
BEGIN:DAYLIGHT
TZOFFSETFROM:+0100
TZOFFSETTO:+0200
TZNAME:CEST
DTSTART:20260329T010000
END:DAYLIGHT
BEGIN:STANDARD
TZOFFSETFROM:+0200
TZOFFSETTO:+0100
TZNAME:CET
DTSTART:20261025T010000
END:STANDARD
BEGIN:DAYLIGHT
TZOFFSETFROM:+0100
TZOFFSETTO:+0200
TZNAME:CEST
DTSTART:20270328T010000
END:DAYLIGHT
BEGIN:STANDARD
TZOFFSETFROM:+0200
TZOFFSETTO:+0100
TZNAME:CET
DTSTART:20271031T010000
END:STANDARD
END:VTIMEZONE
BEGIN:VEVENT
DTSTART;TZID=Europe/Amsterdam:20261004T190000
DTEND;TZID=Europe/Amsterdam:20261004T230000
DTSTAMP:20260425T043055
CREATED:20260310T132622Z
LAST-MODIFIED:20260423T194954Z
UID:173116-1791140400-1791154800@tilburgwijzer.nl
SUMMARY:Unprocessed – 013 Poppodium – 4 oktober 2026
DESCRIPTION:Unprocessed: progmetal op scherp\nUnprocessed denkt in contrasten en speelt ze tot het uiterste uit. De Duitse band bouwde naam op met chirurgische precisie en een open blik op wat metal kan zijn. Hun nieuwe album Angel (2025) zet die lijn door\, met zwaardere texturen\, directere teksten en een persoonlijkere inzet. De techniek blijft indrukwekkend\, maar de emoties staan centraal. \nSamenwerkingen en thema’s\nOp Angel leveren Zelli (Paleface Swiss) en Jason Aalon Butler (Letlive\, Fever 333) bijdragen die het album extra frictie geven. Hun input past perfect bij de thema’s innerlijke tweestrijd\, conflict en transformatie. Unprocessed zoekt niet naar een compromis\, maar maakt de uitersten van emoties en sound hoorbaar\, wat resulteert in songs die zowel strak gecomponeerd als intens geladen zijn. \nLive-ervaring\nLive vertaalt dit zich in een set waarin strakke uitvoering en onverwachte wendingen hand in hand gaan. In 013 Poppodium in het centrum van Tilburg laat Unprocessed horen waar moderne gitaarmuziek heen kan bewegen. Fans van progressieve metal en experimentele soundscapes krijgen een meeslepende en technisch indrukwekkende show te zien. \nVoor liefhebbers van prog en metal\nWie nieuwsgierig is naar de volgende stap binnen prog en metal\, mag het optreden van Unprocessed zeker niet missen. Het is een avond vol krachtige riffs\, complexe ritmes en een intens podiumgevoel dat de band tot een van de spannendste acts in het genre maakt.
URL:https://tilburgwijzer.nl/evenement/unprocessed-013-poppodium/
CATEGORIES:Metal,Muziek,Progressieve metal
ATTACH;FMTTYPE=image/jpeg:https://tilburgwijzer.nl/wp-content/uploads/2026/03/20260310_Web_Unprocessed-013-Poppodium_event_clean.jpg
END:VEVENT
END:VCALENDAR