BEGIN:VCALENDAR
VERSION:2.0
PRODID:-//TilburgWijzer - ECPv6.15.20//NONSGML v1.0//EN
CALSCALE:GREGORIAN
METHOD:PUBLISH
X-WR-CALNAME:TilburgWijzer
X-ORIGINAL-URL:https://tilburgwijzer.nl
X-WR-CALDESC:Evenementen voor TilburgWijzer
REFRESH-INTERVAL;VALUE=DURATION:PT1H
X-Robots-Tag:noindex
X-PUBLISHED-TTL:PT1H
BEGIN:VTIMEZONE
TZID:Europe/Amsterdam
BEGIN:DAYLIGHT
TZOFFSETFROM:+0100
TZOFFSETTO:+0200
TZNAME:CEST
DTSTART:20250330T010000
END:DAYLIGHT
BEGIN:STANDARD
TZOFFSETFROM:+0200
TZOFFSETTO:+0100
TZNAME:CET
DTSTART:20251026T010000
END:STANDARD
BEGIN:DAYLIGHT
TZOFFSETFROM:+0100
TZOFFSETTO:+0200
TZNAME:CEST
DTSTART:20260329T010000
END:DAYLIGHT
BEGIN:STANDARD
TZOFFSETFROM:+0200
TZOFFSETTO:+0100
TZNAME:CET
DTSTART:20261025T010000
END:STANDARD
BEGIN:DAYLIGHT
TZOFFSETFROM:+0100
TZOFFSETTO:+0200
TZNAME:CEST
DTSTART:20270328T010000
END:DAYLIGHT
BEGIN:STANDARD
TZOFFSETFROM:+0200
TZOFFSETTO:+0100
TZNAME:CET
DTSTART:20271031T010000
END:STANDARD
END:VTIMEZONE
BEGIN:VEVENT
DTSTART;TZID=Europe/Amsterdam:20260717T190000
DTEND;TZID=Europe/Amsterdam:20260726T235900
DTSTAMP:20260425T050557
CREATED:20240607T145804Z
LAST-MODIFIED:20260323T104416Z
UID:11294-1784314800-1785110340@tilburgwijzer.nl
SUMMARY:Villa Ananas - Tilburg Piusplein 2026
DESCRIPTION:Welkom bij Villa Ananas: 10 dagen lang non-stop feest op het bruisende Piusplein\, midden in het hart van Tilburg tijdens de beroemde Tilburgse Kermis! We brengen je het meest stralende feest van het jaar\, boordevol onvergetelijke momenten\, onweerstaanbare acties en de meest geweldige DJ’s die je ooit hebt gehoord. \nGratis toegang!\nEn het beste nieuws? Je hoeft geen kaartje te kopen om deel uit te maken van deze geweldige festiviteiten! Villa Ananas is 10 dagen lang gratis toegankelijk voor iedereen die zin heeft in een geweldig feest. Dus nodig je vrienden uit\, trek je dansschoenen aan en kom genieten van de ongeëvenaarde sfeer die alleen Villa Ananas tijdens de Tilburgse Kermis kan bieden. \nLine-up voor 2026\nDe line-up van 2026 vindt je hieronder per dag \nBij Villa Ananas draait alles om plezier\, vreugde en onvergetelijke herinneringen. Sluit je aan bij ons voor 10 dagen vol feestvreugde en laat de goede tijden maar komen. We kunnen niet wachten om je te verwelkomen op de Tilburgse Kermis 2026! \nMeer informatie?\nWil je meer informatie over het Piusplein? Dan check je hier de website van het Piusplein. Het Piusplein volg je ook via Facebook en Instagram.
URL:https://tilburgwijzer.nl/evenement/villa-ananas-tilburg-piusplein/
CATEGORIES:Classic Pop,House,Kermis,Muziek,Popmuziek
ATTACH;FMTTYPE=image/jpeg:https://tilburgwijzer.nl/wp-content/uploads/2024/05/20230724_Web_Vila-Ananas-Tilburg_clean.jpg
END:VEVENT
END:VCALENDAR